BEGIN:VCALENDAR
VERSION:2.0
PRODID:-//AFK Games - ECPv6.15.20//NONSGML v1.0//EN
CALSCALE:GREGORIAN
METHOD:PUBLISH
X-ORIGINAL-URL:https://afk.games
X-WR-CALDESC:Events for AFK Games
REFRESH-INTERVAL;VALUE=DURATION:PT1H
X-Robots-Tag:noindex
X-PUBLISHED-TTL:PT1H
BEGIN:VTIMEZONE
TZID:America/Detroit
BEGIN:DAYLIGHT
TZOFFSETFROM:-0500
TZOFFSETTO:-0400
TZNAME:EDT
DTSTART:20240310T070000
END:DAYLIGHT
BEGIN:STANDARD
TZOFFSETFROM:-0400
TZOFFSETTO:-0500
TZNAME:EST
DTSTART:20241103T060000
END:STANDARD
BEGIN:DAYLIGHT
TZOFFSETFROM:-0500
TZOFFSETTO:-0400
TZNAME:EDT
DTSTART:20250309T070000
END:DAYLIGHT
BEGIN:STANDARD
TZOFFSETFROM:-0400
TZOFFSETTO:-0500
TZNAME:EST
DTSTART:20251102T060000
END:STANDARD
BEGIN:DAYLIGHT
TZOFFSETFROM:-0500
TZOFFSETTO:-0400
TZNAME:EDT
DTSTART:20260308T070000
END:DAYLIGHT
BEGIN:STANDARD
TZOFFSETFROM:-0400
TZOFFSETTO:-0500
TZNAME:EST
DTSTART:20261101T060000
END:STANDARD
END:VTIMEZONE
BEGIN:VEVENT
DTSTART;TZID=America/Detroit:20250608T123000
DTEND;TZID=America/Detroit:20250608T173000
DTSTAMP:20260424T175208
CREATED:20250501T215811Z
LAST-MODIFIED:20250501T215811Z
UID:10003995-1749385800-1749403800@afk.games
SUMMARY:Magic: The Gathering®—FINAL FANTASY 2HG Prerelease
DESCRIPTION:What’s in a Prerelease Kit? \nEach prerelease kit includes: \n\n6 Magic: The Gathering—FINAL FANTASY Play Boosters\n1 foil\, year-stamped Rare or Mythic Rare\n1 deck box\n1 Spindown die\nEach Play Booster contains:\n\n14 Magic: The Gathering cards\n1-4 cards of rarity Rare of higher\n3-6 Uncommon cards\n6-9 Common cards\n1 Land card (Traditional Foil Land replaces a Land in 20% of boosters)\n1 card of any rarity is Traditional Foil; Foil Borderless Mythic Rare in 1% of boosters\n\n\n\nYou can prepay for events and products in store starting 5/1/2025! \n \n  \nEach Play Booster may contain these cards:  \n14 Magic: The Gathering cards \n\n1-4 cards of rarity Rare of higher\n3-6 Uncommon cards\n6-9 Common cards\n1 Land card (Traditional Foil Land replaces a Land in 20% of boosters)\n1 card of any rarity is Traditional Foil; Foil Borderless Mythic Rare in 1% of boosters\n\n  \nEvent Schedule \nFriday\, June 6th\, 6:45 PM (Hard capped at 58 players)\nSaturday\, June 7th\, 1:00 PM (Two-Headed Giant) (Hard capped at 16 players (8 Teams))\nSaturday\, June 7th\, 6:00 PM (Hard capped at 30 players)\nSunday\, June 8th\, 12:30 PM (Two-Headed Giant) (Hard capped at 16 players (8 Teams)) \n  \nFormat – Sealed \nWith your prerelease kit\, build a minimum 40-card deck and compete in a Swiss tournament. \nPrizes\n– 0–1 wins: 1 Booster Pack of FINAL FANTASY\n– 2 wins: 2 Booster Packs of FINAL FANTASY\n– 3 wins: 3 Booster Packs of FINAL FANTASY \n  \nDiscover FINAL FANTASY Universes Beyond! \nThe entire FINAL FANTASY saga is here! Your players will step into the worlds of the beloved FINAL FANTASY RPG series’ sixteen mainline games. They’ll cast powerful spells\, call upon classic summons\, and even visit their favorite locations on the back of a Chocobo. Countless elements from the games are here for players to weave together their own stories. \nSince the release of its first title in 1987\, the FINAL FANTASY series has become a global phenomenon due to its cutting edge graphics technology\, unique and distinctive world settings\, and rich storylines. It has since sold over 195\,000\,000 copies (package/downloads). \n 
URL:https://afk.games/event/magic-the-gathering-final-fantasy-2hg-prerelease-sun/
LOCATION:AFK Games\, 2495 Cedar Street STE 14-B\, Holt\, MI\, 48842\, United States
CATEGORIES:Magic: The Gathering,Prerelease
ORGANIZER;CN="AFK Games":MAILTO:support@afk-games.com
END:VEVENT
BEGIN:VEVENT
DTSTART;TZID=America/Detroit:20250608T130000
DTEND;TZID=America/Detroit:20250608T170000
DTSTAMP:20260424T175208
CREATED:20230906T214824Z
LAST-MODIFIED:20241212T203942Z
UID:10003106-1749387600-1749402000@afk.games
SUMMARY:Lorcana League
DESCRIPTION:Join us for our Lorcana League every Sunday at 1:00 pm!
URL:https://afk.games/event/lorcana-open-play/2025-06-08/
LOCATION:AFK Games\, 2495 Cedar Street STE 14-B\, Holt\, MI\, 48842\, United States
CATEGORIES:Events,Lorcana,Ravensburger
ORGANIZER;CN="AFK Games":MAILTO:support@afk-games.com
END:VEVENT
BEGIN:VEVENT
DTSTART;TZID=America/Detroit:20250608T130000
DTEND;TZID=America/Detroit:20250608T170000
DTSTAMP:20260424T175208
CREATED:20260101T205413Z
LAST-MODIFIED:20260101T205413Z
UID:10005436-1749387600-1749402000@afk.games
SUMMARY:Lorcana League
DESCRIPTION:Join us for our Lorcana League every Sunday at 1:00 pm!
URL:https://afk.games/event/lorcana-league/2025-06-08/
LOCATION:AFK Games\, 2495 Cedar Street STE 14-B\, Holt\, MI\, 48842\, United States
CATEGORIES:Events,Lorcana,Ravensburger
ORGANIZER;CN="AFK Games":MAILTO:support@afk-games.com
END:VEVENT
BEGIN:VEVENT
DTSTART;TZID=America/Detroit:20250614T123000
DTEND;TZID=America/Detroit:20250614T170000
DTSTAMP:20260424T175208
CREATED:20250517T204217Z
LAST-MODIFIED:20250517T204232Z
UID:10004005-1749904200-1749920400@afk.games
SUMMARY:Swap Meet
DESCRIPTION:AFK Games will be hosting another gamer swap meet on June 14th!  \nWe will have all of our tables for individuals to reserve to bring their unwanted miniature game armies\, board games\, RPG books\, etc… You might even find that one item you have been looking to get! \nDoors: 11:00 AM\nStart: 12:30 PM\nEnd: 5:00 PM \n  \nWe will use our Wargaming and hobby tables for those who have just a few items to bring in! \nTables will be free for those who would like to reserve a full table. \nParticipants can reserve a table with a free ticket on our website located here.  \nhttps://forms.gle/Jsa5pEb9qetNVkN38 \nThis is for a single card table reservation if you need an additional table\, please contact Dan either in-store or on discord (Angate). \nThose who want to participate but don’t have enough stuff to fill an entire table can use the mixed tables. We will have little standees and markers to write your name to mark your property. \nTrading is allowed and encouraged where possible.  \nAny purchases must go through AFK Games using our store credit system. Individuals who break this rule will be asked to leave and not allowed to participate in future swap meets.  \nAFK will provide slips for you to write your name\, the item\, store credit amount\, and a space for a staff member to verify the transaction has been completed.
URL:https://afk.games/event/swap-meet-q2-2025/
LOCATION:AFK Games\, 2495 Cedar Street STE 14-B\, Holt\, MI\, 48842\, United States
CATEGORIES:Events
ORGANIZER;CN="AFK Games":MAILTO:support@afk-games.com
END:VEVENT
END:VCALENDAR