BEGIN:VCALENDAR
VERSION:2.0
PRODID:-//AFK Games - ECPv6.15.20//NONSGML v1.0//EN
CALSCALE:GREGORIAN
METHOD:PUBLISH
X-ORIGINAL-URL:https://afk.games
X-WR-CALDESC:Events for AFK Games
REFRESH-INTERVAL;VALUE=DURATION:PT1H
X-Robots-Tag:noindex
X-PUBLISHED-TTL:PT1H
BEGIN:VTIMEZONE
TZID:America/Detroit
BEGIN:DAYLIGHT
TZOFFSETFROM:-0500
TZOFFSETTO:-0400
TZNAME:EDT
DTSTART:20240310T070000
END:DAYLIGHT
BEGIN:STANDARD
TZOFFSETFROM:-0400
TZOFFSETTO:-0500
TZNAME:EST
DTSTART:20241103T060000
END:STANDARD
BEGIN:DAYLIGHT
TZOFFSETFROM:-0500
TZOFFSETTO:-0400
TZNAME:EDT
DTSTART:20250309T070000
END:DAYLIGHT
BEGIN:STANDARD
TZOFFSETFROM:-0400
TZOFFSETTO:-0500
TZNAME:EST
DTSTART:20251102T060000
END:STANDARD
BEGIN:DAYLIGHT
TZOFFSETFROM:-0500
TZOFFSETTO:-0400
TZNAME:EDT
DTSTART:20260308T070000
END:DAYLIGHT
BEGIN:STANDARD
TZOFFSETFROM:-0400
TZOFFSETTO:-0500
TZNAME:EST
DTSTART:20261101T060000
END:STANDARD
END:VTIMEZONE
BEGIN:VEVENT
DTSTART;TZID=America/Detroit:20251102T120000
DTEND;TZID=America/Detroit:20251102T190000
DTSTAMP:20260420T184503
CREATED:20251023T201059Z
LAST-MODIFIED:20251023T201059Z
UID:10004194-1762084800-1762110000@afk.games
SUMMARY:MTG: Presents a Villainous Halloween
DESCRIPTION:Magic Presents: A Villainous Halloween is a special Commander event scheduled between October 31 to November 2\, offering a unique twist on the popular Magic format. Players bring their own Commander decks and\, at the start of the game\, secretly choose a villain card\, each representing a classic villain from Magic’s history with its own alternate win condition. \nAs the game unfolds\, players can work toward their secret objective. Once a player meets the condition on their chosen villain card\, they reveal it—and from that point on\, each opponent loses the game at the end of their own turn\, unless they can stop the villain in time. \nAs a reward for participating\, players can take home a pack of event materials (while supplies last)\, making it a memorable and replayable experience beyond the event. Each pack supports four players\, but the expectation is that each participant will receive their own pack to bring the fun home.
URL:https://afk.games/event/mtg-presents-a-villainous-halloween/
LOCATION:AFK Games\, 2495 Cedar Street STE 14-B\, Holt\, MI\, 48842\, United States
CATEGORIES:Commander,Events,Magic: The Gathering
ORGANIZER;CN="AFK Games":MAILTO:support@afk-games.com
END:VEVENT
END:VCALENDAR