BEGIN:VCALENDAR
VERSION:2.0
PRODID:-//AFK Games - ECPv6.15.20//NONSGML v1.0//EN
CALSCALE:GREGORIAN
METHOD:PUBLISH
X-WR-CALNAME:AFK Games
X-ORIGINAL-URL:https://afk.games
X-WR-CALDESC:Events for AFK Games
REFRESH-INTERVAL;VALUE=DURATION:PT1H
X-Robots-Tag:noindex
X-PUBLISHED-TTL:PT1H
BEGIN:VTIMEZONE
TZID:America/Detroit
BEGIN:DAYLIGHT
TZOFFSETFROM:-0500
TZOFFSETTO:-0400
TZNAME:EDT
DTSTART:20220313T070000
END:DAYLIGHT
BEGIN:STANDARD
TZOFFSETFROM:-0400
TZOFFSETTO:-0500
TZNAME:EST
DTSTART:20221106T060000
END:STANDARD
BEGIN:DAYLIGHT
TZOFFSETFROM:-0500
TZOFFSETTO:-0400
TZNAME:EDT
DTSTART:20230312T070000
END:DAYLIGHT
BEGIN:STANDARD
TZOFFSETFROM:-0400
TZOFFSETTO:-0500
TZNAME:EST
DTSTART:20231105T060000
END:STANDARD
BEGIN:DAYLIGHT
TZOFFSETFROM:-0500
TZOFFSETTO:-0400
TZNAME:EDT
DTSTART:20240310T070000
END:DAYLIGHT
BEGIN:STANDARD
TZOFFSETFROM:-0400
TZOFFSETTO:-0500
TZNAME:EST
DTSTART:20241103T060000
END:STANDARD
END:VTIMEZONE
BEGIN:VEVENT
DTSTART;TZID=America/Detroit:20230914T173000
DTEND;TZID=America/Detroit:20230914T210000
DTSTAMP:20260423T195700
CREATED:20220728T221726Z
LAST-MODIFIED:20221119T010840Z
UID:10000930-1694712600-1694725200@afk.games
SUMMARY:Board Game Night
DESCRIPTION:Join us every Thursday starting at 5:30 pm for Board Game Night!\nCome try out some new games\, or even bring your own favorites!
URL:https://afk.games/event/board-game-night-10/2023-09-14/
LOCATION:AFK Games\, 2495 Cedar Street STE 14-B\, Holt\, MI\, 48842\, United States
CATEGORIES:Events
ORGANIZER;CN="AFK Games":MAILTO:support@afk-games.com
END:VEVENT
BEGIN:VEVENT
DTSTART;TZID=America/Detroit:20230914T180000
DTEND;TZID=America/Detroit:20230914T210000
DTSTAMP:20260423T195700
CREATED:20220728T224945Z
LAST-MODIFIED:20221119T010839Z
UID:10000878-1694714400-1694725200@afk.games
SUMMARY:Lansing Chess Club meeting
DESCRIPTION:Every Thursday the Lansing Chess club meets at 6:00 pm
URL:https://afk.games/event/lansing-chess-club-meeting-10/2023-09-14/
LOCATION:AFK Games\, 2495 Cedar Street STE 14-B\, Holt\, MI\, 48842\, United States
CATEGORIES:Events
ORGANIZER;CN="AFK Games":MAILTO:support@afk-games.com
END:VEVENT
BEGIN:VEVENT
DTSTART;TZID=America/Detroit:20230914T180000
DTEND;TZID=America/Detroit:20230914T210000
DTSTAMP:20260423T195700
CREATED:20240530T182508Z
LAST-MODIFIED:20241219T201920Z
UID:10002861-1694714400-1694725200@afk.games
SUMMARY:Lansing Chess Club meeting
DESCRIPTION:Join us for the Lansing Chess Club’s weekly gathering every Thursday at 6:00 pm at AFK Games in Holt\, MI. Whether you’re a seasoned player or new to the game\, this is the perfect opportunity to challenge yourself\, meet fellow chess enthusiasts\, and improve your skills in a friendly and welcoming environment. All ages and skill levels are welcome!
URL:https://afk.games/event/lansing-chess-club-meeting-11/2023-09-14/
LOCATION:AFK Games\, 2495 Cedar Street STE 14-B\, Holt\, MI\, 48842\, United States
CATEGORIES:Events
ORGANIZER;CN="AFK Games":MAILTO:support@afk-games.com
END:VEVENT
BEGIN:VEVENT
DTSTART;TZID=America/Detroit:20230916T130000
DTEND;TZID=America/Detroit:20230916T170000
DTSTAMP:20260423T195700
CREATED:20230730T003515Z
LAST-MODIFIED:20230730T003515Z
UID:10001369-1694869200-1694883600@afk.games
SUMMARY:Gamer Swap Meet
DESCRIPTION:We will have all of our tables for individuals to reserve to bring their unwanted miniature game armies\, board games\, RPG books\, etc… You might even find that one item you have been looking to get! \nTable reservations begin on August 7th! A reservation is for a single table\, if you require an additional table please contact Dan either in store or on Discord. \nThere will be a discord channel called “Sept-Swap-Meet” for you to post pictures of items you are bringing\, or items you may be looking for! \nTrading is allowed and encouraged where possible. \nAny purchases must go through AFK Games using our store credit system. Individuals who break this rule will be asked to leave and not allowed to participate in future swap meets. \nAFK will provide slips for you to write your name\, the item\, store credit amount\, and a space for a staff member to verify the transaction has been completed.
URL:https://afk.games/event/gamer-swap-meet-3/
LOCATION:AFK Games\, 2495 Cedar Street STE 14-B\, Holt\, MI\, 48842\, United States
CATEGORIES:Events
ORGANIZER;CN="AFK Games":MAILTO:support@afk-games.com
END:VEVENT
END:VCALENDAR