BEGIN:VCALENDAR
VERSION:2.0
PRODID:-//AFK Games - ECPv6.15.20//NONSGML v1.0//EN
CALSCALE:GREGORIAN
METHOD:PUBLISH
X-WR-CALNAME:AFK Games
X-ORIGINAL-URL:https://afk.games
X-WR-CALDESC:Events for AFK Games
REFRESH-INTERVAL;VALUE=DURATION:PT1H
X-Robots-Tag:noindex
X-PUBLISHED-TTL:PT1H
BEGIN:VTIMEZONE
TZID:America/Detroit
BEGIN:DAYLIGHT
TZOFFSETFROM:-0500
TZOFFSETTO:-0400
TZNAME:EDT
DTSTART:20220313T070000
END:DAYLIGHT
BEGIN:STANDARD
TZOFFSETFROM:-0400
TZOFFSETTO:-0500
TZNAME:EST
DTSTART:20221106T060000
END:STANDARD
BEGIN:DAYLIGHT
TZOFFSETFROM:-0500
TZOFFSETTO:-0400
TZNAME:EDT
DTSTART:20230312T070000
END:DAYLIGHT
BEGIN:STANDARD
TZOFFSETFROM:-0400
TZOFFSETTO:-0500
TZNAME:EST
DTSTART:20231105T060000
END:STANDARD
BEGIN:DAYLIGHT
TZOFFSETFROM:-0500
TZOFFSETTO:-0400
TZNAME:EDT
DTSTART:20240310T070000
END:DAYLIGHT
BEGIN:STANDARD
TZOFFSETFROM:-0400
TZOFFSETTO:-0500
TZNAME:EST
DTSTART:20241103T060000
END:STANDARD
END:VTIMEZONE
BEGIN:VEVENT
DTSTART;TZID=America/Detroit:20230406T173000
DTEND;TZID=America/Detroit:20230406T210000
DTSTAMP:20260424T143338
CREATED:20220728T221726Z
LAST-MODIFIED:20221119T010840Z
UID:10000907-1680802200-1680814800@afk.games
SUMMARY:Board Game Night
DESCRIPTION:Join us every Thursday starting at 5:30 pm for Board Game Night!\nCome try out some new games\, or even bring your own favorites!
URL:https://afk.games/event/board-game-night-10/2023-04-06/
LOCATION:AFK Games\, 2495 Cedar Street STE 14-B\, Holt\, MI\, 48842\, United States
CATEGORIES:Events
ORGANIZER;CN="AFK Games":MAILTO:support@afk-games.com
END:VEVENT
BEGIN:VEVENT
DTSTART;TZID=America/Detroit:20230406T180000
DTEND;TZID=America/Detroit:20230406T210000
DTSTAMP:20260424T143338
CREATED:20220728T224945Z
LAST-MODIFIED:20221119T010839Z
UID:10000855-1680804000-1680814800@afk.games
SUMMARY:Lansing Chess Club meeting
DESCRIPTION:Every Thursday the Lansing Chess club meets at 6:00 pm
URL:https://afk.games/event/lansing-chess-club-meeting-10/2023-04-06/
LOCATION:AFK Games\, 2495 Cedar Street STE 14-B\, Holt\, MI\, 48842\, United States
CATEGORIES:Events
ORGANIZER;CN="AFK Games":MAILTO:support@afk-games.com
END:VEVENT
BEGIN:VEVENT
DTSTART;TZID=America/Detroit:20230406T180000
DTEND;TZID=America/Detroit:20230406T210000
DTSTAMP:20260424T143338
CREATED:20240530T182508Z
LAST-MODIFIED:20241219T201920Z
UID:10002838-1680804000-1680814800@afk.games
SUMMARY:Lansing Chess Club meeting
DESCRIPTION:Join us for the Lansing Chess Club’s weekly gathering every Thursday at 6:00 pm at AFK Games in Holt\, MI. Whether you’re a seasoned player or new to the game\, this is the perfect opportunity to challenge yourself\, meet fellow chess enthusiasts\, and improve your skills in a friendly and welcoming environment. All ages and skill levels are welcome!
URL:https://afk.games/event/lansing-chess-club-meeting-11/2023-04-06/
LOCATION:AFK Games\, 2495 Cedar Street STE 14-B\, Holt\, MI\, 48842\, United States
CATEGORIES:Events
ORGANIZER;CN="AFK Games":MAILTO:support@afk-games.com
END:VEVENT
BEGIN:VEVENT
DTSTART;TZID=America/Detroit:20230413T173000
DTEND;TZID=America/Detroit:20230413T210000
DTSTAMP:20260424T143338
CREATED:20220728T221726Z
LAST-MODIFIED:20221119T010840Z
UID:10000908-1681407000-1681419600@afk.games
SUMMARY:Board Game Night
DESCRIPTION:Join us every Thursday starting at 5:30 pm for Board Game Night!\nCome try out some new games\, or even bring your own favorites!
URL:https://afk.games/event/board-game-night-10/2023-04-13/
LOCATION:AFK Games\, 2495 Cedar Street STE 14-B\, Holt\, MI\, 48842\, United States
CATEGORIES:Events
ORGANIZER;CN="AFK Games":MAILTO:support@afk-games.com
END:VEVENT
BEGIN:VEVENT
DTSTART;TZID=America/Detroit:20230413T180000
DTEND;TZID=America/Detroit:20230413T210000
DTSTAMP:20260424T143338
CREATED:20220728T224945Z
LAST-MODIFIED:20221119T010839Z
UID:10000856-1681408800-1681419600@afk.games
SUMMARY:Lansing Chess Club meeting
DESCRIPTION:Every Thursday the Lansing Chess club meets at 6:00 pm
URL:https://afk.games/event/lansing-chess-club-meeting-10/2023-04-13/
LOCATION:AFK Games\, 2495 Cedar Street STE 14-B\, Holt\, MI\, 48842\, United States
CATEGORIES:Events
ORGANIZER;CN="AFK Games":MAILTO:support@afk-games.com
END:VEVENT
BEGIN:VEVENT
DTSTART;TZID=America/Detroit:20230413T180000
DTEND;TZID=America/Detroit:20230413T210000
DTSTAMP:20260424T143338
CREATED:20240530T182508Z
LAST-MODIFIED:20241219T201920Z
UID:10002839-1681408800-1681419600@afk.games
SUMMARY:Lansing Chess Club meeting
DESCRIPTION:Join us for the Lansing Chess Club’s weekly gathering every Thursday at 6:00 pm at AFK Games in Holt\, MI. Whether you’re a seasoned player or new to the game\, this is the perfect opportunity to challenge yourself\, meet fellow chess enthusiasts\, and improve your skills in a friendly and welcoming environment. All ages and skill levels are welcome!
URL:https://afk.games/event/lansing-chess-club-meeting-11/2023-04-13/
LOCATION:AFK Games\, 2495 Cedar Street STE 14-B\, Holt\, MI\, 48842\, United States
CATEGORIES:Events
ORGANIZER;CN="AFK Games":MAILTO:support@afk-games.com
END:VEVENT
BEGIN:VEVENT
DTSTART;TZID=America/Detroit:20230420T173000
DTEND;TZID=America/Detroit:20230420T210000
DTSTAMP:20260424T143338
CREATED:20220728T221726Z
LAST-MODIFIED:20221119T010840Z
UID:10000909-1682011800-1682024400@afk.games
SUMMARY:Board Game Night
DESCRIPTION:Join us every Thursday starting at 5:30 pm for Board Game Night!\nCome try out some new games\, or even bring your own favorites!
URL:https://afk.games/event/board-game-night-10/2023-04-20/
LOCATION:AFK Games\, 2495 Cedar Street STE 14-B\, Holt\, MI\, 48842\, United States
CATEGORIES:Events
ORGANIZER;CN="AFK Games":MAILTO:support@afk-games.com
END:VEVENT
BEGIN:VEVENT
DTSTART;TZID=America/Detroit:20230420T180000
DTEND;TZID=America/Detroit:20230420T210000
DTSTAMP:20260424T143338
CREATED:20220728T224945Z
LAST-MODIFIED:20221119T010839Z
UID:10000857-1682013600-1682024400@afk.games
SUMMARY:Lansing Chess Club meeting
DESCRIPTION:Every Thursday the Lansing Chess club meets at 6:00 pm
URL:https://afk.games/event/lansing-chess-club-meeting-10/2023-04-20/
LOCATION:AFK Games\, 2495 Cedar Street STE 14-B\, Holt\, MI\, 48842\, United States
CATEGORIES:Events
ORGANIZER;CN="AFK Games":MAILTO:support@afk-games.com
END:VEVENT
BEGIN:VEVENT
DTSTART;TZID=America/Detroit:20230420T180000
DTEND;TZID=America/Detroit:20230420T210000
DTSTAMP:20260424T143338
CREATED:20240530T182508Z
LAST-MODIFIED:20241219T201920Z
UID:10002840-1682013600-1682024400@afk.games
SUMMARY:Lansing Chess Club meeting
DESCRIPTION:Join us for the Lansing Chess Club’s weekly gathering every Thursday at 6:00 pm at AFK Games in Holt\, MI. Whether you’re a seasoned player or new to the game\, this is the perfect opportunity to challenge yourself\, meet fellow chess enthusiasts\, and improve your skills in a friendly and welcoming environment. All ages and skill levels are welcome!
URL:https://afk.games/event/lansing-chess-club-meeting-11/2023-04-20/
LOCATION:AFK Games\, 2495 Cedar Street STE 14-B\, Holt\, MI\, 48842\, United States
CATEGORIES:Events
ORGANIZER;CN="AFK Games":MAILTO:support@afk-games.com
END:VEVENT
BEGIN:VEVENT
DTSTART;TZID=America/Detroit:20230427T173000
DTEND;TZID=America/Detroit:20230427T210000
DTSTAMP:20260424T143338
CREATED:20220728T221726Z
LAST-MODIFIED:20221119T010840Z
UID:10000910-1682616600-1682629200@afk.games
SUMMARY:Board Game Night
DESCRIPTION:Join us every Thursday starting at 5:30 pm for Board Game Night!\nCome try out some new games\, or even bring your own favorites!
URL:https://afk.games/event/board-game-night-10/2023-04-27/
LOCATION:AFK Games\, 2495 Cedar Street STE 14-B\, Holt\, MI\, 48842\, United States
CATEGORIES:Events
ORGANIZER;CN="AFK Games":MAILTO:support@afk-games.com
END:VEVENT
BEGIN:VEVENT
DTSTART;TZID=America/Detroit:20230427T180000
DTEND;TZID=America/Detroit:20230427T210000
DTSTAMP:20260424T143338
CREATED:20220728T224945Z
LAST-MODIFIED:20221119T010839Z
UID:10000858-1682618400-1682629200@afk.games
SUMMARY:Lansing Chess Club meeting
DESCRIPTION:Every Thursday the Lansing Chess club meets at 6:00 pm
URL:https://afk.games/event/lansing-chess-club-meeting-10/2023-04-27/
LOCATION:AFK Games\, 2495 Cedar Street STE 14-B\, Holt\, MI\, 48842\, United States
CATEGORIES:Events
ORGANIZER;CN="AFK Games":MAILTO:support@afk-games.com
END:VEVENT
BEGIN:VEVENT
DTSTART;TZID=America/Detroit:20230427T180000
DTEND;TZID=America/Detroit:20230427T210000
DTSTAMP:20260424T143338
CREATED:20240530T182508Z
LAST-MODIFIED:20241219T201920Z
UID:10002841-1682618400-1682629200@afk.games
SUMMARY:Lansing Chess Club meeting
DESCRIPTION:Join us for the Lansing Chess Club’s weekly gathering every Thursday at 6:00 pm at AFK Games in Holt\, MI. Whether you’re a seasoned player or new to the game\, this is the perfect opportunity to challenge yourself\, meet fellow chess enthusiasts\, and improve your skills in a friendly and welcoming environment. All ages and skill levels are welcome!
URL:https://afk.games/event/lansing-chess-club-meeting-11/2023-04-27/
LOCATION:AFK Games\, 2495 Cedar Street STE 14-B\, Holt\, MI\, 48842\, United States
CATEGORIES:Events
ORGANIZER;CN="AFK Games":MAILTO:support@afk-games.com
END:VEVENT
BEGIN:VEVENT
DTSTART;TZID=America/Detroit:20230429T130000
DTEND;TZID=America/Detroit:20230429T170000
DTSTAMP:20260424T143338
CREATED:20230221T201547Z
LAST-MODIFIED:20230221T201547Z
UID:10001237-1682773200-1682787600@afk.games
SUMMARY:Gamer Swap Meet
DESCRIPTION:AFK Games will be hosting another gamer swap meet on April 29th!  \nWe will have all of our tables for individuals to reserve to bring their unwanted miniature game armies\, board games\, RPG books\, etc… You might even find that one item you have been looking to get! \nWe will use our Wargaming and hobby tables for those who have just a few items to bring in! \nTables will be free for those who would like to reserve a full table. \nParticipants can reserve a table with a free ticket on our website located here.\nhttps://shop.afk.games/product/table-reservation-april-29th-gamer-swap-meet/10980 \nThis is for a single card table reservation if you need an additional table. Please contact Dan either in-store or on discord (Angate#1218).\nThose who want to participate but don’t have enough stuff to fill an entire table can use the mixed tables. We will have little standees and markers to write your name to mark your property.\nAFK will provide slips for you to write your name\, the item\, store credit amount\, and a space for a staff member to verify the transaction has been completed. \nTrading is allowed and encouraged where possible.\nAny purchases must go through AFK Games using our store credit system. Individuals who break this rule will be asked to leave and not allowed to participate in future swap meets. 
URL:https://afk.games/event/gamer-swap-meet-2/
LOCATION:AFK Games\, 2495 Cedar Street STE 14-B\, Holt\, MI\, 48842\, United States
CATEGORIES:Events
ORGANIZER;CN="AFK Games":MAILTO:support@afk-games.com
END:VEVENT
END:VCALENDAR