BEGIN:VCALENDAR
VERSION:2.0
PRODID:-//AFK Games - ECPv6.15.20//NONSGML v1.0//EN
CALSCALE:GREGORIAN
METHOD:PUBLISH
X-WR-CALNAME:AFK Games
X-ORIGINAL-URL:https://afk.games
X-WR-CALDESC:Events for AFK Games
REFRESH-INTERVAL;VALUE=DURATION:PT1H
X-Robots-Tag:noindex
X-PUBLISHED-TTL:PT1H
BEGIN:VTIMEZONE
TZID:America/Detroit
BEGIN:DAYLIGHT
TZOFFSETFROM:-0500
TZOFFSETTO:-0400
TZNAME:EDT
DTSTART:20250309T070000
END:DAYLIGHT
BEGIN:STANDARD
TZOFFSETFROM:-0400
TZOFFSETTO:-0500
TZNAME:EST
DTSTART:20251102T060000
END:STANDARD
BEGIN:DAYLIGHT
TZOFFSETFROM:-0500
TZOFFSETTO:-0400
TZNAME:EDT
DTSTART:20260308T070000
END:DAYLIGHT
BEGIN:STANDARD
TZOFFSETFROM:-0400
TZOFFSETTO:-0500
TZNAME:EST
DTSTART:20261101T060000
END:STANDARD
BEGIN:DAYLIGHT
TZOFFSETFROM:-0500
TZOFFSETTO:-0400
TZNAME:EDT
DTSTART:20270314T070000
END:DAYLIGHT
BEGIN:STANDARD
TZOFFSETFROM:-0400
TZOFFSETTO:-0500
TZNAME:EST
DTSTART:20271107T060000
END:STANDARD
END:VTIMEZONE
BEGIN:VEVENT
DTSTART;TZID=America/Detroit:20260427T170000
DTEND;TZID=America/Detroit:20260427T220000
DTSTAMP:20260422T001010
CREATED:20260101T204539Z
LAST-MODIFIED:20260101T204539Z
UID:10005088-1777309200-1777327200@afk.games
SUMMARY:Monday Night Commander
DESCRIPTION:Every Monday night AFK Games hosts open MTG Commander play!\nNo entry to play\, and each week you enter into your Eventlink event you get entered into a monthly raffle for cool prizes! Such as collector packs\, deck boxes\, sleeves\, old marketing material\, etc..
URL:https://afk.games/event/monday-night-commander-13/2026-04-27/
LOCATION:AFK Games\, 2495 Cedar Street STE 14-B\, Holt\, MI\, 48842\, United States
CATEGORIES:Commander,Events,Magic: The Gathering
ORGANIZER;CN="AFK Games":MAILTO:support@afk-games.com
END:VEVENT
BEGIN:VEVENT
DTSTART;TZID=America/Detroit:20260504T170000
DTEND;TZID=America/Detroit:20260504T220000
DTSTAMP:20260422T001010
CREATED:20260101T204539Z
LAST-MODIFIED:20260101T204539Z
UID:10005089-1777914000-1777932000@afk.games
SUMMARY:Monday Night Commander
DESCRIPTION:Every Monday night AFK Games hosts open MTG Commander play!\nNo entry to play\, and each week you enter into your Eventlink event you get entered into a monthly raffle for cool prizes! Such as collector packs\, deck boxes\, sleeves\, old marketing material\, etc..
URL:https://afk.games/event/monday-night-commander-13/2026-05-04/
LOCATION:AFK Games\, 2495 Cedar Street STE 14-B\, Holt\, MI\, 48842\, United States
CATEGORIES:Commander,Events,Magic: The Gathering
ORGANIZER;CN="AFK Games":MAILTO:support@afk-games.com
END:VEVENT
BEGIN:VEVENT
DTSTART;TZID=America/Detroit:20260511T170000
DTEND;TZID=America/Detroit:20260511T220000
DTSTAMP:20260422T001010
CREATED:20260101T204539Z
LAST-MODIFIED:20260101T204539Z
UID:10005090-1778518800-1778536800@afk.games
SUMMARY:Monday Night Commander
DESCRIPTION:Every Monday night AFK Games hosts open MTG Commander play!\nNo entry to play\, and each week you enter into your Eventlink event you get entered into a monthly raffle for cool prizes! Such as collector packs\, deck boxes\, sleeves\, old marketing material\, etc..
URL:https://afk.games/event/monday-night-commander-13/2026-05-11/
LOCATION:AFK Games\, 2495 Cedar Street STE 14-B\, Holt\, MI\, 48842\, United States
CATEGORIES:Commander,Events,Magic: The Gathering
ORGANIZER;CN="AFK Games":MAILTO:support@afk-games.com
END:VEVENT
BEGIN:VEVENT
DTSTART;TZID=America/Detroit:20260518T170000
DTEND;TZID=America/Detroit:20260518T220000
DTSTAMP:20260422T001010
CREATED:20260101T204539Z
LAST-MODIFIED:20260101T204539Z
UID:10005091-1779123600-1779141600@afk.games
SUMMARY:Monday Night Commander
DESCRIPTION:Every Monday night AFK Games hosts open MTG Commander play!\nNo entry to play\, and each week you enter into your Eventlink event you get entered into a monthly raffle for cool prizes! Such as collector packs\, deck boxes\, sleeves\, old marketing material\, etc..
URL:https://afk.games/event/monday-night-commander-13/2026-05-18/
LOCATION:AFK Games\, 2495 Cedar Street STE 14-B\, Holt\, MI\, 48842\, United States
CATEGORIES:Commander,Events,Magic: The Gathering
ORGANIZER;CN="AFK Games":MAILTO:support@afk-games.com
END:VEVENT
BEGIN:VEVENT
DTSTART;TZID=America/Detroit:20260525T170000
DTEND;TZID=America/Detroit:20260525T220000
DTSTAMP:20260422T001010
CREATED:20260101T204539Z
LAST-MODIFIED:20260101T204539Z
UID:10005092-1779728400-1779746400@afk.games
SUMMARY:Monday Night Commander
DESCRIPTION:Every Monday night AFK Games hosts open MTG Commander play!\nNo entry to play\, and each week you enter into your Eventlink event you get entered into a monthly raffle for cool prizes! Such as collector packs\, deck boxes\, sleeves\, old marketing material\, etc..
URL:https://afk.games/event/monday-night-commander-13/2026-05-25/
LOCATION:AFK Games\, 2495 Cedar Street STE 14-B\, Holt\, MI\, 48842\, United States
CATEGORIES:Commander,Events,Magic: The Gathering
ORGANIZER;CN="AFK Games":MAILTO:support@afk-games.com
END:VEVENT
BEGIN:VEVENT
DTSTART;TZID=America/Detroit:20260601T170000
DTEND;TZID=America/Detroit:20260601T220000
DTSTAMP:20260422T001010
CREATED:20260101T204539Z
LAST-MODIFIED:20260101T204539Z
UID:10005093-1780333200-1780351200@afk.games
SUMMARY:Monday Night Commander
DESCRIPTION:Every Monday night AFK Games hosts open MTG Commander play!\nNo entry to play\, and each week you enter into your Eventlink event you get entered into a monthly raffle for cool prizes! Such as collector packs\, deck boxes\, sleeves\, old marketing material\, etc..
URL:https://afk.games/event/monday-night-commander-13/2026-06-01/
LOCATION:AFK Games\, 2495 Cedar Street STE 14-B\, Holt\, MI\, 48842\, United States
CATEGORIES:Commander,Events,Magic: The Gathering
ORGANIZER;CN="AFK Games":MAILTO:support@afk-games.com
END:VEVENT
BEGIN:VEVENT
DTSTART;TZID=America/Detroit:20260608T170000
DTEND;TZID=America/Detroit:20260608T220000
DTSTAMP:20260422T001010
CREATED:20260101T204539Z
LAST-MODIFIED:20260101T204539Z
UID:10005094-1780938000-1780956000@afk.games
SUMMARY:Monday Night Commander
DESCRIPTION:Every Monday night AFK Games hosts open MTG Commander play!\nNo entry to play\, and each week you enter into your Eventlink event you get entered into a monthly raffle for cool prizes! Such as collector packs\, deck boxes\, sleeves\, old marketing material\, etc..
URL:https://afk.games/event/monday-night-commander-13/2026-06-08/
LOCATION:AFK Games\, 2495 Cedar Street STE 14-B\, Holt\, MI\, 48842\, United States
CATEGORIES:Commander,Events,Magic: The Gathering
ORGANIZER;CN="AFK Games":MAILTO:support@afk-games.com
END:VEVENT
BEGIN:VEVENT
DTSTART;TZID=America/Detroit:20260615T170000
DTEND;TZID=America/Detroit:20260615T220000
DTSTAMP:20260422T001010
CREATED:20260101T204539Z
LAST-MODIFIED:20260101T204539Z
UID:10005095-1781542800-1781560800@afk.games
SUMMARY:Monday Night Commander
DESCRIPTION:Every Monday night AFK Games hosts open MTG Commander play!\nNo entry to play\, and each week you enter into your Eventlink event you get entered into a monthly raffle for cool prizes! Such as collector packs\, deck boxes\, sleeves\, old marketing material\, etc..
URL:https://afk.games/event/monday-night-commander-13/2026-06-15/
LOCATION:AFK Games\, 2495 Cedar Street STE 14-B\, Holt\, MI\, 48842\, United States
CATEGORIES:Commander,Events,Magic: The Gathering
ORGANIZER;CN="AFK Games":MAILTO:support@afk-games.com
END:VEVENT
BEGIN:VEVENT
DTSTART;TZID=America/Detroit:20260622T170000
DTEND;TZID=America/Detroit:20260622T220000
DTSTAMP:20260422T001010
CREATED:20260101T204539Z
LAST-MODIFIED:20260101T204539Z
UID:10005096-1782147600-1782165600@afk.games
SUMMARY:Monday Night Commander
DESCRIPTION:Every Monday night AFK Games hosts open MTG Commander play!\nNo entry to play\, and each week you enter into your Eventlink event you get entered into a monthly raffle for cool prizes! Such as collector packs\, deck boxes\, sleeves\, old marketing material\, etc..
URL:https://afk.games/event/monday-night-commander-13/2026-06-22/
LOCATION:AFK Games\, 2495 Cedar Street STE 14-B\, Holt\, MI\, 48842\, United States
CATEGORIES:Commander,Events,Magic: The Gathering
ORGANIZER;CN="AFK Games":MAILTO:support@afk-games.com
END:VEVENT
BEGIN:VEVENT
DTSTART;TZID=America/Detroit:20260629T170000
DTEND;TZID=America/Detroit:20260629T220000
DTSTAMP:20260422T001010
CREATED:20260101T204539Z
LAST-MODIFIED:20260101T204539Z
UID:10005097-1782752400-1782770400@afk.games
SUMMARY:Monday Night Commander
DESCRIPTION:Every Monday night AFK Games hosts open MTG Commander play!\nNo entry to play\, and each week you enter into your Eventlink event you get entered into a monthly raffle for cool prizes! Such as collector packs\, deck boxes\, sleeves\, old marketing material\, etc..
URL:https://afk.games/event/monday-night-commander-13/2026-06-29/
LOCATION:AFK Games\, 2495 Cedar Street STE 14-B\, Holt\, MI\, 48842\, United States
CATEGORIES:Commander,Events,Magic: The Gathering
ORGANIZER;CN="AFK Games":MAILTO:support@afk-games.com
END:VEVENT
BEGIN:VEVENT
DTSTART;TZID=America/Detroit:20260706T170000
DTEND;TZID=America/Detroit:20260706T220000
DTSTAMP:20260422T001010
CREATED:20260101T204539Z
LAST-MODIFIED:20260101T204539Z
UID:10005098-1783357200-1783375200@afk.games
SUMMARY:Monday Night Commander
DESCRIPTION:Every Monday night AFK Games hosts open MTG Commander play!\nNo entry to play\, and each week you enter into your Eventlink event you get entered into a monthly raffle for cool prizes! Such as collector packs\, deck boxes\, sleeves\, old marketing material\, etc..
URL:https://afk.games/event/monday-night-commander-13/2026-07-06/
LOCATION:AFK Games\, 2495 Cedar Street STE 14-B\, Holt\, MI\, 48842\, United States
CATEGORIES:Commander,Events,Magic: The Gathering
ORGANIZER;CN="AFK Games":MAILTO:support@afk-games.com
END:VEVENT
BEGIN:VEVENT
DTSTART;TZID=America/Detroit:20260713T170000
DTEND;TZID=America/Detroit:20260713T220000
DTSTAMP:20260422T001010
CREATED:20260101T204539Z
LAST-MODIFIED:20260101T204539Z
UID:10005099-1783962000-1783980000@afk.games
SUMMARY:Monday Night Commander
DESCRIPTION:Every Monday night AFK Games hosts open MTG Commander play!\nNo entry to play\, and each week you enter into your Eventlink event you get entered into a monthly raffle for cool prizes! Such as collector packs\, deck boxes\, sleeves\, old marketing material\, etc..
URL:https://afk.games/event/monday-night-commander-13/2026-07-13/
LOCATION:AFK Games\, 2495 Cedar Street STE 14-B\, Holt\, MI\, 48842\, United States
CATEGORIES:Commander,Events,Magic: The Gathering
ORGANIZER;CN="AFK Games":MAILTO:support@afk-games.com
END:VEVENT
BEGIN:VEVENT
DTSTART;TZID=America/Detroit:20260720T170000
DTEND;TZID=America/Detroit:20260720T220000
DTSTAMP:20260422T001010
CREATED:20260101T204539Z
LAST-MODIFIED:20260101T204539Z
UID:10005100-1784566800-1784584800@afk.games
SUMMARY:Monday Night Commander
DESCRIPTION:Every Monday night AFK Games hosts open MTG Commander play!\nNo entry to play\, and each week you enter into your Eventlink event you get entered into a monthly raffle for cool prizes! Such as collector packs\, deck boxes\, sleeves\, old marketing material\, etc..
URL:https://afk.games/event/monday-night-commander-13/2026-07-20/
LOCATION:AFK Games\, 2495 Cedar Street STE 14-B\, Holt\, MI\, 48842\, United States
CATEGORIES:Commander,Events,Magic: The Gathering
ORGANIZER;CN="AFK Games":MAILTO:support@afk-games.com
END:VEVENT
BEGIN:VEVENT
DTSTART;TZID=America/Detroit:20260727T170000
DTEND;TZID=America/Detroit:20260727T220000
DTSTAMP:20260422T001010
CREATED:20260101T204539Z
LAST-MODIFIED:20260101T204539Z
UID:10005101-1785171600-1785189600@afk.games
SUMMARY:Monday Night Commander
DESCRIPTION:Every Monday night AFK Games hosts open MTG Commander play!\nNo entry to play\, and each week you enter into your Eventlink event you get entered into a monthly raffle for cool prizes! Such as collector packs\, deck boxes\, sleeves\, old marketing material\, etc..
URL:https://afk.games/event/monday-night-commander-13/2026-07-27/
LOCATION:AFK Games\, 2495 Cedar Street STE 14-B\, Holt\, MI\, 48842\, United States
CATEGORIES:Commander,Events,Magic: The Gathering
ORGANIZER;CN="AFK Games":MAILTO:support@afk-games.com
END:VEVENT
BEGIN:VEVENT
DTSTART;TZID=America/Detroit:20260803T170000
DTEND;TZID=America/Detroit:20260803T220000
DTSTAMP:20260422T001010
CREATED:20260101T204539Z
LAST-MODIFIED:20260101T204539Z
UID:10005102-1785776400-1785794400@afk.games
SUMMARY:Monday Night Commander
DESCRIPTION:Every Monday night AFK Games hosts open MTG Commander play!\nNo entry to play\, and each week you enter into your Eventlink event you get entered into a monthly raffle for cool prizes! Such as collector packs\, deck boxes\, sleeves\, old marketing material\, etc..
URL:https://afk.games/event/monday-night-commander-13/2026-08-03/
LOCATION:AFK Games\, 2495 Cedar Street STE 14-B\, Holt\, MI\, 48842\, United States
CATEGORIES:Commander,Events,Magic: The Gathering
ORGANIZER;CN="AFK Games":MAILTO:support@afk-games.com
END:VEVENT
BEGIN:VEVENT
DTSTART;TZID=America/Detroit:20260810T170000
DTEND;TZID=America/Detroit:20260810T220000
DTSTAMP:20260422T001010
CREATED:20260101T204539Z
LAST-MODIFIED:20260101T204539Z
UID:10005103-1786381200-1786399200@afk.games
SUMMARY:Monday Night Commander
DESCRIPTION:Every Monday night AFK Games hosts open MTG Commander play!\nNo entry to play\, and each week you enter into your Eventlink event you get entered into a monthly raffle for cool prizes! Such as collector packs\, deck boxes\, sleeves\, old marketing material\, etc..
URL:https://afk.games/event/monday-night-commander-13/2026-08-10/
LOCATION:AFK Games\, 2495 Cedar Street STE 14-B\, Holt\, MI\, 48842\, United States
CATEGORIES:Commander,Events,Magic: The Gathering
ORGANIZER;CN="AFK Games":MAILTO:support@afk-games.com
END:VEVENT
BEGIN:VEVENT
DTSTART;TZID=America/Detroit:20260817T170000
DTEND;TZID=America/Detroit:20260817T220000
DTSTAMP:20260422T001010
CREATED:20260101T204539Z
LAST-MODIFIED:20260101T204539Z
UID:10005104-1786986000-1787004000@afk.games
SUMMARY:Monday Night Commander
DESCRIPTION:Every Monday night AFK Games hosts open MTG Commander play!\nNo entry to play\, and each week you enter into your Eventlink event you get entered into a monthly raffle for cool prizes! Such as collector packs\, deck boxes\, sleeves\, old marketing material\, etc..
URL:https://afk.games/event/monday-night-commander-13/2026-08-17/
LOCATION:AFK Games\, 2495 Cedar Street STE 14-B\, Holt\, MI\, 48842\, United States
CATEGORIES:Commander,Events,Magic: The Gathering
ORGANIZER;CN="AFK Games":MAILTO:support@afk-games.com
END:VEVENT
BEGIN:VEVENT
DTSTART;TZID=America/Detroit:20260824T170000
DTEND;TZID=America/Detroit:20260824T220000
DTSTAMP:20260422T001010
CREATED:20260101T204539Z
LAST-MODIFIED:20260101T204539Z
UID:10005105-1787590800-1787608800@afk.games
SUMMARY:Monday Night Commander
DESCRIPTION:Every Monday night AFK Games hosts open MTG Commander play!\nNo entry to play\, and each week you enter into your Eventlink event you get entered into a monthly raffle for cool prizes! Such as collector packs\, deck boxes\, sleeves\, old marketing material\, etc..
URL:https://afk.games/event/monday-night-commander-13/2026-08-24/
LOCATION:AFK Games\, 2495 Cedar Street STE 14-B\, Holt\, MI\, 48842\, United States
CATEGORIES:Commander,Events,Magic: The Gathering
ORGANIZER;CN="AFK Games":MAILTO:support@afk-games.com
END:VEVENT
BEGIN:VEVENT
DTSTART;TZID=America/Detroit:20260831T170000
DTEND;TZID=America/Detroit:20260831T220000
DTSTAMP:20260422T001010
CREATED:20260101T204539Z
LAST-MODIFIED:20260101T204539Z
UID:10005106-1788195600-1788213600@afk.games
SUMMARY:Monday Night Commander
DESCRIPTION:Every Monday night AFK Games hosts open MTG Commander play!\nNo entry to play\, and each week you enter into your Eventlink event you get entered into a monthly raffle for cool prizes! Such as collector packs\, deck boxes\, sleeves\, old marketing material\, etc..
URL:https://afk.games/event/monday-night-commander-13/2026-08-31/
LOCATION:AFK Games\, 2495 Cedar Street STE 14-B\, Holt\, MI\, 48842\, United States
CATEGORIES:Commander,Events,Magic: The Gathering
ORGANIZER;CN="AFK Games":MAILTO:support@afk-games.com
END:VEVENT
BEGIN:VEVENT
DTSTART;TZID=America/Detroit:20260907T170000
DTEND;TZID=America/Detroit:20260907T220000
DTSTAMP:20260422T001010
CREATED:20260101T204539Z
LAST-MODIFIED:20260101T204539Z
UID:10005107-1788800400-1788818400@afk.games
SUMMARY:Monday Night Commander
DESCRIPTION:Every Monday night AFK Games hosts open MTG Commander play!\nNo entry to play\, and each week you enter into your Eventlink event you get entered into a monthly raffle for cool prizes! Such as collector packs\, deck boxes\, sleeves\, old marketing material\, etc..
URL:https://afk.games/event/monday-night-commander-13/2026-09-07/
LOCATION:AFK Games\, 2495 Cedar Street STE 14-B\, Holt\, MI\, 48842\, United States
CATEGORIES:Commander,Events,Magic: The Gathering
ORGANIZER;CN="AFK Games":MAILTO:support@afk-games.com
END:VEVENT
BEGIN:VEVENT
DTSTART;TZID=America/Detroit:20260914T170000
DTEND;TZID=America/Detroit:20260914T220000
DTSTAMP:20260422T001010
CREATED:20260101T204539Z
LAST-MODIFIED:20260101T204539Z
UID:10005108-1789405200-1789423200@afk.games
SUMMARY:Monday Night Commander
DESCRIPTION:Every Monday night AFK Games hosts open MTG Commander play!\nNo entry to play\, and each week you enter into your Eventlink event you get entered into a monthly raffle for cool prizes! Such as collector packs\, deck boxes\, sleeves\, old marketing material\, etc..
URL:https://afk.games/event/monday-night-commander-13/2026-09-14/
LOCATION:AFK Games\, 2495 Cedar Street STE 14-B\, Holt\, MI\, 48842\, United States
CATEGORIES:Commander,Events,Magic: The Gathering
ORGANIZER;CN="AFK Games":MAILTO:support@afk-games.com
END:VEVENT
BEGIN:VEVENT
DTSTART;TZID=America/Detroit:20260921T170000
DTEND;TZID=America/Detroit:20260921T220000
DTSTAMP:20260422T001010
CREATED:20260101T204539Z
LAST-MODIFIED:20260101T204539Z
UID:10005109-1790010000-1790028000@afk.games
SUMMARY:Monday Night Commander
DESCRIPTION:Every Monday night AFK Games hosts open MTG Commander play!\nNo entry to play\, and each week you enter into your Eventlink event you get entered into a monthly raffle for cool prizes! Such as collector packs\, deck boxes\, sleeves\, old marketing material\, etc..
URL:https://afk.games/event/monday-night-commander-13/2026-09-21/
LOCATION:AFK Games\, 2495 Cedar Street STE 14-B\, Holt\, MI\, 48842\, United States
CATEGORIES:Commander,Events,Magic: The Gathering
ORGANIZER;CN="AFK Games":MAILTO:support@afk-games.com
END:VEVENT
BEGIN:VEVENT
DTSTART;TZID=America/Detroit:20260928T170000
DTEND;TZID=America/Detroit:20260928T220000
DTSTAMP:20260422T001010
CREATED:20260101T204539Z
LAST-MODIFIED:20260101T204539Z
UID:10005110-1790614800-1790632800@afk.games
SUMMARY:Monday Night Commander
DESCRIPTION:Every Monday night AFK Games hosts open MTG Commander play!\nNo entry to play\, and each week you enter into your Eventlink event you get entered into a monthly raffle for cool prizes! Such as collector packs\, deck boxes\, sleeves\, old marketing material\, etc..
URL:https://afk.games/event/monday-night-commander-13/2026-09-28/
LOCATION:AFK Games\, 2495 Cedar Street STE 14-B\, Holt\, MI\, 48842\, United States
CATEGORIES:Commander,Events,Magic: The Gathering
ORGANIZER;CN="AFK Games":MAILTO:support@afk-games.com
END:VEVENT
BEGIN:VEVENT
DTSTART;TZID=America/Detroit:20261005T170000
DTEND;TZID=America/Detroit:20261005T220000
DTSTAMP:20260422T001010
CREATED:20260101T204539Z
LAST-MODIFIED:20260101T204539Z
UID:10005111-1791219600-1791237600@afk.games
SUMMARY:Monday Night Commander
DESCRIPTION:Every Monday night AFK Games hosts open MTG Commander play!\nNo entry to play\, and each week you enter into your Eventlink event you get entered into a monthly raffle for cool prizes! Such as collector packs\, deck boxes\, sleeves\, old marketing material\, etc..
URL:https://afk.games/event/monday-night-commander-13/2026-10-05/
LOCATION:AFK Games\, 2495 Cedar Street STE 14-B\, Holt\, MI\, 48842\, United States
CATEGORIES:Commander,Events,Magic: The Gathering
ORGANIZER;CN="AFK Games":MAILTO:support@afk-games.com
END:VEVENT
BEGIN:VEVENT
DTSTART;TZID=America/Detroit:20261012T170000
DTEND;TZID=America/Detroit:20261012T220000
DTSTAMP:20260422T001010
CREATED:20260101T204539Z
LAST-MODIFIED:20260101T204539Z
UID:10005112-1791824400-1791842400@afk.games
SUMMARY:Monday Night Commander
DESCRIPTION:Every Monday night AFK Games hosts open MTG Commander play!\nNo entry to play\, and each week you enter into your Eventlink event you get entered into a monthly raffle for cool prizes! Such as collector packs\, deck boxes\, sleeves\, old marketing material\, etc..
URL:https://afk.games/event/monday-night-commander-13/2026-10-12/
LOCATION:AFK Games\, 2495 Cedar Street STE 14-B\, Holt\, MI\, 48842\, United States
CATEGORIES:Commander,Events,Magic: The Gathering
ORGANIZER;CN="AFK Games":MAILTO:support@afk-games.com
END:VEVENT
BEGIN:VEVENT
DTSTART;TZID=America/Detroit:20261019T170000
DTEND;TZID=America/Detroit:20261019T220000
DTSTAMP:20260422T001010
CREATED:20260101T204539Z
LAST-MODIFIED:20260101T204539Z
UID:10005113-1792429200-1792447200@afk.games
SUMMARY:Monday Night Commander
DESCRIPTION:Every Monday night AFK Games hosts open MTG Commander play!\nNo entry to play\, and each week you enter into your Eventlink event you get entered into a monthly raffle for cool prizes! Such as collector packs\, deck boxes\, sleeves\, old marketing material\, etc..
URL:https://afk.games/event/monday-night-commander-13/2026-10-19/
LOCATION:AFK Games\, 2495 Cedar Street STE 14-B\, Holt\, MI\, 48842\, United States
CATEGORIES:Commander,Events,Magic: The Gathering
ORGANIZER;CN="AFK Games":MAILTO:support@afk-games.com
END:VEVENT
BEGIN:VEVENT
DTSTART;TZID=America/Detroit:20261026T170000
DTEND;TZID=America/Detroit:20261026T220000
DTSTAMP:20260422T001010
CREATED:20260101T204539Z
LAST-MODIFIED:20260101T204539Z
UID:10005114-1793034000-1793052000@afk.games
SUMMARY:Monday Night Commander
DESCRIPTION:Every Monday night AFK Games hosts open MTG Commander play!\nNo entry to play\, and each week you enter into your Eventlink event you get entered into a monthly raffle for cool prizes! Such as collector packs\, deck boxes\, sleeves\, old marketing material\, etc..
URL:https://afk.games/event/monday-night-commander-13/2026-10-26/
LOCATION:AFK Games\, 2495 Cedar Street STE 14-B\, Holt\, MI\, 48842\, United States
CATEGORIES:Commander,Events,Magic: The Gathering
ORGANIZER;CN="AFK Games":MAILTO:support@afk-games.com
END:VEVENT
BEGIN:VEVENT
DTSTART;TZID=America/Detroit:20261102T170000
DTEND;TZID=America/Detroit:20261102T220000
DTSTAMP:20260422T001010
CREATED:20260101T204539Z
LAST-MODIFIED:20260101T204539Z
UID:10005115-1793638800-1793656800@afk.games
SUMMARY:Monday Night Commander
DESCRIPTION:Every Monday night AFK Games hosts open MTG Commander play!\nNo entry to play\, and each week you enter into your Eventlink event you get entered into a monthly raffle for cool prizes! Such as collector packs\, deck boxes\, sleeves\, old marketing material\, etc..
URL:https://afk.games/event/monday-night-commander-13/2026-11-02/
LOCATION:AFK Games\, 2495 Cedar Street STE 14-B\, Holt\, MI\, 48842\, United States
CATEGORIES:Commander,Events,Magic: The Gathering
ORGANIZER;CN="AFK Games":MAILTO:support@afk-games.com
END:VEVENT
BEGIN:VEVENT
DTSTART;TZID=America/Detroit:20261109T170000
DTEND;TZID=America/Detroit:20261109T220000
DTSTAMP:20260422T001010
CREATED:20260101T204539Z
LAST-MODIFIED:20260101T204539Z
UID:10005116-1794243600-1794261600@afk.games
SUMMARY:Monday Night Commander
DESCRIPTION:Every Monday night AFK Games hosts open MTG Commander play!\nNo entry to play\, and each week you enter into your Eventlink event you get entered into a monthly raffle for cool prizes! Such as collector packs\, deck boxes\, sleeves\, old marketing material\, etc..
URL:https://afk.games/event/monday-night-commander-13/2026-11-09/
LOCATION:AFK Games\, 2495 Cedar Street STE 14-B\, Holt\, MI\, 48842\, United States
CATEGORIES:Commander,Events,Magic: The Gathering
ORGANIZER;CN="AFK Games":MAILTO:support@afk-games.com
END:VEVENT
BEGIN:VEVENT
DTSTART;TZID=America/Detroit:20261116T170000
DTEND;TZID=America/Detroit:20261116T220000
DTSTAMP:20260422T001010
CREATED:20260101T204539Z
LAST-MODIFIED:20260101T204539Z
UID:10005117-1794848400-1794866400@afk.games
SUMMARY:Monday Night Commander
DESCRIPTION:Every Monday night AFK Games hosts open MTG Commander play!\nNo entry to play\, and each week you enter into your Eventlink event you get entered into a monthly raffle for cool prizes! Such as collector packs\, deck boxes\, sleeves\, old marketing material\, etc..
URL:https://afk.games/event/monday-night-commander-13/2026-11-16/
LOCATION:AFK Games\, 2495 Cedar Street STE 14-B\, Holt\, MI\, 48842\, United States
CATEGORIES:Commander,Events,Magic: The Gathering
ORGANIZER;CN="AFK Games":MAILTO:support@afk-games.com
END:VEVENT
END:VCALENDAR