BEGIN:VCALENDAR
VERSION:2.0
PRODID:-//AFK Games - ECPv6.15.20//NONSGML v1.0//EN
CALSCALE:GREGORIAN
METHOD:PUBLISH
X-ORIGINAL-URL:https://afk.games
X-WR-CALDESC:Events for AFK Games
REFRESH-INTERVAL;VALUE=DURATION:PT1H
X-Robots-Tag:noindex
X-PUBLISHED-TTL:PT1H
BEGIN:VTIMEZONE
TZID:America/Detroit
BEGIN:DAYLIGHT
TZOFFSETFROM:-0500
TZOFFSETTO:-0400
TZNAME:EDT
DTSTART:20230312T070000
END:DAYLIGHT
BEGIN:STANDARD
TZOFFSETFROM:-0400
TZOFFSETTO:-0500
TZNAME:EST
DTSTART:20231105T060000
END:STANDARD
BEGIN:DAYLIGHT
TZOFFSETFROM:-0500
TZOFFSETTO:-0400
TZNAME:EDT
DTSTART:20240310T070000
END:DAYLIGHT
BEGIN:STANDARD
TZOFFSETFROM:-0400
TZOFFSETTO:-0500
TZNAME:EST
DTSTART:20241103T060000
END:STANDARD
BEGIN:DAYLIGHT
TZOFFSETFROM:-0500
TZOFFSETTO:-0400
TZNAME:EDT
DTSTART:20250309T070000
END:DAYLIGHT
BEGIN:STANDARD
TZOFFSETFROM:-0400
TZOFFSETTO:-0500
TZNAME:EST
DTSTART:20251102T060000
END:STANDARD
BEGIN:DAYLIGHT
TZOFFSETFROM:-0500
TZOFFSETTO:-0400
TZNAME:EDT
DTSTART:20260308T070000
END:DAYLIGHT
BEGIN:STANDARD
TZOFFSETFROM:-0400
TZOFFSETTO:-0500
TZNAME:EST
DTSTART:20261101T060000
END:STANDARD
END:VTIMEZONE
BEGIN:VEVENT
DTSTART;TZID=America/Detroit:20250509T183000
DTEND;TZID=America/Detroit:20250509T210000
DTSTAMP:20260419T110702
CREATED:20250405T230402Z
LAST-MODIFIED:20250405T231001Z
UID:10003917-1746815400-1746824400@afk.games
SUMMARY:Star Wars: Unlimited Casual Play
DESCRIPTION:Free entry\, play some games. Get a promo pack.
URL:https://afk.games/event/star-wars-unlimited-casual-play-2/2025-05-09/
LOCATION:AFK Games\, 2495 Cedar Street STE 14-B\, Holt\, MI\, 48842\, United States
CATEGORIES:Events,Star Wars: Unlimited
ORGANIZER;CN="AFK Games":MAILTO:support@afk-games.com
END:VEVENT
BEGIN:VEVENT
DTSTART;TZID=America/Detroit:20250502T183000
DTEND;TZID=America/Detroit:20250502T210000
DTSTAMP:20260419T110702
CREATED:20250405T230402Z
LAST-MODIFIED:20250405T231001Z
UID:10003916-1746210600-1746219600@afk.games
SUMMARY:Star Wars: Unlimited Casual Play
DESCRIPTION:Free entry\, play some games. Get a promo pack.
URL:https://afk.games/event/star-wars-unlimited-casual-play-2/2025-05-02/
LOCATION:AFK Games\, 2495 Cedar Street STE 14-B\, Holt\, MI\, 48842\, United States
CATEGORIES:Events,Star Wars: Unlimited
ORGANIZER;CN="AFK Games":MAILTO:support@afk-games.com
END:VEVENT
BEGIN:VEVENT
DTSTART;TZID=America/Detroit:20250425T183000
DTEND;TZID=America/Detroit:20250425T210000
DTSTAMP:20260419T110702
CREATED:20250405T230402Z
LAST-MODIFIED:20250405T231001Z
UID:10003778-1745605800-1745614800@afk.games
SUMMARY:Star Wars: Unlimited Casual Play
DESCRIPTION:Free entry\, play some games. Get a promo pack.
URL:https://afk.games/event/star-wars-unlimited-casual-play-2/2025-04-25/
LOCATION:AFK Games\, 2495 Cedar Street STE 14-B\, Holt\, MI\, 48842\, United States
CATEGORIES:Events,Star Wars: Unlimited
ORGANIZER;CN="AFK Games":MAILTO:support@afk-games.com
END:VEVENT
BEGIN:VEVENT
DTSTART;TZID=America/Detroit:20250418T183000
DTEND;TZID=America/Detroit:20250418T210000
DTSTAMP:20260419T110702
CREATED:20250405T230402Z
LAST-MODIFIED:20250405T231001Z
UID:10003777-1745001000-1745010000@afk.games
SUMMARY:Star Wars: Unlimited Casual Play
DESCRIPTION:Free entry\, play some games. Get a promo pack.
URL:https://afk.games/event/star-wars-unlimited-casual-play-2/2025-04-18/
LOCATION:AFK Games\, 2495 Cedar Street STE 14-B\, Holt\, MI\, 48842\, United States
CATEGORIES:Events,Star Wars: Unlimited
ORGANIZER;CN="AFK Games":MAILTO:support@afk-games.com
END:VEVENT
BEGIN:VEVENT
DTSTART;TZID=America/Detroit:20250411T183000
DTEND;TZID=America/Detroit:20250411T210000
DTSTAMP:20260419T110702
CREATED:20250405T230402Z
LAST-MODIFIED:20250405T231001Z
UID:10003507-1744396200-1744405200@afk.games
SUMMARY:Star Wars: Unlimited Casual Play
DESCRIPTION:Free entry\, play some games. Get a promo pack.
URL:https://afk.games/event/star-wars-unlimited-casual-play-2/2025-04-11/
LOCATION:AFK Games\, 2495 Cedar Street STE 14-B\, Holt\, MI\, 48842\, United States
CATEGORIES:Events,Star Wars: Unlimited
ORGANIZER;CN="AFK Games":MAILTO:support@afk-games.com
END:VEVENT
BEGIN:VEVENT
DTSTART;TZID=America/Detroit:20250401T183000
DTEND;TZID=America/Detroit:20250401T210000
DTSTAMP:20260419T110702
CREATED:20250209T013946Z
LAST-MODIFIED:20250209T014215Z
UID:10003506-1743532200-1743541200@afk.games
SUMMARY:Star Wars: Unlimited Casual Play
DESCRIPTION:Free entry\, play some games. Get a promo pack.
URL:https://afk.games/event/star-wars-unlimited-casual-play/2025-04-01/
LOCATION:AFK Games\, 2495 Cedar Street STE 14-B\, Holt\, MI\, 48842\, United States
CATEGORIES:Events,Star Wars: Unlimited
ORGANIZER;CN="AFK Games":MAILTO:support@afk-games.com
END:VEVENT
BEGIN:VEVENT
DTSTART;TZID=America/Detroit:20250325T183000
DTEND;TZID=America/Detroit:20250325T210000
DTSTAMP:20260419T110702
CREATED:20250209T013946Z
LAST-MODIFIED:20250209T014215Z
UID:10003505-1742927400-1742936400@afk.games
SUMMARY:Star Wars: Unlimited Casual Play
DESCRIPTION:Free entry\, play some games. Get a promo pack.
URL:https://afk.games/event/star-wars-unlimited-casual-play/2025-03-25/
LOCATION:AFK Games\, 2495 Cedar Street STE 14-B\, Holt\, MI\, 48842\, United States
CATEGORIES:Events,Star Wars: Unlimited
ORGANIZER;CN="AFK Games":MAILTO:support@afk-games.com
END:VEVENT
BEGIN:VEVENT
DTSTART;TZID=America/Detroit:20250318T183000
DTEND;TZID=America/Detroit:20250318T210000
DTSTAMP:20260419T110702
CREATED:20250209T013946Z
LAST-MODIFIED:20250209T014215Z
UID:10003504-1742322600-1742331600@afk.games
SUMMARY:Star Wars: Unlimited Casual Play
DESCRIPTION:Free entry\, play some games. Get a promo pack.
URL:https://afk.games/event/star-wars-unlimited-casual-play/2025-03-18/
LOCATION:AFK Games\, 2495 Cedar Street STE 14-B\, Holt\, MI\, 48842\, United States
CATEGORIES:Events,Star Wars: Unlimited
ORGANIZER;CN="AFK Games":MAILTO:support@afk-games.com
END:VEVENT
BEGIN:VEVENT
DTSTART;TZID=America/Detroit:20250311T183000
DTEND;TZID=America/Detroit:20250311T210000
DTSTAMP:20260419T110702
CREATED:20250209T013946Z
LAST-MODIFIED:20250209T014215Z
UID:10003503-1741717800-1741726800@afk.games
SUMMARY:Star Wars: Unlimited Casual Play
DESCRIPTION:Free entry\, play some games. Get a promo pack.
URL:https://afk.games/event/star-wars-unlimited-casual-play/2025-03-11/
LOCATION:AFK Games\, 2495 Cedar Street STE 14-B\, Holt\, MI\, 48842\, United States
CATEGORIES:Events,Star Wars: Unlimited
ORGANIZER;CN="AFK Games":MAILTO:support@afk-games.com
END:VEVENT
BEGIN:VEVENT
DTSTART;TZID=America/Detroit:20250307T183000
DTEND;TZID=America/Detroit:20250307T223000
DTSTAMP:20260419T110702
CREATED:20250226T181139Z
LAST-MODIFIED:20250226T181139Z
UID:10003767-1741372200-1741386600@afk.games
SUMMARY:Star Wars Unlimited Jump to Lightspeed Prerelease
DESCRIPTION:Join us for our Prerelease event on March 7th at 6:30 pm!\nRounds: 3\nDeck Construction: 30 minutes\nRounds: 3\nRound time: 25 Minutes\nFormat: Best of One – Sealed Dec
URL:https://afk.games/event/star-wars-unlimited-jump-to-lightspeed-prerelease/
LOCATION:AFK Games\, 2495 Cedar Street STE 14-B\, Holt\, MI\, 48842\, United States
CATEGORIES:Events,Star Wars: Unlimited
ORGANIZER;CN="AFK Games":MAILTO:support@afk-games.com
END:VEVENT
BEGIN:VEVENT
DTSTART;TZID=America/Detroit:20250304T183000
DTEND;TZID=America/Detroit:20250304T210000
DTSTAMP:20260419T110702
CREATED:20250209T013946Z
LAST-MODIFIED:20250209T014215Z
UID:10003502-1741113000-1741122000@afk.games
SUMMARY:Star Wars: Unlimited Casual Play
DESCRIPTION:Free entry\, play some games. Get a promo pack.
URL:https://afk.games/event/star-wars-unlimited-casual-play/2025-03-04/
LOCATION:AFK Games\, 2495 Cedar Street STE 14-B\, Holt\, MI\, 48842\, United States
CATEGORIES:Events,Star Wars: Unlimited
ORGANIZER;CN="AFK Games":MAILTO:support@afk-games.com
END:VEVENT
BEGIN:VEVENT
DTSTART;TZID=America/Detroit:20250225T183000
DTEND;TZID=America/Detroit:20250225T210000
DTSTAMP:20260419T110702
CREATED:20250209T013946Z
LAST-MODIFIED:20250209T014215Z
UID:10003501-1740508200-1740517200@afk.games
SUMMARY:Star Wars: Unlimited Casual Play
DESCRIPTION:Free entry\, play some games. Get a promo pack.
URL:https://afk.games/event/star-wars-unlimited-casual-play/2025-02-25/
LOCATION:AFK Games\, 2495 Cedar Street STE 14-B\, Holt\, MI\, 48842\, United States
CATEGORIES:Events,Star Wars: Unlimited
ORGANIZER;CN="AFK Games":MAILTO:support@afk-games.com
END:VEVENT
BEGIN:VEVENT
DTSTART;TZID=America/Detroit:20250218T183000
DTEND;TZID=America/Detroit:20250218T210000
DTSTAMP:20260419T110702
CREATED:20250209T014402Z
LAST-MODIFIED:20250209T014402Z
UID:10003760-1739903400-1739912400@afk.games
SUMMARY:Star Wars: Unlimited - Twilight of the Republic Store Showdown
DESCRIPTION:Tournament Format\n\nRounds – Swiss\, based on attendance\nRound time – 55 Minute\, Best of Three\nFormat – Constructed\nSoftware – melee.gg\nStart – 6:30 PM\nEntry – $10\n\nTournament link: https://melee.gg/Tournament/View/243599 \nSchedule\nRegistration – 6:00 PM – 6:30 PM \nRound 1 – 6:30 PM – 7:30 PM \nRound 2 – 7:30 PM – 8:30 PM \nRound 3 – 8:30 PM – 9:30 PM  \nPrizes\nParticipation \n\n2 Booster Packs of Twilight of the Republic\nSavage Opress Promo(s) – Number depending on participation \n1 Weekly play booster\n\nTop 8 \n\nTop 8 Gor\nWeekly Play Pack\n\nTop 4 \n\nTop 4 Gor \nWeekly Play Pack\n\nFinalist  \n\nFinalist Gor\nWeekly Pay Pack\n\nChampion \n\nChampion Gor\nWeekly Play Pack\n\n  \nBooster packs for Top 4\, based on attendance. 
URL:https://afk.games/event/star-wars-unlimited-twilight-of-the-republic-store-showdown/
LOCATION:AFK Games\, 2495 Cedar Street STE 14-B\, Holt\, MI\, 48842\, United States
CATEGORIES:Events,Star Wars: Unlimited
ORGANIZER;CN="AFK Games":MAILTO:support@afk-games.com
END:VEVENT
BEGIN:VEVENT
DTSTART;TZID=America/Detroit:20250211T183000
DTEND;TZID=America/Detroit:20250211T210000
DTSTAMP:20260419T110702
CREATED:20250209T013946Z
LAST-MODIFIED:20250209T014215Z
UID:10003500-1739298600-1739307600@afk.games
SUMMARY:Star Wars: Unlimited Casual Play
DESCRIPTION:Free entry\, play some games. Get a promo pack.
URL:https://afk.games/event/star-wars-unlimited-casual-play/2025-02-11/
LOCATION:AFK Games\, 2495 Cedar Street STE 14-B\, Holt\, MI\, 48842\, United States
CATEGORIES:Events,Star Wars: Unlimited
ORGANIZER;CN="AFK Games":MAILTO:support@afk-games.com
END:VEVENT
BEGIN:VEVENT
DTSTART;TZID=America/Detroit:20241231T183000
DTEND;TZID=America/Detroit:20241231T210000
DTSTAMP:20260419T110702
CREATED:20240711T234328Z
LAST-MODIFIED:20240711T234328Z
UID:10003014-1735669800-1735678800@afk.games
SUMMARY:Star Wars: Unlimited - Open Play
DESCRIPTION:Free entry\, play some games. Get a promo pack.
URL:https://afk.games/event/star-wars-unlimited-open-play/2024-12-31/
LOCATION:AFK Games\, 2495 Cedar Street STE 14-B\, Holt\, MI\, 48842\, United States
CATEGORIES:Events,Star Wars: Unlimited
ORGANIZER;CN="AFK Games":MAILTO:support@afk-games.com
END:VEVENT
BEGIN:VEVENT
DTSTART;TZID=America/Detroit:20241217T183000
DTEND;TZID=America/Detroit:20241217T210000
DTSTAMP:20260419T110702
CREATED:20240711T234328Z
LAST-MODIFIED:20240711T234328Z
UID:10003012-1734460200-1734469200@afk.games
SUMMARY:Star Wars: Unlimited - Open Play
DESCRIPTION:Free entry\, play some games. Get a promo pack.
URL:https://afk.games/event/star-wars-unlimited-open-play/2024-12-17/
LOCATION:AFK Games\, 2495 Cedar Street STE 14-B\, Holt\, MI\, 48842\, United States
CATEGORIES:Events,Star Wars: Unlimited
ORGANIZER;CN="AFK Games":MAILTO:support@afk-games.com
END:VEVENT
BEGIN:VEVENT
DTSTART;TZID=America/Detroit:20241210T183000
DTEND;TZID=America/Detroit:20241210T210000
DTSTAMP:20260419T110702
CREATED:20240711T234328Z
LAST-MODIFIED:20240711T234328Z
UID:10003011-1733855400-1733864400@afk.games
SUMMARY:Star Wars: Unlimited - Open Play
DESCRIPTION:Free entry\, play some games. Get a promo pack.
URL:https://afk.games/event/star-wars-unlimited-open-play/2024-12-10/
LOCATION:AFK Games\, 2495 Cedar Street STE 14-B\, Holt\, MI\, 48842\, United States
CATEGORIES:Events,Star Wars: Unlimited
ORGANIZER;CN="AFK Games":MAILTO:support@afk-games.com
END:VEVENT
BEGIN:VEVENT
DTSTART;TZID=America/Detroit:20241203T183000
DTEND;TZID=America/Detroit:20241203T210000
DTSTAMP:20260419T110702
CREATED:20240711T234328Z
LAST-MODIFIED:20240711T234328Z
UID:10003010-1733250600-1733259600@afk.games
SUMMARY:Star Wars: Unlimited - Open Play
DESCRIPTION:Free entry\, play some games. Get a promo pack.
URL:https://afk.games/event/star-wars-unlimited-open-play/2024-12-03/
LOCATION:AFK Games\, 2495 Cedar Street STE 14-B\, Holt\, MI\, 48842\, United States
CATEGORIES:Events,Star Wars: Unlimited
ORGANIZER;CN="AFK Games":MAILTO:support@afk-games.com
END:VEVENT
BEGIN:VEVENT
DTSTART;TZID=America/Detroit:20241126T183000
DTEND;TZID=America/Detroit:20241126T210000
DTSTAMP:20260419T110702
CREATED:20240711T234328Z
LAST-MODIFIED:20240711T234328Z
UID:10003009-1732645800-1732654800@afk.games
SUMMARY:Star Wars: Unlimited - Open Play
DESCRIPTION:Free entry\, play some games. Get a promo pack.
URL:https://afk.games/event/star-wars-unlimited-open-play/2024-11-26/
LOCATION:AFK Games\, 2495 Cedar Street STE 14-B\, Holt\, MI\, 48842\, United States
CATEGORIES:Events,Star Wars: Unlimited
ORGANIZER;CN="AFK Games":MAILTO:support@afk-games.com
END:VEVENT
BEGIN:VEVENT
DTSTART;TZID=America/Detroit:20241119T183000
DTEND;TZID=America/Detroit:20241119T210000
DTSTAMP:20260419T110702
CREATED:20240711T234328Z
LAST-MODIFIED:20240711T234328Z
UID:10003008-1732041000-1732050000@afk.games
SUMMARY:Star Wars: Unlimited - Open Play
DESCRIPTION:Free entry\, play some games. Get a promo pack.
URL:https://afk.games/event/star-wars-unlimited-open-play/2024-11-19/
LOCATION:AFK Games\, 2495 Cedar Street STE 14-B\, Holt\, MI\, 48842\, United States
CATEGORIES:Events,Star Wars: Unlimited
ORGANIZER;CN="AFK Games":MAILTO:support@afk-games.com
END:VEVENT
BEGIN:VEVENT
DTSTART;TZID=America/Detroit:20241112T183000
DTEND;TZID=America/Detroit:20241112T210000
DTSTAMP:20260419T110702
CREATED:20240711T234328Z
LAST-MODIFIED:20240711T234328Z
UID:10003007-1731436200-1731445200@afk.games
SUMMARY:Star Wars: Unlimited - Open Play
DESCRIPTION:Free entry\, play some games. Get a promo pack.
URL:https://afk.games/event/star-wars-unlimited-open-play/2024-11-12/
LOCATION:AFK Games\, 2495 Cedar Street STE 14-B\, Holt\, MI\, 48842\, United States
CATEGORIES:Events,Star Wars: Unlimited
ORGANIZER;CN="AFK Games":MAILTO:support@afk-games.com
END:VEVENT
BEGIN:VEVENT
DTSTART;TZID=America/Detroit:20241105T183000
DTEND;TZID=America/Detroit:20241105T210000
DTSTAMP:20260419T110702
CREATED:20240711T234328Z
LAST-MODIFIED:20240711T234328Z
UID:10003006-1730831400-1730840400@afk.games
SUMMARY:Star Wars: Unlimited - Open Play
DESCRIPTION:Free entry\, play some games. Get a promo pack.
URL:https://afk.games/event/star-wars-unlimited-open-play/2024-11-05/
LOCATION:AFK Games\, 2495 Cedar Street STE 14-B\, Holt\, MI\, 48842\, United States
CATEGORIES:Events,Star Wars: Unlimited
ORGANIZER;CN="AFK Games":MAILTO:support@afk-games.com
END:VEVENT
BEGIN:VEVENT
DTSTART;TZID=America/Detroit:20241101T183000
DTEND;TZID=America/Detroit:20241101T223000
DTSTAMP:20260419T110702
CREATED:20241010T235654Z
LAST-MODIFIED:20241010T235654Z
UID:10003063-1730485800-1730500200@afk.games
SUMMARY:Star Wars: Unlimited - Twilight of the Republic Prerelease
DESCRIPTION:Join us for our prerelease for Twilight of the Republic! Play in a sealed event and get a booster pack per win!
URL:https://afk.games/event/star-wars-unlimited-twilight-of-the-republic-prerelease/
LOCATION:AFK Games\, 2495 Cedar Street STE 14-B\, Holt\, MI\, 48842\, United States
CATEGORIES:Events,Star Wars: Unlimited
ORGANIZER;CN="AFK Games":MAILTO:support@afk-games.com
END:VEVENT
BEGIN:VEVENT
DTSTART;TZID=America/Detroit:20241029T183000
DTEND;TZID=America/Detroit:20241029T210000
DTSTAMP:20260419T110702
CREATED:20240711T234328Z
LAST-MODIFIED:20240711T234328Z
UID:10003005-1730226600-1730235600@afk.games
SUMMARY:Star Wars: Unlimited - Open Play
DESCRIPTION:Free entry\, play some games. Get a promo pack.
URL:https://afk.games/event/star-wars-unlimited-open-play/2024-10-29/
LOCATION:AFK Games\, 2495 Cedar Street STE 14-B\, Holt\, MI\, 48842\, United States
CATEGORIES:Events,Star Wars: Unlimited
ORGANIZER;CN="AFK Games":MAILTO:support@afk-games.com
END:VEVENT
BEGIN:VEVENT
DTSTART;TZID=America/Detroit:20241026T123000
DTEND;TZID=America/Detroit:20241026T183000
DTSTAMP:20260419T110702
CREATED:20240918T181757Z
LAST-MODIFIED:20240918T181757Z
UID:10003053-1729945800-1729967400@afk.games
SUMMARY:SWU: Shadows of the Galaxy - Store Showdown
DESCRIPTION:Date & Time: \n\nDoors Open: 12:00 PM\nTournament Start: 12:30 PM\n\n\nEntry Fee: $25 Registration Cap: 32 players \nTournament Format\n\nRounds: Based on player count\n\n8 players: 3 rounds (No top cut)\n9-16 players: 4 rounds (Top 4 cut)\n17-32 players: 5 rounds (Top 4 cut)\n\n\n\n\n\nRound Time: 55 minutes (Top cut rounds are untimed)\nMatch Format: Best of 3 games\nEvent Format: Premier\n\n\nDeck Requirements\n\nDeck Composition:\n\nExactly one Leader\nExactly one Base\nMinimum 50-card Draw Deck\n\n\n\n\n\nSideboard: Up to 10 non-Leader\, non-Base cards\nCard Limits: No more than three copies of any one card\nDecklists: Required at registration\n\nTip: Use swudb.com to build and print your decklist\n\n\n\n\nPrizes\n\nParticipation:\n\nPromo Card: Lady Proxima\nWeekly Play Promo Pack\n3 Booster packs of Shadows of the Galaxy\n\n\n\n\n\n\n\n\nTop 8 Promo: Borderless Foil Unrefusable Offer stamped “Top 8”\nTop 4 Promo: Borderless Foil Unrefusable Offer stamped “Top 4”\nFinalist Promo: Borderless Foil Unrefusable Offer stamped “Finalist”\nChampion Promo: Borderless Foil Unrefusable Offer stamped “Champion”\nStore Credit: Awarded based on final record\n\n\n  \n 
URL:https://afk.games/event/swu-shadows-of-the-galaxy-store-showdown/
LOCATION:AFK Games\, 2495 Cedar Street STE 14-B\, Holt\, MI\, 48842\, United States
CATEGORIES:Events,Star Wars: Unlimited
ORGANIZER;CN="AFK Games":MAILTO:support@afk-games.com
END:VEVENT
BEGIN:VEVENT
DTSTART;TZID=America/Detroit:20241022T183000
DTEND;TZID=America/Detroit:20241022T210000
DTSTAMP:20260419T110702
CREATED:20240711T234328Z
LAST-MODIFIED:20240711T234328Z
UID:10003004-1729621800-1729630800@afk.games
SUMMARY:Star Wars: Unlimited - Open Play
DESCRIPTION:Free entry\, play some games. Get a promo pack.
URL:https://afk.games/event/star-wars-unlimited-open-play/2024-10-22/
LOCATION:AFK Games\, 2495 Cedar Street STE 14-B\, Holt\, MI\, 48842\, United States
CATEGORIES:Events,Star Wars: Unlimited
ORGANIZER;CN="AFK Games":MAILTO:support@afk-games.com
END:VEVENT
BEGIN:VEVENT
DTSTART;TZID=America/Detroit:20241015T183000
DTEND;TZID=America/Detroit:20241015T210000
DTSTAMP:20260419T110702
CREATED:20240711T234328Z
LAST-MODIFIED:20240711T234328Z
UID:10003003-1729017000-1729026000@afk.games
SUMMARY:Star Wars: Unlimited - Open Play
DESCRIPTION:Free entry\, play some games. Get a promo pack.
URL:https://afk.games/event/star-wars-unlimited-open-play/2024-10-15/
LOCATION:AFK Games\, 2495 Cedar Street STE 14-B\, Holt\, MI\, 48842\, United States
CATEGORIES:Events,Star Wars: Unlimited
ORGANIZER;CN="AFK Games":MAILTO:support@afk-games.com
END:VEVENT
BEGIN:VEVENT
DTSTART;TZID=America/Detroit:20241008T183000
DTEND;TZID=America/Detroit:20241008T210000
DTSTAMP:20260419T110702
CREATED:20240711T234328Z
LAST-MODIFIED:20240711T234328Z
UID:10003002-1728412200-1728421200@afk.games
SUMMARY:Star Wars: Unlimited - Open Play
DESCRIPTION:Free entry\, play some games. Get a promo pack.
URL:https://afk.games/event/star-wars-unlimited-open-play/2024-10-08/
LOCATION:AFK Games\, 2495 Cedar Street STE 14-B\, Holt\, MI\, 48842\, United States
CATEGORIES:Events,Star Wars: Unlimited
ORGANIZER;CN="AFK Games":MAILTO:support@afk-games.com
END:VEVENT
BEGIN:VEVENT
DTSTART;TZID=America/Detroit:20241001T183000
DTEND;TZID=America/Detroit:20241001T210000
DTSTAMP:20260419T110702
CREATED:20240711T234328Z
LAST-MODIFIED:20240711T234328Z
UID:10003001-1727807400-1727816400@afk.games
SUMMARY:Star Wars: Unlimited - Open Play
DESCRIPTION:Free entry\, play some games. Get a promo pack.
URL:https://afk.games/event/star-wars-unlimited-open-play/2024-10-01/
LOCATION:AFK Games\, 2495 Cedar Street STE 14-B\, Holt\, MI\, 48842\, United States
CATEGORIES:Events,Star Wars: Unlimited
ORGANIZER;CN="AFK Games":MAILTO:support@afk-games.com
END:VEVENT
BEGIN:VEVENT
DTSTART;TZID=America/Detroit:20240924T183000
DTEND;TZID=America/Detroit:20240924T210000
DTSTAMP:20260419T110702
CREATED:20240711T234328Z
LAST-MODIFIED:20240711T234328Z
UID:10003000-1727202600-1727211600@afk.games
SUMMARY:Star Wars: Unlimited - Open Play
DESCRIPTION:Free entry\, play some games. Get a promo pack.
URL:https://afk.games/event/star-wars-unlimited-open-play/2024-09-24/
LOCATION:AFK Games\, 2495 Cedar Street STE 14-B\, Holt\, MI\, 48842\, United States
CATEGORIES:Events,Star Wars: Unlimited
ORGANIZER;CN="AFK Games":MAILTO:support@afk-games.com
END:VEVENT
END:VCALENDAR