BEGIN:VCALENDAR
VERSION:2.0
PRODID:-//AFK Games - ECPv6.15.20//NONSGML v1.0//EN
CALSCALE:GREGORIAN
METHOD:PUBLISH
X-ORIGINAL-URL:https://afk.games
X-WR-CALDESC:Events for AFK Games
REFRESH-INTERVAL;VALUE=DURATION:PT1H
X-Robots-Tag:noindex
X-PUBLISHED-TTL:PT1H
BEGIN:VTIMEZONE
TZID:America/Detroit
BEGIN:DAYLIGHT
TZOFFSETFROM:-0500
TZOFFSETTO:-0400
TZNAME:EDT
DTSTART:20210314T070000
END:DAYLIGHT
BEGIN:STANDARD
TZOFFSETFROM:-0400
TZOFFSETTO:-0500
TZNAME:EST
DTSTART:20211107T060000
END:STANDARD
BEGIN:DAYLIGHT
TZOFFSETFROM:-0500
TZOFFSETTO:-0400
TZNAME:EDT
DTSTART:20220313T070000
END:DAYLIGHT
BEGIN:STANDARD
TZOFFSETFROM:-0400
TZOFFSETTO:-0500
TZNAME:EST
DTSTART:20221106T060000
END:STANDARD
BEGIN:DAYLIGHT
TZOFFSETFROM:-0500
TZOFFSETTO:-0400
TZNAME:EDT
DTSTART:20230312T070000
END:DAYLIGHT
BEGIN:STANDARD
TZOFFSETFROM:-0400
TZOFFSETTO:-0500
TZNAME:EST
DTSTART:20231105T060000
END:STANDARD
BEGIN:DAYLIGHT
TZOFFSETFROM:-0500
TZOFFSETTO:-0400
TZNAME:EDT
DTSTART:20240310T070000
END:DAYLIGHT
BEGIN:STANDARD
TZOFFSETFROM:-0400
TZOFFSETTO:-0500
TZNAME:EST
DTSTART:20241103T060000
END:STANDARD
END:VTIMEZONE
BEGIN:VEVENT
DTSTART;TZID=America/Detroit:20230531T180000
DTEND;TZID=America/Detroit:20230531T210000
DTSTAMP:20260420T154512
CREATED:20220728T225015Z
LAST-MODIFIED:20221119T010743Z
UID:10000655-1685556000-1685566800@afk.games
SUMMARY:Open D&D 5e
DESCRIPTION:Every Wednesday we have open D&D 5e\, starting at 6:00 pm
URL:https://afk.games/event/open-dd-5e-10/2023-05-31/
LOCATION:AFK Games\, 2495 Cedar Street STE 14-B\, Holt\, MI\, 48842\, United States
CATEGORIES:Dungeons and Dragons,Events,Role Playing Games
ORGANIZER;CN="AFK Games":MAILTO:support@afk-games.com
END:VEVENT
BEGIN:VEVENT
DTSTART;TZID=America/Detroit:20230524T180000
DTEND;TZID=America/Detroit:20230524T210000
DTSTAMP:20260420T154512
CREATED:20220728T225015Z
LAST-MODIFIED:20221119T010743Z
UID:10000654-1684951200-1684962000@afk.games
SUMMARY:Open D&D 5e
DESCRIPTION:Every Wednesday we have open D&D 5e\, starting at 6:00 pm
URL:https://afk.games/event/open-dd-5e-10/2023-05-24/
LOCATION:AFK Games\, 2495 Cedar Street STE 14-B\, Holt\, MI\, 48842\, United States
CATEGORIES:Dungeons and Dragons,Events,Role Playing Games
ORGANIZER;CN="AFK Games":MAILTO:support@afk-games.com
END:VEVENT
BEGIN:VEVENT
DTSTART;TZID=America/Detroit:20230517T180000
DTEND;TZID=America/Detroit:20230517T210000
DTSTAMP:20260420T154512
CREATED:20220728T225015Z
LAST-MODIFIED:20221119T010743Z
UID:10000653-1684346400-1684357200@afk.games
SUMMARY:Open D&D 5e
DESCRIPTION:Every Wednesday we have open D&D 5e\, starting at 6:00 pm
URL:https://afk.games/event/open-dd-5e-10/2023-05-17/
LOCATION:AFK Games\, 2495 Cedar Street STE 14-B\, Holt\, MI\, 48842\, United States
CATEGORIES:Dungeons and Dragons,Events,Role Playing Games
ORGANIZER;CN="AFK Games":MAILTO:support@afk-games.com
END:VEVENT
BEGIN:VEVENT
DTSTART;TZID=America/Detroit:20230510T180000
DTEND;TZID=America/Detroit:20230510T210000
DTSTAMP:20260420T154512
CREATED:20220728T225015Z
LAST-MODIFIED:20221119T010743Z
UID:10000652-1683741600-1683752400@afk.games
SUMMARY:Open D&D 5e
DESCRIPTION:Every Wednesday we have open D&D 5e\, starting at 6:00 pm
URL:https://afk.games/event/open-dd-5e-10/2023-05-10/
LOCATION:AFK Games\, 2495 Cedar Street STE 14-B\, Holt\, MI\, 48842\, United States
CATEGORIES:Dungeons and Dragons,Events,Role Playing Games
ORGANIZER;CN="AFK Games":MAILTO:support@afk-games.com
END:VEVENT
BEGIN:VEVENT
DTSTART;TZID=America/Detroit:20230503T180000
DTEND;TZID=America/Detroit:20230503T210000
DTSTAMP:20260420T154512
CREATED:20220728T225015Z
LAST-MODIFIED:20221119T010743Z
UID:10000651-1683136800-1683147600@afk.games
SUMMARY:Open D&D 5e
DESCRIPTION:Every Wednesday we have open D&D 5e\, starting at 6:00 pm
URL:https://afk.games/event/open-dd-5e-10/2023-05-03/
LOCATION:AFK Games\, 2495 Cedar Street STE 14-B\, Holt\, MI\, 48842\, United States
CATEGORIES:Dungeons and Dragons,Events,Role Playing Games
ORGANIZER;CN="AFK Games":MAILTO:support@afk-games.com
END:VEVENT
BEGIN:VEVENT
DTSTART;TZID=America/Detroit:20230426T180000
DTEND;TZID=America/Detroit:20230426T210000
DTSTAMP:20260420T154512
CREATED:20220728T225015Z
LAST-MODIFIED:20221119T010743Z
UID:10000650-1682532000-1682542800@afk.games
SUMMARY:Open D&D 5e
DESCRIPTION:Every Wednesday we have open D&D 5e\, starting at 6:00 pm
URL:https://afk.games/event/open-dd-5e-10/2023-04-26/
LOCATION:AFK Games\, 2495 Cedar Street STE 14-B\, Holt\, MI\, 48842\, United States
CATEGORIES:Dungeons and Dragons,Events,Role Playing Games
ORGANIZER;CN="AFK Games":MAILTO:support@afk-games.com
END:VEVENT
BEGIN:VEVENT
DTSTART;TZID=America/Detroit:20230419T180000
DTEND;TZID=America/Detroit:20230419T210000
DTSTAMP:20260420T154512
CREATED:20220728T225015Z
LAST-MODIFIED:20221119T010743Z
UID:10000649-1681927200-1681938000@afk.games
SUMMARY:Open D&D 5e
DESCRIPTION:Every Wednesday we have open D&D 5e\, starting at 6:00 pm
URL:https://afk.games/event/open-dd-5e-10/2023-04-19/
LOCATION:AFK Games\, 2495 Cedar Street STE 14-B\, Holt\, MI\, 48842\, United States
CATEGORIES:Dungeons and Dragons,Events,Role Playing Games
ORGANIZER;CN="AFK Games":MAILTO:support@afk-games.com
END:VEVENT
BEGIN:VEVENT
DTSTART;TZID=America/Detroit:20230412T180000
DTEND;TZID=America/Detroit:20230412T210000
DTSTAMP:20260420T154512
CREATED:20220728T225015Z
LAST-MODIFIED:20221119T010743Z
UID:10000648-1681322400-1681333200@afk.games
SUMMARY:Open D&D 5e
DESCRIPTION:Every Wednesday we have open D&D 5e\, starting at 6:00 pm
URL:https://afk.games/event/open-dd-5e-10/2023-04-12/
LOCATION:AFK Games\, 2495 Cedar Street STE 14-B\, Holt\, MI\, 48842\, United States
CATEGORIES:Dungeons and Dragons,Events,Role Playing Games
ORGANIZER;CN="AFK Games":MAILTO:support@afk-games.com
END:VEVENT
BEGIN:VEVENT
DTSTART;TZID=America/Detroit:20230405T180000
DTEND;TZID=America/Detroit:20230405T210000
DTSTAMP:20260420T154512
CREATED:20220728T225015Z
LAST-MODIFIED:20221119T010743Z
UID:10000647-1680717600-1680728400@afk.games
SUMMARY:Open D&D 5e
DESCRIPTION:Every Wednesday we have open D&D 5e\, starting at 6:00 pm
URL:https://afk.games/event/open-dd-5e-10/2023-04-05/
LOCATION:AFK Games\, 2495 Cedar Street STE 14-B\, Holt\, MI\, 48842\, United States
CATEGORIES:Dungeons and Dragons,Events,Role Playing Games
ORGANIZER;CN="AFK Games":MAILTO:support@afk-games.com
END:VEVENT
BEGIN:VEVENT
DTSTART;TZID=America/Detroit:20230329T180000
DTEND;TZID=America/Detroit:20230329T210000
DTSTAMP:20260420T154512
CREATED:20220728T225015Z
LAST-MODIFIED:20221119T010743Z
UID:10000646-1680112800-1680123600@afk.games
SUMMARY:Open D&D 5e
DESCRIPTION:Every Wednesday we have open D&D 5e\, starting at 6:00 pm
URL:https://afk.games/event/open-dd-5e-10/2023-03-29/
LOCATION:AFK Games\, 2495 Cedar Street STE 14-B\, Holt\, MI\, 48842\, United States
CATEGORIES:Dungeons and Dragons,Events,Role Playing Games
ORGANIZER;CN="AFK Games":MAILTO:support@afk-games.com
END:VEVENT
BEGIN:VEVENT
DTSTART;TZID=America/Detroit:20230322T180000
DTEND;TZID=America/Detroit:20230322T210000
DTSTAMP:20260420T154512
CREATED:20220728T225015Z
LAST-MODIFIED:20221119T010743Z
UID:10000645-1679508000-1679518800@afk.games
SUMMARY:Open D&D 5e
DESCRIPTION:Every Wednesday we have open D&D 5e\, starting at 6:00 pm
URL:https://afk.games/event/open-dd-5e-10/2023-03-22/
LOCATION:AFK Games\, 2495 Cedar Street STE 14-B\, Holt\, MI\, 48842\, United States
CATEGORIES:Dungeons and Dragons,Events,Role Playing Games
ORGANIZER;CN="AFK Games":MAILTO:support@afk-games.com
END:VEVENT
BEGIN:VEVENT
DTSTART;TZID=America/Detroit:20230315T180000
DTEND;TZID=America/Detroit:20230315T210000
DTSTAMP:20260420T154512
CREATED:20220728T225015Z
LAST-MODIFIED:20221119T010743Z
UID:10000644-1678903200-1678914000@afk.games
SUMMARY:Open D&D 5e
DESCRIPTION:Every Wednesday we have open D&D 5e\, starting at 6:00 pm
URL:https://afk.games/event/open-dd-5e-10/2023-03-15/
LOCATION:AFK Games\, 2495 Cedar Street STE 14-B\, Holt\, MI\, 48842\, United States
CATEGORIES:Dungeons and Dragons,Events,Role Playing Games
ORGANIZER;CN="AFK Games":MAILTO:support@afk-games.com
END:VEVENT
BEGIN:VEVENT
DTSTART;TZID=America/Detroit:20230308T180000
DTEND;TZID=America/Detroit:20230308T210000
DTSTAMP:20260420T154512
CREATED:20220728T225015Z
LAST-MODIFIED:20221119T010743Z
UID:10000643-1678298400-1678309200@afk.games
SUMMARY:Open D&D 5e
DESCRIPTION:Every Wednesday we have open D&D 5e\, starting at 6:00 pm
URL:https://afk.games/event/open-dd-5e-10/2023-03-08/
LOCATION:AFK Games\, 2495 Cedar Street STE 14-B\, Holt\, MI\, 48842\, United States
CATEGORIES:Dungeons and Dragons,Events,Role Playing Games
ORGANIZER;CN="AFK Games":MAILTO:support@afk-games.com
END:VEVENT
BEGIN:VEVENT
DTSTART;TZID=America/Detroit:20230301T180000
DTEND;TZID=America/Detroit:20230301T210000
DTSTAMP:20260420T154512
CREATED:20220728T225015Z
LAST-MODIFIED:20221119T010743Z
UID:10000642-1677693600-1677704400@afk.games
SUMMARY:Open D&D 5e
DESCRIPTION:Every Wednesday we have open D&D 5e\, starting at 6:00 pm
URL:https://afk.games/event/open-dd-5e-10/2023-03-01/
LOCATION:AFK Games\, 2495 Cedar Street STE 14-B\, Holt\, MI\, 48842\, United States
CATEGORIES:Dungeons and Dragons,Events,Role Playing Games
ORGANIZER;CN="AFK Games":MAILTO:support@afk-games.com
END:VEVENT
BEGIN:VEVENT
DTSTART;TZID=America/Detroit:20230222T180000
DTEND;TZID=America/Detroit:20230222T210000
DTSTAMP:20260420T154512
CREATED:20220728T225015Z
LAST-MODIFIED:20221119T010743Z
UID:10000641-1677088800-1677099600@afk.games
SUMMARY:Open D&D 5e
DESCRIPTION:Every Wednesday we have open D&D 5e\, starting at 6:00 pm
URL:https://afk.games/event/open-dd-5e-10/2023-02-22/
LOCATION:AFK Games\, 2495 Cedar Street STE 14-B\, Holt\, MI\, 48842\, United States
CATEGORIES:Dungeons and Dragons,Events,Role Playing Games
ORGANIZER;CN="AFK Games":MAILTO:support@afk-games.com
END:VEVENT
BEGIN:VEVENT
DTSTART;TZID=America/Detroit:20230215T180000
DTEND;TZID=America/Detroit:20230215T210000
DTSTAMP:20260420T154512
CREATED:20220728T225015Z
LAST-MODIFIED:20221119T010743Z
UID:10000640-1676484000-1676494800@afk.games
SUMMARY:Open D&D 5e
DESCRIPTION:Every Wednesday we have open D&D 5e\, starting at 6:00 pm
URL:https://afk.games/event/open-dd-5e-10/2023-02-15/
LOCATION:AFK Games\, 2495 Cedar Street STE 14-B\, Holt\, MI\, 48842\, United States
CATEGORIES:Dungeons and Dragons,Events,Role Playing Games
ORGANIZER;CN="AFK Games":MAILTO:support@afk-games.com
END:VEVENT
BEGIN:VEVENT
DTSTART;TZID=America/Detroit:20230208T180000
DTEND;TZID=America/Detroit:20230208T210000
DTSTAMP:20260420T154512
CREATED:20220728T225015Z
LAST-MODIFIED:20221119T010743Z
UID:10000639-1675879200-1675890000@afk.games
SUMMARY:Open D&D 5e
DESCRIPTION:Every Wednesday we have open D&D 5e\, starting at 6:00 pm
URL:https://afk.games/event/open-dd-5e-10/2023-02-08/
LOCATION:AFK Games\, 2495 Cedar Street STE 14-B\, Holt\, MI\, 48842\, United States
CATEGORIES:Dungeons and Dragons,Events,Role Playing Games
ORGANIZER;CN="AFK Games":MAILTO:support@afk-games.com
END:VEVENT
BEGIN:VEVENT
DTSTART;TZID=America/Detroit:20230201T180000
DTEND;TZID=America/Detroit:20230201T210000
DTSTAMP:20260420T154512
CREATED:20220728T225015Z
LAST-MODIFIED:20221119T010743Z
UID:10000638-1675274400-1675285200@afk.games
SUMMARY:Open D&D 5e
DESCRIPTION:Every Wednesday we have open D&D 5e\, starting at 6:00 pm
URL:https://afk.games/event/open-dd-5e-10/2023-02-01/
LOCATION:AFK Games\, 2495 Cedar Street STE 14-B\, Holt\, MI\, 48842\, United States
CATEGORIES:Dungeons and Dragons,Events,Role Playing Games
ORGANIZER;CN="AFK Games":MAILTO:support@afk-games.com
END:VEVENT
BEGIN:VEVENT
DTSTART;TZID=America/Detroit:20230125T180000
DTEND;TZID=America/Detroit:20230125T210000
DTSTAMP:20260420T154512
CREATED:20220728T225015Z
LAST-MODIFIED:20221119T010743Z
UID:10000637-1674669600-1674680400@afk.games
SUMMARY:Open D&D 5e
DESCRIPTION:Every Wednesday we have open D&D 5e\, starting at 6:00 pm
URL:https://afk.games/event/open-dd-5e-10/2023-01-25/
LOCATION:AFK Games\, 2495 Cedar Street STE 14-B\, Holt\, MI\, 48842\, United States
CATEGORIES:Dungeons and Dragons,Events,Role Playing Games
ORGANIZER;CN="AFK Games":MAILTO:support@afk-games.com
END:VEVENT
BEGIN:VEVENT
DTSTART;TZID=America/Detroit:20230118T180000
DTEND;TZID=America/Detroit:20230118T210000
DTSTAMP:20260420T154512
CREATED:20220728T225015Z
LAST-MODIFIED:20221119T010743Z
UID:10000636-1674064800-1674075600@afk.games
SUMMARY:Open D&D 5e
DESCRIPTION:Every Wednesday we have open D&D 5e\, starting at 6:00 pm
URL:https://afk.games/event/open-dd-5e-10/2023-01-18/
LOCATION:AFK Games\, 2495 Cedar Street STE 14-B\, Holt\, MI\, 48842\, United States
CATEGORIES:Dungeons and Dragons,Events,Role Playing Games
ORGANIZER;CN="AFK Games":MAILTO:support@afk-games.com
END:VEVENT
BEGIN:VEVENT
DTSTART;TZID=America/Detroit:20230111T180000
DTEND;TZID=America/Detroit:20230111T210000
DTSTAMP:20260420T154512
CREATED:20220728T225015Z
LAST-MODIFIED:20221119T010743Z
UID:10000635-1673460000-1673470800@afk.games
SUMMARY:Open D&D 5e
DESCRIPTION:Every Wednesday we have open D&D 5e\, starting at 6:00 pm
URL:https://afk.games/event/open-dd-5e-10/2023-01-11/
LOCATION:AFK Games\, 2495 Cedar Street STE 14-B\, Holt\, MI\, 48842\, United States
CATEGORIES:Dungeons and Dragons,Events,Role Playing Games
ORGANIZER;CN="AFK Games":MAILTO:support@afk-games.com
END:VEVENT
BEGIN:VEVENT
DTSTART;TZID=America/Detroit:20230104T180000
DTEND;TZID=America/Detroit:20230104T210000
DTSTAMP:20260420T154512
CREATED:20220728T225015Z
LAST-MODIFIED:20221119T010743Z
UID:10000634-1672855200-1672866000@afk.games
SUMMARY:Open D&D 5e
DESCRIPTION:Every Wednesday we have open D&D 5e\, starting at 6:00 pm
URL:https://afk.games/event/open-dd-5e-10/2023-01-04/
LOCATION:AFK Games\, 2495 Cedar Street STE 14-B\, Holt\, MI\, 48842\, United States
CATEGORIES:Dungeons and Dragons,Events,Role Playing Games
ORGANIZER;CN="AFK Games":MAILTO:support@afk-games.com
END:VEVENT
BEGIN:VEVENT
DTSTART;TZID=America/Detroit:20221228T180000
DTEND;TZID=America/Detroit:20221228T210000
DTSTAMP:20260420T154512
CREATED:20220728T225015Z
LAST-MODIFIED:20221119T010743Z
UID:10000237-1672250400-1672261200@afk.games
SUMMARY:Open D&D 5e
DESCRIPTION:Every Wednesday we have open D&D 5e\, starting at 6:00 pm
URL:https://afk.games/event/open-dd-5e-10/2022-12-28/
LOCATION:AFK Games\, 2495 Cedar Street STE 14-B\, Holt\, MI\, 48842\, United States
CATEGORIES:Dungeons and Dragons,Events,Role Playing Games
ORGANIZER;CN="AFK Games":MAILTO:support@afk-games.com
END:VEVENT
BEGIN:VEVENT
DTSTART;TZID=America/Detroit:20221221T180000
DTEND;TZID=America/Detroit:20221221T210000
DTSTAMP:20260420T154512
CREATED:20220728T225015Z
LAST-MODIFIED:20221119T010743Z
UID:10000236-1671645600-1671656400@afk.games
SUMMARY:Open D&D 5e
DESCRIPTION:Every Wednesday we have open D&D 5e\, starting at 6:00 pm
URL:https://afk.games/event/open-dd-5e-10/2022-12-21/
LOCATION:AFK Games\, 2495 Cedar Street STE 14-B\, Holt\, MI\, 48842\, United States
CATEGORIES:Dungeons and Dragons,Events,Role Playing Games
ORGANIZER;CN="AFK Games":MAILTO:support@afk-games.com
END:VEVENT
BEGIN:VEVENT
DTSTART;TZID=America/Detroit:20221214T180000
DTEND;TZID=America/Detroit:20221214T210000
DTSTAMP:20260420T154512
CREATED:20220728T225015Z
LAST-MODIFIED:20221119T010743Z
UID:10000235-1671040800-1671051600@afk.games
SUMMARY:Open D&D 5e
DESCRIPTION:Every Wednesday we have open D&D 5e\, starting at 6:00 pm
URL:https://afk.games/event/open-dd-5e-10/2022-12-14/
LOCATION:AFK Games\, 2495 Cedar Street STE 14-B\, Holt\, MI\, 48842\, United States
CATEGORIES:Dungeons and Dragons,Events,Role Playing Games
ORGANIZER;CN="AFK Games":MAILTO:support@afk-games.com
END:VEVENT
BEGIN:VEVENT
DTSTART;TZID=America/Detroit:20221207T180000
DTEND;TZID=America/Detroit:20221207T210000
DTSTAMP:20260420T154512
CREATED:20220728T225015Z
LAST-MODIFIED:20221119T010743Z
UID:10000234-1670436000-1670446800@afk.games
SUMMARY:Open D&D 5e
DESCRIPTION:Every Wednesday we have open D&D 5e\, starting at 6:00 pm
URL:https://afk.games/event/open-dd-5e-10/2022-12-07/
LOCATION:AFK Games\, 2495 Cedar Street STE 14-B\, Holt\, MI\, 48842\, United States
CATEGORIES:Dungeons and Dragons,Events,Role Playing Games
ORGANIZER;CN="AFK Games":MAILTO:support@afk-games.com
END:VEVENT
BEGIN:VEVENT
DTSTART;TZID=America/Detroit:20221130T180000
DTEND;TZID=America/Detroit:20221130T210000
DTSTAMP:20260420T154512
CREATED:20220728T225015Z
LAST-MODIFIED:20221119T010743Z
UID:10000233-1669831200-1669842000@afk.games
SUMMARY:Open D&D 5e
DESCRIPTION:Every Wednesday we have open D&D 5e\, starting at 6:00 pm
URL:https://afk.games/event/open-dd-5e-10/2022-11-30/
LOCATION:AFK Games\, 2495 Cedar Street STE 14-B\, Holt\, MI\, 48842\, United States
CATEGORIES:Dungeons and Dragons,Events,Role Playing Games
ORGANIZER;CN="AFK Games":MAILTO:support@afk-games.com
END:VEVENT
BEGIN:VEVENT
DTSTART;TZID=America/Detroit:20221123T180000
DTEND;TZID=America/Detroit:20221123T210000
DTSTAMP:20260420T154512
CREATED:20220728T225015Z
LAST-MODIFIED:20221119T010743Z
UID:10000232-1669226400-1669237200@afk.games
SUMMARY:Open D&D 5e
DESCRIPTION:Every Wednesday we have open D&D 5e\, starting at 6:00 pm
URL:https://afk.games/event/open-dd-5e-10/2022-11-23/
LOCATION:AFK Games\, 2495 Cedar Street STE 14-B\, Holt\, MI\, 48842\, United States
CATEGORIES:Dungeons and Dragons,Events,Role Playing Games
ORGANIZER;CN="AFK Games":MAILTO:support@afk-games.com
END:VEVENT
BEGIN:VEVENT
DTSTART;TZID=America/Detroit:20221116T180000
DTEND;TZID=America/Detroit:20221116T210000
DTSTAMP:20260420T154512
CREATED:20220728T225015Z
LAST-MODIFIED:20221119T010743Z
UID:10000231-1668621600-1668632400@afk.games
SUMMARY:Open D&D 5e
DESCRIPTION:Every Wednesday we have open D&D 5e\, starting at 6:00 pm
URL:https://afk.games/event/open-dd-5e-10/2022-11-16/
LOCATION:AFK Games\, 2495 Cedar Street STE 14-B\, Holt\, MI\, 48842\, United States
CATEGORIES:Dungeons and Dragons,Events,Role Playing Games
ORGANIZER;CN="AFK Games":MAILTO:support@afk-games.com
END:VEVENT
BEGIN:VEVENT
DTSTART;TZID=America/Detroit:20221109T180000
DTEND;TZID=America/Detroit:20221109T210000
DTSTAMP:20260420T154512
CREATED:20220728T225015Z
LAST-MODIFIED:20221119T010743Z
UID:10000230-1668016800-1668027600@afk.games
SUMMARY:Open D&D 5e
DESCRIPTION:Every Wednesday we have open D&D 5e\, starting at 6:00 pm
URL:https://afk.games/event/open-dd-5e-10/2022-11-09/
LOCATION:AFK Games\, 2495 Cedar Street STE 14-B\, Holt\, MI\, 48842\, United States
CATEGORIES:Dungeons and Dragons,Events,Role Playing Games
ORGANIZER;CN="AFK Games":MAILTO:support@afk-games.com
END:VEVENT
END:VCALENDAR