BEGIN:VCALENDAR
VERSION:2.0
PRODID:-//AFK Games - ECPv6.15.20//NONSGML v1.0//EN
CALSCALE:GREGORIAN
METHOD:PUBLISH
X-ORIGINAL-URL:https://afk.games
X-WR-CALDESC:Events for AFK Games
REFRESH-INTERVAL;VALUE=DURATION:PT1H
X-Robots-Tag:noindex
X-PUBLISHED-TTL:PT1H
BEGIN:VTIMEZONE
TZID:America/Detroit
BEGIN:DAYLIGHT
TZOFFSETFROM:-0500
TZOFFSETTO:-0400
TZNAME:EDT
DTSTART:20240310T070000
END:DAYLIGHT
BEGIN:STANDARD
TZOFFSETFROM:-0400
TZOFFSETTO:-0500
TZNAME:EST
DTSTART:20241103T060000
END:STANDARD
BEGIN:DAYLIGHT
TZOFFSETFROM:-0500
TZOFFSETTO:-0400
TZNAME:EDT
DTSTART:20250309T070000
END:DAYLIGHT
BEGIN:STANDARD
TZOFFSETFROM:-0400
TZOFFSETTO:-0500
TZNAME:EST
DTSTART:20251102T060000
END:STANDARD
BEGIN:DAYLIGHT
TZOFFSETFROM:-0500
TZOFFSETTO:-0400
TZNAME:EDT
DTSTART:20260308T070000
END:DAYLIGHT
BEGIN:STANDARD
TZOFFSETFROM:-0400
TZOFFSETTO:-0500
TZNAME:EST
DTSTART:20261101T060000
END:STANDARD
END:VTIMEZONE
BEGIN:VEVENT
DTSTART;TZID=America/Detroit:20250907T130000
DTEND;TZID=America/Detroit:20250907T170000
DTSTAMP:20260425T074834
CREATED:20230906T214824Z
LAST-MODIFIED:20241212T203942Z
UID:10003119-1757250000-1757264400@afk.games
SUMMARY:Lorcana League
DESCRIPTION:Join us for our Lorcana League every Sunday at 1:00 pm!
URL:https://afk.games/event/lorcana-open-play/2025-09-07/
LOCATION:AFK Games\, 2495 Cedar Street STE 14-B\, Holt\, MI\, 48842\, United States
CATEGORIES:Events,Lorcana,Ravensburger
ORGANIZER;CN="AFK Games":MAILTO:support@afk-games.com
END:VEVENT
BEGIN:VEVENT
DTSTART;TZID=America/Detroit:20250907T130000
DTEND;TZID=America/Detroit:20250907T170000
DTSTAMP:20260425T074834
CREATED:20260101T205413Z
LAST-MODIFIED:20260101T205413Z
UID:10005449-1757250000-1757264400@afk.games
SUMMARY:Lorcana League
DESCRIPTION:Join us for our Lorcana League every Sunday at 1:00 pm!
URL:https://afk.games/event/lorcana-league/2025-09-07/
LOCATION:AFK Games\, 2495 Cedar Street STE 14-B\, Holt\, MI\, 48842\, United States
CATEGORIES:Events,Lorcana,Ravensburger
ORGANIZER;CN="AFK Games":MAILTO:support@afk-games.com
END:VEVENT
BEGIN:VEVENT
DTSTART;TZID=America/Detroit:20250914T130000
DTEND;TZID=America/Detroit:20250914T170000
DTSTAMP:20260425T074834
CREATED:20230906T214824Z
LAST-MODIFIED:20241212T203942Z
UID:10003120-1757854800-1757869200@afk.games
SUMMARY:Lorcana League
DESCRIPTION:Join us for our Lorcana League every Sunday at 1:00 pm!
URL:https://afk.games/event/lorcana-open-play/2025-09-14/
LOCATION:AFK Games\, 2495 Cedar Street STE 14-B\, Holt\, MI\, 48842\, United States
CATEGORIES:Events,Lorcana,Ravensburger
ORGANIZER;CN="AFK Games":MAILTO:support@afk-games.com
END:VEVENT
BEGIN:VEVENT
DTSTART;TZID=America/Detroit:20250914T130000
DTEND;TZID=America/Detroit:20250914T170000
DTSTAMP:20260425T074834
CREATED:20260101T205413Z
LAST-MODIFIED:20260101T205413Z
UID:10005450-1757854800-1757869200@afk.games
SUMMARY:Lorcana League
DESCRIPTION:Join us for our Lorcana League every Sunday at 1:00 pm!
URL:https://afk.games/event/lorcana-league/2025-09-14/
LOCATION:AFK Games\, 2495 Cedar Street STE 14-B\, Holt\, MI\, 48842\, United States
CATEGORIES:Events,Lorcana,Ravensburger
ORGANIZER;CN="AFK Games":MAILTO:support@afk-games.com
END:VEVENT
BEGIN:VEVENT
DTSTART;TZID=America/Detroit:20250921T130000
DTEND;TZID=America/Detroit:20250921T170000
DTSTAMP:20260425T074834
CREATED:20230906T214824Z
LAST-MODIFIED:20241212T203942Z
UID:10003121-1758459600-1758474000@afk.games
SUMMARY:Lorcana League
DESCRIPTION:Join us for our Lorcana League every Sunday at 1:00 pm!
URL:https://afk.games/event/lorcana-open-play/2025-09-21/
LOCATION:AFK Games\, 2495 Cedar Street STE 14-B\, Holt\, MI\, 48842\, United States
CATEGORIES:Events,Lorcana,Ravensburger
ORGANIZER;CN="AFK Games":MAILTO:support@afk-games.com
END:VEVENT
BEGIN:VEVENT
DTSTART;TZID=America/Detroit:20250921T130000
DTEND;TZID=America/Detroit:20250921T170000
DTSTAMP:20260425T074834
CREATED:20260101T205413Z
LAST-MODIFIED:20260101T205413Z
UID:10005451-1758459600-1758474000@afk.games
SUMMARY:Lorcana League
DESCRIPTION:Join us for our Lorcana League every Sunday at 1:00 pm!
URL:https://afk.games/event/lorcana-league/2025-09-21/
LOCATION:AFK Games\, 2495 Cedar Street STE 14-B\, Holt\, MI\, 48842\, United States
CATEGORIES:Events,Lorcana,Ravensburger
ORGANIZER;CN="AFK Games":MAILTO:support@afk-games.com
END:VEVENT
BEGIN:VEVENT
DTSTART;TZID=America/Detroit:20250928T120000
DTEND;TZID=America/Detroit:20250928T170000
DTSTAMP:20260425T074834
CREATED:20250922T195809Z
LAST-MODIFIED:20250922T195809Z
UID:10004170-1759060800-1759078800@afk.games
SUMMARY:Disney Lorcana - Fabled Sealed Event
DESCRIPTION:TOURNAMENT INFO \nEntry: $40\nDate: September 28th\nDoors: 11:00 am\nStart: 12:00 pm \nTOURNAMENT DETAILS\n \nEach player will receive 4 booster packs of Reign of fabled\, and 2 booster packs of reign of jafar. Each player will have 30 minutes to build their minimum 40 card deck\, following sealed rules for Disney Lorcana. We will then play Swiss rounds based on attendance!\n  \nFormat: Sealed\nDeck building time: 30 Minutes \nStructure: Swiss Rounds \nSwiss Rounds: 50 minutes – best-of-three \nYou can pre-register on Ravensburger Play Hub\nhttps://tcg.ravensburgerplay.com/events/201192 \n Prize Pool: \n3 Booster packs of fabled (while supplies last)  per player go into the prize pool.  \nReign of Jafar will be added once fabled runs out \n\n Each player will receive one booster pack at the end of the tournament.\nThe remaining 2 booster packs per player will go into the prize pool rewarded to the top players in the event.\n\nWe will announce the pack breakdown for top players before the start of round 1 after deckbuilding time has elapsed. 
URL:https://afk.games/event/disney-lorcana-fabled-sealed-event/
LOCATION:AFK Games\, 2495 Cedar Street STE 14-B\, Holt\, MI\, 48842\, United States
CATEGORIES:Events,Lorcana,Ravensburger
ORGANIZER;CN="AFK Games":MAILTO:support@afk-games.com
END:VEVENT
BEGIN:VEVENT
DTSTART;TZID=America/Detroit:20250928T130000
DTEND;TZID=America/Detroit:20250928T170000
DTSTAMP:20260425T074834
CREATED:20230906T214824Z
LAST-MODIFIED:20241212T203942Z
UID:10003122-1759064400-1759078800@afk.games
SUMMARY:Lorcana League
DESCRIPTION:Join us for our Lorcana League every Sunday at 1:00 pm!
URL:https://afk.games/event/lorcana-open-play/2025-09-28/
LOCATION:AFK Games\, 2495 Cedar Street STE 14-B\, Holt\, MI\, 48842\, United States
CATEGORIES:Events,Lorcana,Ravensburger
ORGANIZER;CN="AFK Games":MAILTO:support@afk-games.com
END:VEVENT
BEGIN:VEVENT
DTSTART;TZID=America/Detroit:20250928T130000
DTEND;TZID=America/Detroit:20250928T170000
DTSTAMP:20260425T074834
CREATED:20260101T205413Z
LAST-MODIFIED:20260101T205413Z
UID:10005452-1759064400-1759078800@afk.games
SUMMARY:Lorcana League
DESCRIPTION:Join us for our Lorcana League every Sunday at 1:00 pm!
URL:https://afk.games/event/lorcana-league/2025-09-28/
LOCATION:AFK Games\, 2495 Cedar Street STE 14-B\, Holt\, MI\, 48842\, United States
CATEGORIES:Events,Lorcana,Ravensburger
ORGANIZER;CN="AFK Games":MAILTO:support@afk-games.com
END:VEVENT
BEGIN:VEVENT
DTSTART;TZID=America/Detroit:20251005T130000
DTEND;TZID=America/Detroit:20251005T170000
DTSTAMP:20260425T074834
CREATED:20230906T214824Z
LAST-MODIFIED:20241212T203942Z
UID:10003123-1759669200-1759683600@afk.games
SUMMARY:Lorcana League
DESCRIPTION:Join us for our Lorcana League every Sunday at 1:00 pm!
URL:https://afk.games/event/lorcana-open-play/2025-10-05/
LOCATION:AFK Games\, 2495 Cedar Street STE 14-B\, Holt\, MI\, 48842\, United States
CATEGORIES:Events,Lorcana,Ravensburger
ORGANIZER;CN="AFK Games":MAILTO:support@afk-games.com
END:VEVENT
BEGIN:VEVENT
DTSTART;TZID=America/Detroit:20251005T130000
DTEND;TZID=America/Detroit:20251005T170000
DTSTAMP:20260425T074834
CREATED:20260101T205413Z
LAST-MODIFIED:20260101T205413Z
UID:10005453-1759669200-1759683600@afk.games
SUMMARY:Lorcana League
DESCRIPTION:Join us for our Lorcana League every Sunday at 1:00 pm!
URL:https://afk.games/event/lorcana-league/2025-10-05/
LOCATION:AFK Games\, 2495 Cedar Street STE 14-B\, Holt\, MI\, 48842\, United States
CATEGORIES:Events,Lorcana,Ravensburger
ORGANIZER;CN="AFK Games":MAILTO:support@afk-games.com
END:VEVENT
BEGIN:VEVENT
DTSTART;TZID=America/Detroit:20251012T130000
DTEND;TZID=America/Detroit:20251012T170000
DTSTAMP:20260425T074834
CREATED:20230906T214824Z
LAST-MODIFIED:20241212T203942Z
UID:10003124-1760274000-1760288400@afk.games
SUMMARY:Lorcana League
DESCRIPTION:Join us for our Lorcana League every Sunday at 1:00 pm!
URL:https://afk.games/event/lorcana-open-play/2025-10-12/
LOCATION:AFK Games\, 2495 Cedar Street STE 14-B\, Holt\, MI\, 48842\, United States
CATEGORIES:Events,Lorcana,Ravensburger
ORGANIZER;CN="AFK Games":MAILTO:support@afk-games.com
END:VEVENT
BEGIN:VEVENT
DTSTART;TZID=America/Detroit:20251012T130000
DTEND;TZID=America/Detroit:20251012T170000
DTSTAMP:20260425T074834
CREATED:20260101T205413Z
LAST-MODIFIED:20260101T205413Z
UID:10005454-1760274000-1760288400@afk.games
SUMMARY:Lorcana League
DESCRIPTION:Join us for our Lorcana League every Sunday at 1:00 pm!
URL:https://afk.games/event/lorcana-league/2025-10-12/
LOCATION:AFK Games\, 2495 Cedar Street STE 14-B\, Holt\, MI\, 48842\, United States
CATEGORIES:Events,Lorcana,Ravensburger
ORGANIZER;CN="AFK Games":MAILTO:support@afk-games.com
END:VEVENT
BEGIN:VEVENT
DTSTART;TZID=America/Detroit:20251018T113000
DTEND;TZID=America/Detroit:20251018T190000
DTSTAMP:20260425T074834
CREATED:20250918T234638Z
LAST-MODIFIED:20250918T234638Z
UID:10004169-1760787000-1760814000@afk.games
SUMMARY:Disney Lorcana - Fabled Set Championship
DESCRIPTION:Tournament Format\n\n\n\nFormat: Core (Constructed)\nSwiss Structure:\n\nSwiss Rounds with possible Top Cut\, depending on attendance.\nRound Time: 55 Minutes\nFormat: Best-of-Three\n\n\nSwiss Top Cut Structure:\n\nSingle Elimination bracket.\nRound Time: 70 Minutes\n\n\n\n\n\n\nFinals Round Time: Untimed\n\n\n\n\nFormat: Best-of-Three\n\n\nEntry: $20\nRegistration:\n\nPlayers must submit their decklists prior to [5 Minutes prior to event start].\n\n\n\n\nRules Packet:\nhttps://docs.google.com/document/d/1xIGYljh7bp-Y7c4HR9twCOMonZcAqpwyPPq_P1w1PX4
URL:https://afk.games/event/disney-lorcana-fabled-set-championship/
LOCATION:AFK Games\, 2495 Cedar Street STE 14-B\, Holt\, MI\, 48842\, United States
CATEGORIES:Events,Lorcana,Ravensburger
ORGANIZER;CN="AFK Games":MAILTO:support@afk-games.com
END:VEVENT
BEGIN:VEVENT
DTSTART;TZID=America/Detroit:20251019T130000
DTEND;TZID=America/Detroit:20251019T170000
DTSTAMP:20260425T074834
CREATED:20230906T214824Z
LAST-MODIFIED:20241212T203942Z
UID:10003125-1760878800-1760893200@afk.games
SUMMARY:Lorcana League
DESCRIPTION:Join us for our Lorcana League every Sunday at 1:00 pm!
URL:https://afk.games/event/lorcana-open-play/2025-10-19/
LOCATION:AFK Games\, 2495 Cedar Street STE 14-B\, Holt\, MI\, 48842\, United States
CATEGORIES:Events,Lorcana,Ravensburger
ORGANIZER;CN="AFK Games":MAILTO:support@afk-games.com
END:VEVENT
BEGIN:VEVENT
DTSTART;TZID=America/Detroit:20251019T130000
DTEND;TZID=America/Detroit:20251019T170000
DTSTAMP:20260425T074834
CREATED:20260101T205413Z
LAST-MODIFIED:20260101T205413Z
UID:10005455-1760878800-1760893200@afk.games
SUMMARY:Lorcana League
DESCRIPTION:Join us for our Lorcana League every Sunday at 1:00 pm!
URL:https://afk.games/event/lorcana-league/2025-10-19/
LOCATION:AFK Games\, 2495 Cedar Street STE 14-B\, Holt\, MI\, 48842\, United States
CATEGORIES:Events,Lorcana,Ravensburger
ORGANIZER;CN="AFK Games":MAILTO:support@afk-games.com
END:VEVENT
BEGIN:VEVENT
DTSTART;TZID=America/Detroit:20251026T130000
DTEND;TZID=America/Detroit:20251026T170000
DTSTAMP:20260425T074834
CREATED:20230906T214824Z
LAST-MODIFIED:20241212T203942Z
UID:10003126-1761483600-1761498000@afk.games
SUMMARY:Lorcana League
DESCRIPTION:Join us for our Lorcana League every Sunday at 1:00 pm!
URL:https://afk.games/event/lorcana-open-play/2025-10-26/
LOCATION:AFK Games\, 2495 Cedar Street STE 14-B\, Holt\, MI\, 48842\, United States
CATEGORIES:Events,Lorcana,Ravensburger
ORGANIZER;CN="AFK Games":MAILTO:support@afk-games.com
END:VEVENT
BEGIN:VEVENT
DTSTART;TZID=America/Detroit:20251026T130000
DTEND;TZID=America/Detroit:20251026T170000
DTSTAMP:20260425T074834
CREATED:20260101T205413Z
LAST-MODIFIED:20260101T205413Z
UID:10005456-1761483600-1761498000@afk.games
SUMMARY:Lorcana League
DESCRIPTION:Join us for our Lorcana League every Sunday at 1:00 pm!
URL:https://afk.games/event/lorcana-league/2025-10-26/
LOCATION:AFK Games\, 2495 Cedar Street STE 14-B\, Holt\, MI\, 48842\, United States
CATEGORIES:Events,Lorcana,Ravensburger
ORGANIZER;CN="AFK Games":MAILTO:support@afk-games.com
END:VEVENT
BEGIN:VEVENT
DTSTART;TZID=America/Detroit:20251102T130000
DTEND;TZID=America/Detroit:20251102T170000
DTSTAMP:20260425T074834
CREATED:20230906T214824Z
LAST-MODIFIED:20241212T203942Z
UID:10003127-1762088400-1762102800@afk.games
SUMMARY:Lorcana League
DESCRIPTION:Join us for our Lorcana League every Sunday at 1:00 pm!
URL:https://afk.games/event/lorcana-open-play/2025-11-02/
LOCATION:AFK Games\, 2495 Cedar Street STE 14-B\, Holt\, MI\, 48842\, United States
CATEGORIES:Events,Lorcana,Ravensburger
ORGANIZER;CN="AFK Games":MAILTO:support@afk-games.com
END:VEVENT
BEGIN:VEVENT
DTSTART;TZID=America/Detroit:20251102T130000
DTEND;TZID=America/Detroit:20251102T170000
DTSTAMP:20260425T074834
CREATED:20260101T205413Z
LAST-MODIFIED:20260101T205413Z
UID:10005457-1762088400-1762102800@afk.games
SUMMARY:Lorcana League
DESCRIPTION:Join us for our Lorcana League every Sunday at 1:00 pm!
URL:https://afk.games/event/lorcana-league/2025-11-02/
LOCATION:AFK Games\, 2495 Cedar Street STE 14-B\, Holt\, MI\, 48842\, United States
CATEGORIES:Events,Lorcana,Ravensburger
ORGANIZER;CN="AFK Games":MAILTO:support@afk-games.com
END:VEVENT
BEGIN:VEVENT
DTSTART;TZID=America/Detroit:20251109T130000
DTEND;TZID=America/Detroit:20251109T170000
DTSTAMP:20260425T074834
CREATED:20230906T214824Z
LAST-MODIFIED:20241212T203942Z
UID:10003128-1762693200-1762707600@afk.games
SUMMARY:Lorcana League
DESCRIPTION:Join us for our Lorcana League every Sunday at 1:00 pm!
URL:https://afk.games/event/lorcana-open-play/2025-11-09/
LOCATION:AFK Games\, 2495 Cedar Street STE 14-B\, Holt\, MI\, 48842\, United States
CATEGORIES:Events,Lorcana,Ravensburger
ORGANIZER;CN="AFK Games":MAILTO:support@afk-games.com
END:VEVENT
BEGIN:VEVENT
DTSTART;TZID=America/Detroit:20251109T130000
DTEND;TZID=America/Detroit:20251109T170000
DTSTAMP:20260425T074834
CREATED:20260101T205413Z
LAST-MODIFIED:20260101T205413Z
UID:10005458-1762693200-1762707600@afk.games
SUMMARY:Lorcana League
DESCRIPTION:Join us for our Lorcana League every Sunday at 1:00 pm!
URL:https://afk.games/event/lorcana-league/2025-11-09/
LOCATION:AFK Games\, 2495 Cedar Street STE 14-B\, Holt\, MI\, 48842\, United States
CATEGORIES:Events,Lorcana,Ravensburger
ORGANIZER;CN="AFK Games":MAILTO:support@afk-games.com
END:VEVENT
BEGIN:VEVENT
DTSTART;TZID=America/Detroit:20251116T130000
DTEND;TZID=America/Detroit:20251116T170000
DTSTAMP:20260425T074834
CREATED:20230906T214824Z
LAST-MODIFIED:20241212T203942Z
UID:10003129-1763298000-1763312400@afk.games
SUMMARY:Lorcana League
DESCRIPTION:Join us for our Lorcana League every Sunday at 1:00 pm!
URL:https://afk.games/event/lorcana-open-play/2025-11-16/
LOCATION:AFK Games\, 2495 Cedar Street STE 14-B\, Holt\, MI\, 48842\, United States
CATEGORIES:Events,Lorcana,Ravensburger
ORGANIZER;CN="AFK Games":MAILTO:support@afk-games.com
END:VEVENT
BEGIN:VEVENT
DTSTART;TZID=America/Detroit:20251116T130000
DTEND;TZID=America/Detroit:20251116T170000
DTSTAMP:20260425T074834
CREATED:20260101T205413Z
LAST-MODIFIED:20260101T205413Z
UID:10005459-1763298000-1763312400@afk.games
SUMMARY:Lorcana League
DESCRIPTION:Join us for our Lorcana League every Sunday at 1:00 pm!
URL:https://afk.games/event/lorcana-league/2025-11-16/
LOCATION:AFK Games\, 2495 Cedar Street STE 14-B\, Holt\, MI\, 48842\, United States
CATEGORIES:Events,Lorcana,Ravensburger
ORGANIZER;CN="AFK Games":MAILTO:support@afk-games.com
END:VEVENT
BEGIN:VEVENT
DTSTART;TZID=America/Detroit:20251123T130000
DTEND;TZID=America/Detroit:20251123T170000
DTSTAMP:20260425T074834
CREATED:20230906T214824Z
LAST-MODIFIED:20241212T203942Z
UID:10003130-1763902800-1763917200@afk.games
SUMMARY:Lorcana League
DESCRIPTION:Join us for our Lorcana League every Sunday at 1:00 pm!
URL:https://afk.games/event/lorcana-open-play/2025-11-23/
LOCATION:AFK Games\, 2495 Cedar Street STE 14-B\, Holt\, MI\, 48842\, United States
CATEGORIES:Events,Lorcana,Ravensburger
ORGANIZER;CN="AFK Games":MAILTO:support@afk-games.com
END:VEVENT
BEGIN:VEVENT
DTSTART;TZID=America/Detroit:20251123T130000
DTEND;TZID=America/Detroit:20251123T170000
DTSTAMP:20260425T074834
CREATED:20260101T205413Z
LAST-MODIFIED:20260101T205413Z
UID:10005460-1763902800-1763917200@afk.games
SUMMARY:Lorcana League
DESCRIPTION:Join us for our Lorcana League every Sunday at 1:00 pm!
URL:https://afk.games/event/lorcana-league/2025-11-23/
LOCATION:AFK Games\, 2495 Cedar Street STE 14-B\, Holt\, MI\, 48842\, United States
CATEGORIES:Events,Lorcana,Ravensburger
ORGANIZER;CN="AFK Games":MAILTO:support@afk-games.com
END:VEVENT
BEGIN:VEVENT
DTSTART;TZID=America/Detroit:20251130T130000
DTEND;TZID=America/Detroit:20251130T170000
DTSTAMP:20260425T074834
CREATED:20230906T214824Z
LAST-MODIFIED:20241212T203942Z
UID:10003131-1764507600-1764522000@afk.games
SUMMARY:Lorcana League
DESCRIPTION:Join us for our Lorcana League every Sunday at 1:00 pm!
URL:https://afk.games/event/lorcana-open-play/2025-11-30/
LOCATION:AFK Games\, 2495 Cedar Street STE 14-B\, Holt\, MI\, 48842\, United States
CATEGORIES:Events,Lorcana,Ravensburger
ORGANIZER;CN="AFK Games":MAILTO:support@afk-games.com
END:VEVENT
BEGIN:VEVENT
DTSTART;TZID=America/Detroit:20251130T130000
DTEND;TZID=America/Detroit:20251130T170000
DTSTAMP:20260425T074834
CREATED:20260101T205413Z
LAST-MODIFIED:20260101T205413Z
UID:10005461-1764507600-1764522000@afk.games
SUMMARY:Lorcana League
DESCRIPTION:Join us for our Lorcana League every Sunday at 1:00 pm!
URL:https://afk.games/event/lorcana-league/2025-11-30/
LOCATION:AFK Games\, 2495 Cedar Street STE 14-B\, Holt\, MI\, 48842\, United States
CATEGORIES:Events,Lorcana,Ravensburger
ORGANIZER;CN="AFK Games":MAILTO:support@afk-games.com
END:VEVENT
BEGIN:VEVENT
DTSTART;TZID=America/Detroit:20251207T130000
DTEND;TZID=America/Detroit:20251207T170000
DTSTAMP:20260425T074834
CREATED:20230906T214824Z
LAST-MODIFIED:20241212T203942Z
UID:10003132-1765112400-1765126800@afk.games
SUMMARY:Lorcana League
DESCRIPTION:Join us for our Lorcana League every Sunday at 1:00 pm!
URL:https://afk.games/event/lorcana-open-play/2025-12-07/
LOCATION:AFK Games\, 2495 Cedar Street STE 14-B\, Holt\, MI\, 48842\, United States
CATEGORIES:Events,Lorcana,Ravensburger
ORGANIZER;CN="AFK Games":MAILTO:support@afk-games.com
END:VEVENT
BEGIN:VEVENT
DTSTART;TZID=America/Detroit:20251207T130000
DTEND;TZID=America/Detroit:20251207T170000
DTSTAMP:20260425T074834
CREATED:20260101T205413Z
LAST-MODIFIED:20260101T205413Z
UID:10005462-1765112400-1765126800@afk.games
SUMMARY:Lorcana League
DESCRIPTION:Join us for our Lorcana League every Sunday at 1:00 pm!
URL:https://afk.games/event/lorcana-league/2025-12-07/
LOCATION:AFK Games\, 2495 Cedar Street STE 14-B\, Holt\, MI\, 48842\, United States
CATEGORIES:Events,Lorcana,Ravensburger
ORGANIZER;CN="AFK Games":MAILTO:support@afk-games.com
END:VEVENT
END:VCALENDAR