BEGIN:VCALENDAR
VERSION:2.0
PRODID:-//AFK Games - ECPv6.15.20//NONSGML v1.0//EN
CALSCALE:GREGORIAN
METHOD:PUBLISH
X-ORIGINAL-URL:https://afk.games
X-WR-CALDESC:Events for AFK Games
REFRESH-INTERVAL;VALUE=DURATION:PT1H
X-Robots-Tag:noindex
X-PUBLISHED-TTL:PT1H
BEGIN:VTIMEZONE
TZID:America/Detroit
BEGIN:DAYLIGHT
TZOFFSETFROM:-0500
TZOFFSETTO:-0400
TZNAME:EDT
DTSTART:20250309T070000
END:DAYLIGHT
BEGIN:STANDARD
TZOFFSETFROM:-0400
TZOFFSETTO:-0500
TZNAME:EST
DTSTART:20251102T060000
END:STANDARD
BEGIN:DAYLIGHT
TZOFFSETFROM:-0500
TZOFFSETTO:-0400
TZNAME:EDT
DTSTART:20260308T070000
END:DAYLIGHT
BEGIN:STANDARD
TZOFFSETFROM:-0400
TZOFFSETTO:-0500
TZNAME:EST
DTSTART:20261101T060000
END:STANDARD
BEGIN:DAYLIGHT
TZOFFSETFROM:-0500
TZOFFSETTO:-0400
TZNAME:EDT
DTSTART:20270314T070000
END:DAYLIGHT
BEGIN:STANDARD
TZOFFSETFROM:-0400
TZOFFSETTO:-0500
TZNAME:EST
DTSTART:20271107T060000
END:STANDARD
END:VTIMEZONE
BEGIN:VEVENT
DTSTART;TZID=America/Detroit:20260411T123000
DTEND;TZID=America/Detroit:20260411T190000
DTSTAMP:20260423T022222
CREATED:20260316T202202Z
LAST-MODIFIED:20260316T202202Z
UID:10006056-1775910600-1775934000@afk.games
SUMMARY:Lorcana - Winterspell Set Championship
DESCRIPTION:Tournament Format\n\n\n\nFormat: Core (Constructed)\nSwiss Structure:\n\nSwiss Rounds with possible Top Cut\, depending on attendance.\nRound Time: 55 Minutes\nFormat: Best-of-Three\n\n\nSwiss Top Cut Structure:\n\nSingle Elimination bracket.\nRound Time: 70 Minutes\n\n\n\n\n\n\nFinals Round Time: Untimed\n\n\n\n\nFormat: Best-of-Three\n\n\nEntry: $20\nA filled out deck registration sheet is required for the event\n\n  \nRavensburger Play Hub Link: https://tcg.ravensburgerplay.com/events/386165 \n  \nTo run this event we need a minimum of 8 players. If we have under 8 players we will unfortunately have to cancel the event.\n\n \nPrizes\n  \nParticipation: \n2 Booster Packs of Disney Lorcana \n1 Tinker Bell – Snowflake Collector non-foil promo card (While Supplies Last)\n\nPrizing listed below is just the guaranteed prizing\, there will be additional prizing based on attendance.  \nSwiss Only prizing\nSwiss Only \nChampion: \n1 Tinker Bell – Snowflake Collector Champion playmat\n1 Tinker Bell – Snowflake Collector foil promo card \n1 Booster Boxes of Winterspell \nRunner-Up: \n1 Tinker Bell – Snowflake Collector foil promo card \n3rd/4th place:  \n1 Tinker Bell – Snowflake Collector foil promo card \n5th-8th place  \n1 Tinker Bell – Snowflake Collector foil promo card \nTop Cut prizing\nIf cut is Top 4 \nChampion: \n1 Tinker Bell – Snowflake Collector Champion playmat\n1 Tinker Bell – Snowflake Collector foil promo card \n2 Booster Boxes of Winterspell \nRunner-Up: \n1 Tinker Bell – Snowflake Collector foil promo card \n1 Booster Box of Winterspell \n3rd/4th place:  \n1 Tinker Bell – Snowflake Collector foil promo card \n12 Booster Packs of Winterspell \n5th-8th place  \n1 Tinker Bell – Snowflake Collector foil promo card\n \nIf cut is Top 8\nChampion: \n1 Tinker Bell – Snowflake Collector Champion playmat\n1 Tinker Bell – Snowflake Collector foil promo card \n2 Booster Boxes of Winterspell \nRunner-Up: \n1 Tinker Bell – Snowflake Collector foil promo card \n1 Booster Box of Winterspell \n3rd/4th place:  \n1 Tinker Bell – Snowflake Collector foil promo card \n12 Booster Packs of Winterspell \n5th-8th place \n1 Tinker Bell – Snowflake Collector foil promo card \n6 Booster Packs of Winterspell \nResources \n\nDeck registration sheet: https://cdn.ravensburger.com/lorcana/op-constructed-decklist-registration-sheet \nChampionship rules:\nhttps://files.disneylorcana.com/Winterspell_OPChampionships_Event%20Instructions-EN.pdf
URL:https://afk.games/event/lorcana-winterspell-set-championship/
LOCATION:AFK Games\, 2495 Cedar Street STE 14-B\, Holt\, MI\, 48842\, United States
CATEGORIES:Events,Lorcana,Ravensburger
ORGANIZER;CN="AFK Games":MAILTO:support@afk-games.com
END:VEVENT
BEGIN:VEVENT
DTSTART;TZID=America/Detroit:20260412T130000
DTEND;TZID=America/Detroit:20260412T170000
DTSTAMP:20260423T022222
CREATED:20260101T205413Z
LAST-MODIFIED:20260101T205413Z
UID:10005480-1775998800-1776013200@afk.games
SUMMARY:Lorcana League
DESCRIPTION:Join us for our Lorcana League every Sunday at 1:00 pm!
URL:https://afk.games/event/lorcana-league/2026-04-12/
LOCATION:AFK Games\, 2495 Cedar Street STE 14-B\, Holt\, MI\, 48842\, United States
CATEGORIES:Events,Lorcana,Ravensburger
ORGANIZER;CN="AFK Games":MAILTO:support@afk-games.com
END:VEVENT
BEGIN:VEVENT
DTSTART;TZID=America/Detroit:20260419T130000
DTEND;TZID=America/Detroit:20260419T170000
DTSTAMP:20260423T022222
CREATED:20260101T205413Z
LAST-MODIFIED:20260101T205413Z
UID:10005481-1776603600-1776618000@afk.games
SUMMARY:Lorcana League
DESCRIPTION:Join us for our Lorcana League every Sunday at 1:00 pm!
URL:https://afk.games/event/lorcana-league/2026-04-19/
LOCATION:AFK Games\, 2495 Cedar Street STE 14-B\, Holt\, MI\, 48842\, United States
CATEGORIES:Events,Lorcana,Ravensburger
ORGANIZER;CN="AFK Games":MAILTO:support@afk-games.com
END:VEVENT
BEGIN:VEVENT
DTSTART;TZID=America/Detroit:20260426T130000
DTEND;TZID=America/Detroit:20260426T170000
DTSTAMP:20260423T022222
CREATED:20260101T205413Z
LAST-MODIFIED:20260101T205413Z
UID:10005482-1777208400-1777222800@afk.games
SUMMARY:Lorcana League
DESCRIPTION:Join us for our Lorcana League every Sunday at 1:00 pm!
URL:https://afk.games/event/lorcana-league/2026-04-26/
LOCATION:AFK Games\, 2495 Cedar Street STE 14-B\, Holt\, MI\, 48842\, United States
CATEGORIES:Events,Lorcana,Ravensburger
ORGANIZER;CN="AFK Games":MAILTO:support@afk-games.com
END:VEVENT
BEGIN:VEVENT
DTSTART;TZID=America/Detroit:20260503T130000
DTEND;TZID=America/Detroit:20260503T170000
DTSTAMP:20260423T022222
CREATED:20260101T205413Z
LAST-MODIFIED:20260101T205413Z
UID:10005483-1777813200-1777827600@afk.games
SUMMARY:Lorcana League
DESCRIPTION:Join us for our Lorcana League every Sunday at 1:00 pm!
URL:https://afk.games/event/lorcana-league/2026-05-03/
LOCATION:AFK Games\, 2495 Cedar Street STE 14-B\, Holt\, MI\, 48842\, United States
CATEGORIES:Events,Lorcana,Ravensburger
ORGANIZER;CN="AFK Games":MAILTO:support@afk-games.com
END:VEVENT
BEGIN:VEVENT
DTSTART;TZID=America/Detroit:20260510T130000
DTEND;TZID=America/Detroit:20260510T170000
DTSTAMP:20260423T022222
CREATED:20260101T205413Z
LAST-MODIFIED:20260101T205413Z
UID:10005484-1778418000-1778432400@afk.games
SUMMARY:Lorcana League
DESCRIPTION:Join us for our Lorcana League every Sunday at 1:00 pm!
URL:https://afk.games/event/lorcana-league/2026-05-10/
LOCATION:AFK Games\, 2495 Cedar Street STE 14-B\, Holt\, MI\, 48842\, United States
CATEGORIES:Events,Lorcana,Ravensburger
ORGANIZER;CN="AFK Games":MAILTO:support@afk-games.com
END:VEVENT
BEGIN:VEVENT
DTSTART;TZID=America/Detroit:20260517T130000
DTEND;TZID=America/Detroit:20260517T170000
DTSTAMP:20260423T022222
CREATED:20260101T205413Z
LAST-MODIFIED:20260101T205413Z
UID:10005485-1779022800-1779037200@afk.games
SUMMARY:Lorcana League
DESCRIPTION:Join us for our Lorcana League every Sunday at 1:00 pm!
URL:https://afk.games/event/lorcana-league/2026-05-17/
LOCATION:AFK Games\, 2495 Cedar Street STE 14-B\, Holt\, MI\, 48842\, United States
CATEGORIES:Events,Lorcana,Ravensburger
ORGANIZER;CN="AFK Games":MAILTO:support@afk-games.com
END:VEVENT
BEGIN:VEVENT
DTSTART;TZID=America/Detroit:20260524T130000
DTEND;TZID=America/Detroit:20260524T170000
DTSTAMP:20260423T022222
CREATED:20260101T205413Z
LAST-MODIFIED:20260101T205413Z
UID:10005486-1779627600-1779642000@afk.games
SUMMARY:Lorcana League
DESCRIPTION:Join us for our Lorcana League every Sunday at 1:00 pm!
URL:https://afk.games/event/lorcana-league/2026-05-24/
LOCATION:AFK Games\, 2495 Cedar Street STE 14-B\, Holt\, MI\, 48842\, United States
CATEGORIES:Events,Lorcana,Ravensburger
ORGANIZER;CN="AFK Games":MAILTO:support@afk-games.com
END:VEVENT
BEGIN:VEVENT
DTSTART;TZID=America/Detroit:20260531T130000
DTEND;TZID=America/Detroit:20260531T170000
DTSTAMP:20260423T022222
CREATED:20260101T205413Z
LAST-MODIFIED:20260101T205413Z
UID:10005487-1780232400-1780246800@afk.games
SUMMARY:Lorcana League
DESCRIPTION:Join us for our Lorcana League every Sunday at 1:00 pm!
URL:https://afk.games/event/lorcana-league/2026-05-31/
LOCATION:AFK Games\, 2495 Cedar Street STE 14-B\, Holt\, MI\, 48842\, United States
CATEGORIES:Events,Lorcana,Ravensburger
ORGANIZER;CN="AFK Games":MAILTO:support@afk-games.com
END:VEVENT
BEGIN:VEVENT
DTSTART;TZID=America/Detroit:20260607T130000
DTEND;TZID=America/Detroit:20260607T170000
DTSTAMP:20260423T022222
CREATED:20260101T205413Z
LAST-MODIFIED:20260101T205413Z
UID:10005488-1780837200-1780851600@afk.games
SUMMARY:Lorcana League
DESCRIPTION:Join us for our Lorcana League every Sunday at 1:00 pm!
URL:https://afk.games/event/lorcana-league/2026-06-07/
LOCATION:AFK Games\, 2495 Cedar Street STE 14-B\, Holt\, MI\, 48842\, United States
CATEGORIES:Events,Lorcana,Ravensburger
ORGANIZER;CN="AFK Games":MAILTO:support@afk-games.com
END:VEVENT
BEGIN:VEVENT
DTSTART;TZID=America/Detroit:20260614T130000
DTEND;TZID=America/Detroit:20260614T170000
DTSTAMP:20260423T022222
CREATED:20260101T205413Z
LAST-MODIFIED:20260101T205413Z
UID:10005489-1781442000-1781456400@afk.games
SUMMARY:Lorcana League
DESCRIPTION:Join us for our Lorcana League every Sunday at 1:00 pm!
URL:https://afk.games/event/lorcana-league/2026-06-14/
LOCATION:AFK Games\, 2495 Cedar Street STE 14-B\, Holt\, MI\, 48842\, United States
CATEGORIES:Events,Lorcana,Ravensburger
ORGANIZER;CN="AFK Games":MAILTO:support@afk-games.com
END:VEVENT
BEGIN:VEVENT
DTSTART;TZID=America/Detroit:20260621T130000
DTEND;TZID=America/Detroit:20260621T170000
DTSTAMP:20260423T022222
CREATED:20260101T205413Z
LAST-MODIFIED:20260101T205413Z
UID:10005490-1782046800-1782061200@afk.games
SUMMARY:Lorcana League
DESCRIPTION:Join us for our Lorcana League every Sunday at 1:00 pm!
URL:https://afk.games/event/lorcana-league/2026-06-21/
LOCATION:AFK Games\, 2495 Cedar Street STE 14-B\, Holt\, MI\, 48842\, United States
CATEGORIES:Events,Lorcana,Ravensburger
ORGANIZER;CN="AFK Games":MAILTO:support@afk-games.com
END:VEVENT
BEGIN:VEVENT
DTSTART;TZID=America/Detroit:20260628T130000
DTEND;TZID=America/Detroit:20260628T170000
DTSTAMP:20260423T022222
CREATED:20260101T205413Z
LAST-MODIFIED:20260101T205413Z
UID:10005491-1782651600-1782666000@afk.games
SUMMARY:Lorcana League
DESCRIPTION:Join us for our Lorcana League every Sunday at 1:00 pm!
URL:https://afk.games/event/lorcana-league/2026-06-28/
LOCATION:AFK Games\, 2495 Cedar Street STE 14-B\, Holt\, MI\, 48842\, United States
CATEGORIES:Events,Lorcana,Ravensburger
ORGANIZER;CN="AFK Games":MAILTO:support@afk-games.com
END:VEVENT
BEGIN:VEVENT
DTSTART;TZID=America/Detroit:20260705T130000
DTEND;TZID=America/Detroit:20260705T170000
DTSTAMP:20260423T022222
CREATED:20260101T205413Z
LAST-MODIFIED:20260101T205413Z
UID:10005492-1783256400-1783270800@afk.games
SUMMARY:Lorcana League
DESCRIPTION:Join us for our Lorcana League every Sunday at 1:00 pm!
URL:https://afk.games/event/lorcana-league/2026-07-05/
LOCATION:AFK Games\, 2495 Cedar Street STE 14-B\, Holt\, MI\, 48842\, United States
CATEGORIES:Events,Lorcana,Ravensburger
ORGANIZER;CN="AFK Games":MAILTO:support@afk-games.com
END:VEVENT
BEGIN:VEVENT
DTSTART;TZID=America/Detroit:20260712T130000
DTEND;TZID=America/Detroit:20260712T170000
DTSTAMP:20260423T022222
CREATED:20260101T205413Z
LAST-MODIFIED:20260101T205413Z
UID:10005493-1783861200-1783875600@afk.games
SUMMARY:Lorcana League
DESCRIPTION:Join us for our Lorcana League every Sunday at 1:00 pm!
URL:https://afk.games/event/lorcana-league/2026-07-12/
LOCATION:AFK Games\, 2495 Cedar Street STE 14-B\, Holt\, MI\, 48842\, United States
CATEGORIES:Events,Lorcana,Ravensburger
ORGANIZER;CN="AFK Games":MAILTO:support@afk-games.com
END:VEVENT
BEGIN:VEVENT
DTSTART;TZID=America/Detroit:20260719T130000
DTEND;TZID=America/Detroit:20260719T170000
DTSTAMP:20260423T022222
CREATED:20260101T205413Z
LAST-MODIFIED:20260101T205413Z
UID:10005494-1784466000-1784480400@afk.games
SUMMARY:Lorcana League
DESCRIPTION:Join us for our Lorcana League every Sunday at 1:00 pm!
URL:https://afk.games/event/lorcana-league/2026-07-19/
LOCATION:AFK Games\, 2495 Cedar Street STE 14-B\, Holt\, MI\, 48842\, United States
CATEGORIES:Events,Lorcana,Ravensburger
ORGANIZER;CN="AFK Games":MAILTO:support@afk-games.com
END:VEVENT
BEGIN:VEVENT
DTSTART;TZID=America/Detroit:20260726T130000
DTEND;TZID=America/Detroit:20260726T170000
DTSTAMP:20260423T022222
CREATED:20260101T205413Z
LAST-MODIFIED:20260101T205413Z
UID:10005495-1785070800-1785085200@afk.games
SUMMARY:Lorcana League
DESCRIPTION:Join us for our Lorcana League every Sunday at 1:00 pm!
URL:https://afk.games/event/lorcana-league/2026-07-26/
LOCATION:AFK Games\, 2495 Cedar Street STE 14-B\, Holt\, MI\, 48842\, United States
CATEGORIES:Events,Lorcana,Ravensburger
ORGANIZER;CN="AFK Games":MAILTO:support@afk-games.com
END:VEVENT
BEGIN:VEVENT
DTSTART;TZID=America/Detroit:20260802T130000
DTEND;TZID=America/Detroit:20260802T170000
DTSTAMP:20260423T022222
CREATED:20260101T205413Z
LAST-MODIFIED:20260101T205413Z
UID:10005496-1785675600-1785690000@afk.games
SUMMARY:Lorcana League
DESCRIPTION:Join us for our Lorcana League every Sunday at 1:00 pm!
URL:https://afk.games/event/lorcana-league/2026-08-02/
LOCATION:AFK Games\, 2495 Cedar Street STE 14-B\, Holt\, MI\, 48842\, United States
CATEGORIES:Events,Lorcana,Ravensburger
ORGANIZER;CN="AFK Games":MAILTO:support@afk-games.com
END:VEVENT
BEGIN:VEVENT
DTSTART;TZID=America/Detroit:20260809T130000
DTEND;TZID=America/Detroit:20260809T170000
DTSTAMP:20260423T022222
CREATED:20260101T205413Z
LAST-MODIFIED:20260101T205413Z
UID:10005497-1786280400-1786294800@afk.games
SUMMARY:Lorcana League
DESCRIPTION:Join us for our Lorcana League every Sunday at 1:00 pm!
URL:https://afk.games/event/lorcana-league/2026-08-09/
LOCATION:AFK Games\, 2495 Cedar Street STE 14-B\, Holt\, MI\, 48842\, United States
CATEGORIES:Events,Lorcana,Ravensburger
ORGANIZER;CN="AFK Games":MAILTO:support@afk-games.com
END:VEVENT
BEGIN:VEVENT
DTSTART;TZID=America/Detroit:20260816T130000
DTEND;TZID=America/Detroit:20260816T170000
DTSTAMP:20260423T022222
CREATED:20260101T205413Z
LAST-MODIFIED:20260101T205413Z
UID:10005498-1786885200-1786899600@afk.games
SUMMARY:Lorcana League
DESCRIPTION:Join us for our Lorcana League every Sunday at 1:00 pm!
URL:https://afk.games/event/lorcana-league/2026-08-16/
LOCATION:AFK Games\, 2495 Cedar Street STE 14-B\, Holt\, MI\, 48842\, United States
CATEGORIES:Events,Lorcana,Ravensburger
ORGANIZER;CN="AFK Games":MAILTO:support@afk-games.com
END:VEVENT
BEGIN:VEVENT
DTSTART;TZID=America/Detroit:20260823T130000
DTEND;TZID=America/Detroit:20260823T170000
DTSTAMP:20260423T022222
CREATED:20260101T205413Z
LAST-MODIFIED:20260101T205413Z
UID:10005499-1787490000-1787504400@afk.games
SUMMARY:Lorcana League
DESCRIPTION:Join us for our Lorcana League every Sunday at 1:00 pm!
URL:https://afk.games/event/lorcana-league/2026-08-23/
LOCATION:AFK Games\, 2495 Cedar Street STE 14-B\, Holt\, MI\, 48842\, United States
CATEGORIES:Events,Lorcana,Ravensburger
ORGANIZER;CN="AFK Games":MAILTO:support@afk-games.com
END:VEVENT
BEGIN:VEVENT
DTSTART;TZID=America/Detroit:20260830T130000
DTEND;TZID=America/Detroit:20260830T170000
DTSTAMP:20260423T022222
CREATED:20260101T205413Z
LAST-MODIFIED:20260101T205413Z
UID:10005500-1788094800-1788109200@afk.games
SUMMARY:Lorcana League
DESCRIPTION:Join us for our Lorcana League every Sunday at 1:00 pm!
URL:https://afk.games/event/lorcana-league/2026-08-30/
LOCATION:AFK Games\, 2495 Cedar Street STE 14-B\, Holt\, MI\, 48842\, United States
CATEGORIES:Events,Lorcana,Ravensburger
ORGANIZER;CN="AFK Games":MAILTO:support@afk-games.com
END:VEVENT
BEGIN:VEVENT
DTSTART;TZID=America/Detroit:20260906T130000
DTEND;TZID=America/Detroit:20260906T170000
DTSTAMP:20260423T022222
CREATED:20260101T205413Z
LAST-MODIFIED:20260101T205413Z
UID:10005501-1788699600-1788714000@afk.games
SUMMARY:Lorcana League
DESCRIPTION:Join us for our Lorcana League every Sunday at 1:00 pm!
URL:https://afk.games/event/lorcana-league/2026-09-06/
LOCATION:AFK Games\, 2495 Cedar Street STE 14-B\, Holt\, MI\, 48842\, United States
CATEGORIES:Events,Lorcana,Ravensburger
ORGANIZER;CN="AFK Games":MAILTO:support@afk-games.com
END:VEVENT
BEGIN:VEVENT
DTSTART;TZID=America/Detroit:20260913T130000
DTEND;TZID=America/Detroit:20260913T170000
DTSTAMP:20260423T022222
CREATED:20260101T205413Z
LAST-MODIFIED:20260101T205413Z
UID:10005502-1789304400-1789318800@afk.games
SUMMARY:Lorcana League
DESCRIPTION:Join us for our Lorcana League every Sunday at 1:00 pm!
URL:https://afk.games/event/lorcana-league/2026-09-13/
LOCATION:AFK Games\, 2495 Cedar Street STE 14-B\, Holt\, MI\, 48842\, United States
CATEGORIES:Events,Lorcana,Ravensburger
ORGANIZER;CN="AFK Games":MAILTO:support@afk-games.com
END:VEVENT
BEGIN:VEVENT
DTSTART;TZID=America/Detroit:20260920T130000
DTEND;TZID=America/Detroit:20260920T170000
DTSTAMP:20260423T022222
CREATED:20260101T205413Z
LAST-MODIFIED:20260101T205413Z
UID:10005503-1789909200-1789923600@afk.games
SUMMARY:Lorcana League
DESCRIPTION:Join us for our Lorcana League every Sunday at 1:00 pm!
URL:https://afk.games/event/lorcana-league/2026-09-20/
LOCATION:AFK Games\, 2495 Cedar Street STE 14-B\, Holt\, MI\, 48842\, United States
CATEGORIES:Events,Lorcana,Ravensburger
ORGANIZER;CN="AFK Games":MAILTO:support@afk-games.com
END:VEVENT
BEGIN:VEVENT
DTSTART;TZID=America/Detroit:20260927T130000
DTEND;TZID=America/Detroit:20260927T170000
DTSTAMP:20260423T022222
CREATED:20260101T205413Z
LAST-MODIFIED:20260101T205413Z
UID:10005504-1790514000-1790528400@afk.games
SUMMARY:Lorcana League
DESCRIPTION:Join us for our Lorcana League every Sunday at 1:00 pm!
URL:https://afk.games/event/lorcana-league/2026-09-27/
LOCATION:AFK Games\, 2495 Cedar Street STE 14-B\, Holt\, MI\, 48842\, United States
CATEGORIES:Events,Lorcana,Ravensburger
ORGANIZER;CN="AFK Games":MAILTO:support@afk-games.com
END:VEVENT
BEGIN:VEVENT
DTSTART;TZID=America/Detroit:20261004T130000
DTEND;TZID=America/Detroit:20261004T170000
DTSTAMP:20260423T022222
CREATED:20260101T205413Z
LAST-MODIFIED:20260101T205413Z
UID:10005505-1791118800-1791133200@afk.games
SUMMARY:Lorcana League
DESCRIPTION:Join us for our Lorcana League every Sunday at 1:00 pm!
URL:https://afk.games/event/lorcana-league/2026-10-04/
LOCATION:AFK Games\, 2495 Cedar Street STE 14-B\, Holt\, MI\, 48842\, United States
CATEGORIES:Events,Lorcana,Ravensburger
ORGANIZER;CN="AFK Games":MAILTO:support@afk-games.com
END:VEVENT
BEGIN:VEVENT
DTSTART;TZID=America/Detroit:20261011T130000
DTEND;TZID=America/Detroit:20261011T170000
DTSTAMP:20260423T022222
CREATED:20260101T205413Z
LAST-MODIFIED:20260101T205413Z
UID:10005506-1791723600-1791738000@afk.games
SUMMARY:Lorcana League
DESCRIPTION:Join us for our Lorcana League every Sunday at 1:00 pm!
URL:https://afk.games/event/lorcana-league/2026-10-11/
LOCATION:AFK Games\, 2495 Cedar Street STE 14-B\, Holt\, MI\, 48842\, United States
CATEGORIES:Events,Lorcana,Ravensburger
ORGANIZER;CN="AFK Games":MAILTO:support@afk-games.com
END:VEVENT
BEGIN:VEVENT
DTSTART;TZID=America/Detroit:20261018T130000
DTEND;TZID=America/Detroit:20261018T170000
DTSTAMP:20260423T022222
CREATED:20260101T205413Z
LAST-MODIFIED:20260101T205413Z
UID:10005507-1792328400-1792342800@afk.games
SUMMARY:Lorcana League
DESCRIPTION:Join us for our Lorcana League every Sunday at 1:00 pm!
URL:https://afk.games/event/lorcana-league/2026-10-18/
LOCATION:AFK Games\, 2495 Cedar Street STE 14-B\, Holt\, MI\, 48842\, United States
CATEGORIES:Events,Lorcana,Ravensburger
ORGANIZER;CN="AFK Games":MAILTO:support@afk-games.com
END:VEVENT
BEGIN:VEVENT
DTSTART;TZID=America/Detroit:20261025T130000
DTEND;TZID=America/Detroit:20261025T170000
DTSTAMP:20260423T022222
CREATED:20260101T205413Z
LAST-MODIFIED:20260101T205413Z
UID:10005508-1792933200-1792947600@afk.games
SUMMARY:Lorcana League
DESCRIPTION:Join us for our Lorcana League every Sunday at 1:00 pm!
URL:https://afk.games/event/lorcana-league/2026-10-25/
LOCATION:AFK Games\, 2495 Cedar Street STE 14-B\, Holt\, MI\, 48842\, United States
CATEGORIES:Events,Lorcana,Ravensburger
ORGANIZER;CN="AFK Games":MAILTO:support@afk-games.com
END:VEVENT
END:VCALENDAR