BEGIN:VCALENDAR
VERSION:2.0
PRODID:-//AFK Games - ECPv6.15.20//NONSGML v1.0//EN
CALSCALE:GREGORIAN
METHOD:PUBLISH
X-ORIGINAL-URL:https://afk.games
X-WR-CALDESC:Events for AFK Games
REFRESH-INTERVAL;VALUE=DURATION:PT1H
X-Robots-Tag:noindex
X-PUBLISHED-TTL:PT1H
BEGIN:VTIMEZONE
TZID:America/Detroit
BEGIN:DAYLIGHT
TZOFFSETFROM:-0500
TZOFFSETTO:-0400
TZNAME:EDT
DTSTART:20220313T070000
END:DAYLIGHT
BEGIN:STANDARD
TZOFFSETFROM:-0400
TZOFFSETTO:-0500
TZNAME:EST
DTSTART:20221106T060000
END:STANDARD
BEGIN:DAYLIGHT
TZOFFSETFROM:-0500
TZOFFSETTO:-0400
TZNAME:EDT
DTSTART:20230312T070000
END:DAYLIGHT
BEGIN:STANDARD
TZOFFSETFROM:-0400
TZOFFSETTO:-0500
TZNAME:EST
DTSTART:20231105T060000
END:STANDARD
BEGIN:DAYLIGHT
TZOFFSETFROM:-0500
TZOFFSETTO:-0400
TZNAME:EDT
DTSTART:20240310T070000
END:DAYLIGHT
BEGIN:STANDARD
TZOFFSETFROM:-0400
TZOFFSETTO:-0500
TZNAME:EST
DTSTART:20241103T060000
END:STANDARD
END:VTIMEZONE
BEGIN:VEVENT
DTSTART;TZID=America/Detroit:20231203T080000
DTEND;TZID=America/Detroit:20231203T170000
DTSTAMP:20260423T181818
CREATED:20231119T013514Z
LAST-MODIFIED:20231119T013515Z
UID:10002000-1701590400-1701622800@afk.games
SUMMARY:Disney Lorcana Tournament
DESCRIPTION:Registration: $30\nSwiss rounds based on attendance.\nTournament rules can be found at https://cdn.ravensburger.com/lorcana/tournament-rules\nPrinted/written/online submitted decklists will be required to be given to the Tournament Organizer before the start of round 1\nPlayer meeting at 12:30 p.m.\nTournament Schedule\nDoors will open at 12:00 p.m.\nRegistration ends at 12:30 p.m.\nThe player meeting will commence at 12:30 p.m. with our tournament organizer\, followed by the start of round 1.\nEvery entry is $36 into the store credit prize pool.\nPrizes:\n1st – 30% of Store Credit pool\n2nd – 20% of Store Credit pool\n3/4th – 10% of Store Credit pool\n30% of the Store Credit pool will be used for raffle door prizes.
URL:https://afk.games/event/disney-lorcana-tournament/
LOCATION:AFK Games\, 2495 Cedar Street STE 14-B\, Holt\, MI\, 48842\, United States
CATEGORIES:Lorcana,Ravensburger
ORGANIZER;CN="AFK Games":MAILTO:support@afk-games.com
END:VEVENT
BEGIN:VEVENT
DTSTART;TZID=America/Detroit:20231203T130000
DTEND;TZID=America/Detroit:20231203T170000
DTSTAMP:20260423T181818
CREATED:20230906T214824Z
LAST-MODIFIED:20241212T203942Z
UID:10001822-1701608400-1701622800@afk.games
SUMMARY:Lorcana League
DESCRIPTION:Join us for our Lorcana League every Sunday at 1:00 pm!
URL:https://afk.games/event/lorcana-open-play/2023-12-03/
LOCATION:AFK Games\, 2495 Cedar Street STE 14-B\, Holt\, MI\, 48842\, United States
CATEGORIES:Events,Lorcana,Ravensburger
ORGANIZER;CN="AFK Games":MAILTO:support@afk-games.com
END:VEVENT
BEGIN:VEVENT
DTSTART;TZID=America/Detroit:20231203T130000
DTEND;TZID=America/Detroit:20231203T170000
DTSTAMP:20260423T181818
CREATED:20260101T205413Z
LAST-MODIFIED:20260101T205413Z
UID:10005357-1701608400-1701622800@afk.games
SUMMARY:Lorcana League
DESCRIPTION:Join us for our Lorcana League every Sunday at 1:00 pm!
URL:https://afk.games/event/lorcana-league/2023-12-03/
LOCATION:AFK Games\, 2495 Cedar Street STE 14-B\, Holt\, MI\, 48842\, United States
CATEGORIES:Events,Lorcana,Ravensburger
ORGANIZER;CN="AFK Games":MAILTO:support@afk-games.com
END:VEVENT
END:VCALENDAR