BEGIN:VCALENDAR
VERSION:2.0
PRODID:-//AFK Games - ECPv6.15.20//NONSGML v1.0//EN
CALSCALE:GREGORIAN
METHOD:PUBLISH
X-ORIGINAL-URL:https://afk.games
X-WR-CALDESC:Events for AFK Games
REFRESH-INTERVAL;VALUE=DURATION:PT1H
X-Robots-Tag:noindex
X-PUBLISHED-TTL:PT1H
BEGIN:VTIMEZONE
TZID:America/Detroit
BEGIN:DAYLIGHT
TZOFFSETFROM:-0500
TZOFFSETTO:-0400
TZNAME:EDT
DTSTART:20240310T070000
END:DAYLIGHT
BEGIN:STANDARD
TZOFFSETFROM:-0400
TZOFFSETTO:-0500
TZNAME:EST
DTSTART:20241103T060000
END:STANDARD
BEGIN:DAYLIGHT
TZOFFSETFROM:-0500
TZOFFSETTO:-0400
TZNAME:EDT
DTSTART:20250309T070000
END:DAYLIGHT
BEGIN:STANDARD
TZOFFSETFROM:-0400
TZOFFSETTO:-0500
TZNAME:EST
DTSTART:20251102T060000
END:STANDARD
BEGIN:DAYLIGHT
TZOFFSETFROM:-0500
TZOFFSETTO:-0400
TZNAME:EDT
DTSTART:20260308T070000
END:DAYLIGHT
BEGIN:STANDARD
TZOFFSETFROM:-0400
TZOFFSETTO:-0500
TZNAME:EST
DTSTART:20261101T060000
END:STANDARD
END:VTIMEZONE
BEGIN:VEVENT
DTSTART;TZID=America/Detroit:20250307T183000
DTEND;TZID=America/Detroit:20250307T220000
DTSTAMP:20260420T210339
CREATED:20250222T232444Z
LAST-MODIFIED:20250222T232444Z
UID:10003765-1741372200-1741384800@afk.games
SUMMARY:Disney Lorcana - Archazia's Island Release Event
DESCRIPTION:Disney Lorcana: Archazia’s Island Arrives at AFK Games on March 7th! \n📅 Date: Thursday\, March 7th🕡 Time: 6:30 PM (Round 1 starts promptly)📍 Location: AFK Games \n🌴 Welcome to Archazia’s Island\, a land filled with friendly pets and an ancient secret waiting to be uncovered… \nJoin us for our release event\, featuring two separate ways to play: \nMatched Play Tournament – A structured event with Swiss rounds and rankings.\nCasual Open Play – A relaxed format where you can play at your own pace.\n💰 Entry Fee: $40 (same for both events)🏆 Prizes: Each event has its own prize pool\, with a total value greater than the entry fee. \nCasual Open Play\nThis event is perfect for players who want to enjoy the new set without the pressure of a structured tournament. Play as much or as little as you like! \n🔹 What You Get with Entry: \n\nArchazia’s Island Starter Deck (60 cards) – includes 1 sealed booster pack of Azurite Seas\n3 additional Archazia’s Island booster packs\n\n🔹 How It Works: \n\nNo assigned pairings—simply find other participants and play at your own pace.\nExplore the new cards freely\, whether playing or just checking them out.\nPrize Drawing: At the end of the event\, every player’s name will be entered into a random drawing. Players will take turns picking from the prize pool in the order their name is drawn.\n\nA fun and relaxed way to experience Archazia’s Island early! \nMatched Play Tournament\nAll players start with a starter deck and one booster pack. Before the event begins\, you’ll have 10 minutes to modify your deck using cards from your booster pack. \n🔹 Tournament Rules: \n\nSwiss Format – 3 Rounds (Everyone plays all rounds)\nBest-of-two games per match\nPairings handled through Melee (official tournament software)\nBetween rounds\, you may further modify your deck using the cards you opened (no extra time provided).\n\n🔹 Prizes: \n\nAwarded to the top 50% of players based on performance.\nPrize pool has both a higher floor and lower ceiling compared to other formats.\n\nCome join the fun\, experience the new set early\, and enjoy a night of Lorcana!
URL:https://afk.games/event/disney-lorcana-archazias-island-release-event/
LOCATION:AFK Games\, 2495 Cedar Street STE 14-B\, Holt\, MI\, 48842\, United States
CATEGORIES:Events,Lorcana,Ravensburger
ORGANIZER;CN="AFK Games":MAILTO:support@afk-games.com
END:VEVENT
END:VCALENDAR