BEGIN:VCALENDAR
VERSION:2.0
PRODID:-//AFK Games - ECPv6.15.20//NONSGML v1.0//EN
CALSCALE:GREGORIAN
METHOD:PUBLISH
X-WR-CALNAME:AFK Games
X-ORIGINAL-URL:https://afk.games
X-WR-CALDESC:Events for AFK Games
REFRESH-INTERVAL;VALUE=DURATION:PT1H
X-Robots-Tag:noindex
X-PUBLISHED-TTL:PT1H
BEGIN:VTIMEZONE
TZID:America/Detroit
BEGIN:DAYLIGHT
TZOFFSETFROM:-0500
TZOFFSETTO:-0400
TZNAME:EDT
DTSTART:20230312T070000
END:DAYLIGHT
BEGIN:STANDARD
TZOFFSETFROM:-0400
TZOFFSETTO:-0500
TZNAME:EST
DTSTART:20231105T060000
END:STANDARD
BEGIN:DAYLIGHT
TZOFFSETFROM:-0500
TZOFFSETTO:-0400
TZNAME:EDT
DTSTART:20240310T070000
END:DAYLIGHT
BEGIN:STANDARD
TZOFFSETFROM:-0400
TZOFFSETTO:-0500
TZNAME:EST
DTSTART:20241103T060000
END:STANDARD
BEGIN:DAYLIGHT
TZOFFSETFROM:-0500
TZOFFSETTO:-0400
TZNAME:EDT
DTSTART:20250309T070000
END:DAYLIGHT
BEGIN:STANDARD
TZOFFSETFROM:-0400
TZOFFSETTO:-0500
TZNAME:EST
DTSTART:20251102T060000
END:STANDARD
END:VTIMEZONE
BEGIN:VEVENT
DTSTART;TZID=America/Detroit:20241006T130000
DTEND;TZID=America/Detroit:20241006T170000
DTSTAMP:20260421T141552
CREATED:20230906T214824Z
LAST-MODIFIED:20241212T203942Z
UID:10003071-1728219600-1728234000@afk.games
SUMMARY:Lorcana League
DESCRIPTION:Join us for our Lorcana League every Sunday at 1:00 pm!
URL:https://afk.games/event/lorcana-open-play/2024-10-06/
LOCATION:AFK Games\, 2495 Cedar Street STE 14-B\, Holt\, MI\, 48842\, United States
CATEGORIES:Events,Lorcana,Ravensburger
ORGANIZER;CN="AFK Games":MAILTO:support@afk-games.com
END:VEVENT
BEGIN:VEVENT
DTSTART;TZID=America/Detroit:20241006T130000
DTEND;TZID=America/Detroit:20241006T170000
DTSTAMP:20260421T141552
CREATED:20260101T205413Z
LAST-MODIFIED:20260101T205413Z
UID:10005401-1728219600-1728234000@afk.games
SUMMARY:Lorcana League
DESCRIPTION:Join us for our Lorcana League every Sunday at 1:00 pm!
URL:https://afk.games/event/lorcana-league/2024-10-06/
LOCATION:AFK Games\, 2495 Cedar Street STE 14-B\, Holt\, MI\, 48842\, United States
CATEGORIES:Events,Lorcana,Ravensburger
ORGANIZER;CN="AFK Games":MAILTO:support@afk-games.com
END:VEVENT
BEGIN:VEVENT
DTSTART;TZID=America/Detroit:20241013T130000
DTEND;TZID=America/Detroit:20241013T170000
DTSTAMP:20260421T141552
CREATED:20230906T214824Z
LAST-MODIFIED:20241212T203942Z
UID:10003072-1728824400-1728838800@afk.games
SUMMARY:Lorcana League
DESCRIPTION:Join us for our Lorcana League every Sunday at 1:00 pm!
URL:https://afk.games/event/lorcana-open-play/2024-10-13/
LOCATION:AFK Games\, 2495 Cedar Street STE 14-B\, Holt\, MI\, 48842\, United States
CATEGORIES:Events,Lorcana,Ravensburger
ORGANIZER;CN="AFK Games":MAILTO:support@afk-games.com
END:VEVENT
BEGIN:VEVENT
DTSTART;TZID=America/Detroit:20241013T130000
DTEND;TZID=America/Detroit:20241013T170000
DTSTAMP:20260421T141552
CREATED:20260101T205413Z
LAST-MODIFIED:20260101T205413Z
UID:10005402-1728824400-1728838800@afk.games
SUMMARY:Lorcana League
DESCRIPTION:Join us for our Lorcana League every Sunday at 1:00 pm!
URL:https://afk.games/event/lorcana-league/2024-10-13/
LOCATION:AFK Games\, 2495 Cedar Street STE 14-B\, Holt\, MI\, 48842\, United States
CATEGORIES:Events,Lorcana,Ravensburger
ORGANIZER;CN="AFK Games":MAILTO:support@afk-games.com
END:VEVENT
BEGIN:VEVENT
DTSTART;TZID=America/Detroit:20241019T120000
DTEND;TZID=America/Detroit:20241019T193000
DTSTAMP:20260421T141552
CREATED:20240912T204430Z
LAST-MODIFIED:20240912T204430Z
UID:10003050-1729339200-1729366200@afk.games
SUMMARY:Disney Lorcana - Shimmering Skies - Store Championship
DESCRIPTION:Entry: $20 \nChampion: The winner receives: \n\n1 Mirabel Madrigal — Family Gatherer Champion Playmat\n1 Mirabel Madrigal — Family Gatherer promo card\n\nRunner-Up: The second-place finisher receives: \n\n1 Mirabel Madrigal — Family Gatherer Playmat\n\n1 Mirabel Madrigal — Family Gatherer promo card\n\n\n\nThird- through Eighth-Place Finishers each receive: \n\n1 Mirabel Madrigal — Family Gatherer promo card\n\nAdditional product for top players.
URL:https://afk.games/event/disney-lorcana-shimmering-skies-store-championship/
LOCATION:AFK Games\, 2495 Cedar Street STE 14-B\, Holt\, MI\, 48842\, United States
CATEGORIES:Events,Lorcana,Ravensburger
ORGANIZER;CN="AFK Games":MAILTO:support@afk-games.com
END:VEVENT
BEGIN:VEVENT
DTSTART;TZID=America/Detroit:20241020T130000
DTEND;TZID=America/Detroit:20241020T170000
DTSTAMP:20260421T141552
CREATED:20230906T214824Z
LAST-MODIFIED:20241212T203942Z
UID:10003073-1729429200-1729443600@afk.games
SUMMARY:Lorcana League
DESCRIPTION:Join us for our Lorcana League every Sunday at 1:00 pm!
URL:https://afk.games/event/lorcana-open-play/2024-10-20/
LOCATION:AFK Games\, 2495 Cedar Street STE 14-B\, Holt\, MI\, 48842\, United States
CATEGORIES:Events,Lorcana,Ravensburger
ORGANIZER;CN="AFK Games":MAILTO:support@afk-games.com
END:VEVENT
BEGIN:VEVENT
DTSTART;TZID=America/Detroit:20241020T130000
DTEND;TZID=America/Detroit:20241020T170000
DTSTAMP:20260421T141553
CREATED:20260101T205413Z
LAST-MODIFIED:20260101T205413Z
UID:10005403-1729429200-1729443600@afk.games
SUMMARY:Lorcana League
DESCRIPTION:Join us for our Lorcana League every Sunday at 1:00 pm!
URL:https://afk.games/event/lorcana-league/2024-10-20/
LOCATION:AFK Games\, 2495 Cedar Street STE 14-B\, Holt\, MI\, 48842\, United States
CATEGORIES:Events,Lorcana,Ravensburger
ORGANIZER;CN="AFK Games":MAILTO:support@afk-games.com
END:VEVENT
BEGIN:VEVENT
DTSTART;TZID=America/Detroit:20241027T130000
DTEND;TZID=America/Detroit:20241027T170000
DTSTAMP:20260421T141553
CREATED:20230906T214824Z
LAST-MODIFIED:20241212T203942Z
UID:10003074-1730034000-1730048400@afk.games
SUMMARY:Lorcana League
DESCRIPTION:Join us for our Lorcana League every Sunday at 1:00 pm!
URL:https://afk.games/event/lorcana-open-play/2024-10-27/
LOCATION:AFK Games\, 2495 Cedar Street STE 14-B\, Holt\, MI\, 48842\, United States
CATEGORIES:Events,Lorcana,Ravensburger
ORGANIZER;CN="AFK Games":MAILTO:support@afk-games.com
END:VEVENT
BEGIN:VEVENT
DTSTART;TZID=America/Detroit:20241027T130000
DTEND;TZID=America/Detroit:20241027T170000
DTSTAMP:20260421T141553
CREATED:20260101T205413Z
LAST-MODIFIED:20260101T205413Z
UID:10005404-1730034000-1730048400@afk.games
SUMMARY:Lorcana League
DESCRIPTION:Join us for our Lorcana League every Sunday at 1:00 pm!
URL:https://afk.games/event/lorcana-league/2024-10-27/
LOCATION:AFK Games\, 2495 Cedar Street STE 14-B\, Holt\, MI\, 48842\, United States
CATEGORIES:Events,Lorcana,Ravensburger
ORGANIZER;CN="AFK Games":MAILTO:support@afk-games.com
END:VEVENT
END:VCALENDAR