BEGIN:VCALENDAR
VERSION:2.0
PRODID:-//AFK Games - ECPv6.15.20//NONSGML v1.0//EN
CALSCALE:GREGORIAN
METHOD:PUBLISH
X-WR-CALNAME:AFK Games
X-ORIGINAL-URL:https://afk.games
X-WR-CALDESC:Events for AFK Games
REFRESH-INTERVAL;VALUE=DURATION:PT1H
X-Robots-Tag:noindex
X-PUBLISHED-TTL:PT1H
BEGIN:VTIMEZONE
TZID:America/Detroit
BEGIN:DAYLIGHT
TZOFFSETFROM:-0500
TZOFFSETTO:-0400
TZNAME:EDT
DTSTART:20220313T070000
END:DAYLIGHT
BEGIN:STANDARD
TZOFFSETFROM:-0400
TZOFFSETTO:-0500
TZNAME:EST
DTSTART:20221106T060000
END:STANDARD
BEGIN:DAYLIGHT
TZOFFSETFROM:-0500
TZOFFSETTO:-0400
TZNAME:EDT
DTSTART:20230312T070000
END:DAYLIGHT
BEGIN:STANDARD
TZOFFSETFROM:-0400
TZOFFSETTO:-0500
TZNAME:EST
DTSTART:20231105T060000
END:STANDARD
BEGIN:DAYLIGHT
TZOFFSETFROM:-0500
TZOFFSETTO:-0400
TZNAME:EDT
DTSTART:20240310T070000
END:DAYLIGHT
BEGIN:STANDARD
TZOFFSETFROM:-0400
TZOFFSETTO:-0500
TZNAME:EST
DTSTART:20241103T060000
END:STANDARD
END:VTIMEZONE
BEGIN:VEVENT
DTSTART;TZID=America/Detroit:20230203T183000
DTEND;TZID=America/Detroit:20230203T230000
DTSTAMP:20260424T043417
CREATED:20221115T012905Z
LAST-MODIFIED:20221210T182617Z
UID:10000317-1675449000-1675465200@afk.games
SUMMARY:Phyrexia: All Will Be One - Friday 6:30 pm prerelease
DESCRIPTION:Contents: \n\n6 Phyrexia: All Will Be One Draft Boosters\n1 foil\, year-stamped Rare or Mythic Rare\n1 MTG Arena code card (only available in select regions)\n1 deck box\n1 Spindown die\n\nPlayers will be given 50 minutes to construct a deck out of their prerelease pack. \nPrizes will be announced closer to the event.
URL:https://afk.games/event/phyrexia-all-will-be-one-friday-630-pm-prerelease/
LOCATION:AFK Games\, 2495 Cedar Street STE 14-B\, Holt\, MI\, 48842\, United States
CATEGORIES:Events,Magic: The Gathering,Prerelease,Sealed
ORGANIZER;CN="AFK Games":MAILTO:support@afk-games.com
END:VEVENT
BEGIN:VEVENT
DTSTART;TZID=America/Detroit:20230204T130000
DTEND;TZID=America/Detroit:20230204T180000
DTSTAMP:20260424T043417
CREATED:20221115T013012Z
LAST-MODIFIED:20221210T182648Z
UID:10000318-1675515600-1675533600@afk.games
SUMMARY:Phyrexia: All Will Be One - Saturday 1:00 pm prerelease
DESCRIPTION:Contents: \n\n6 Phyrexia: All Will Be One Draft Boosters\n1 foil\, year-stamped Rare or Mythic Rare\n1 MTG Arena code card (only available in select regions)\n1 deck box\n1 Spindown die\n\nPlayers will be given 50 minutes to construct a deck out of their prerelease pack. \nPrizes will be announced closer to the event.
URL:https://afk.games/event/phyrexia-all-will-be-one-saturday-100-pm-prerelease/
LOCATION:AFK Games\, 2495 Cedar Street STE 14-B\, Holt\, MI\, 48842\, United States
CATEGORIES:Events,Magic: The Gathering,Prerelease,Sealed
ORGANIZER;CN="AFK Games":MAILTO:support@afk-games.com
END:VEVENT
BEGIN:VEVENT
DTSTART;TZID=America/Detroit:20230204T180000
DTEND;TZID=America/Detroit:20230204T230000
DTSTAMP:20260424T043417
CREATED:20221115T013054Z
LAST-MODIFIED:20221210T182717Z
UID:10000319-1675533600-1675551600@afk.games
SUMMARY:Phyrexia: All Will Be One - Saturday 6:00 pm prerelease
DESCRIPTION:Contents: \n\n6 Phyrexia: All Will Be One Draft Boosters\n1 foil\, year-stamped Rare or Mythic Rare\n1 MTG Arena code card (only available in select regions)\n1 deck box\n1 Spindown die\n\nPlayers will be given 50 minutes to construct a deck out of their prerelease pack. \nPrizes will be announced closer to the event.
URL:https://afk.games/event/phyrexia-all-will-be-one-saturday-600-pm-prerelease/
LOCATION:AFK Games\, 2495 Cedar Street STE 14-B\, Holt\, MI\, 48842\, United States
CATEGORIES:Events,Magic: The Gathering,Prerelease,Sealed
ORGANIZER;CN="AFK Games":MAILTO:support@afk-games.com
END:VEVENT
END:VCALENDAR