BEGIN:VCALENDAR
VERSION:2.0
PRODID:-//AFK Games - ECPv6.15.20//NONSGML v1.0//EN
CALSCALE:GREGORIAN
METHOD:PUBLISH
X-ORIGINAL-URL:https://afk.games
X-WR-CALDESC:Events for AFK Games
REFRESH-INTERVAL;VALUE=DURATION:PT1H
X-Robots-Tag:noindex
X-PUBLISHED-TTL:PT1H
BEGIN:VTIMEZONE
TZID:America/Detroit
BEGIN:DAYLIGHT
TZOFFSETFROM:-0500
TZOFFSETTO:-0400
TZNAME:EDT
DTSTART:20220313T070000
END:DAYLIGHT
BEGIN:STANDARD
TZOFFSETFROM:-0400
TZOFFSETTO:-0500
TZNAME:EST
DTSTART:20221106T060000
END:STANDARD
BEGIN:DAYLIGHT
TZOFFSETFROM:-0500
TZOFFSETTO:-0400
TZNAME:EDT
DTSTART:20230312T070000
END:DAYLIGHT
BEGIN:STANDARD
TZOFFSETFROM:-0400
TZOFFSETTO:-0500
TZNAME:EST
DTSTART:20231105T060000
END:STANDARD
BEGIN:DAYLIGHT
TZOFFSETFROM:-0500
TZOFFSETTO:-0400
TZNAME:EDT
DTSTART:20240310T070000
END:DAYLIGHT
BEGIN:STANDARD
TZOFFSETFROM:-0400
TZOFFSETTO:-0500
TZNAME:EST
DTSTART:20241103T060000
END:STANDARD
END:VTIMEZONE
BEGIN:VEVENT
DTSTART;TZID=America/Detroit:20230930T130000
DTEND;TZID=America/Detroit:20230930T190000
DTSTAMP:20260423T061554
CREATED:20230812T015201Z
LAST-MODIFIED:20230919T185434Z
UID:10001807-1696078800-1696100400@afk.games
SUMMARY:Wilds of Eldraine - Store Championship (Sealed)
DESCRIPTION:Participants will receive 6 booster packs of Wilds of Eldraine and will construct a minimum 40-card deck.\nOnce deckbuilding is done\, we will play Swiss rounds based on attendance. \nEntry: $30\nPre-register here: https://afk-games.square.site/product/wilds-of-eldraine-store-championship/12201\n \nPrizes: \n\nParticipation promos\nTop-8 promos\nWinner promo\nStore Credit
URL:https://afk.games/event/wilds-of-eldraine-store-championship-sealed/
LOCATION:AFK Games\, 2495 Cedar Street STE 14-B\, Holt\, MI\, 48842\, United States
CATEGORIES:Events,Magic: The Gathering,Sealed
ORGANIZER;CN="AFK Games":MAILTO:support@afk-games.com
END:VEVENT
END:VCALENDAR