BEGIN:VCALENDAR
VERSION:2.0
PRODID:-//AFK Games - ECPv6.15.20//NONSGML v1.0//EN
CALSCALE:GREGORIAN
METHOD:PUBLISH
X-WR-CALNAME:AFK Games
X-ORIGINAL-URL:https://afk.games
X-WR-CALDESC:Events for AFK Games
REFRESH-INTERVAL;VALUE=DURATION:PT1H
X-Robots-Tag:noindex
X-PUBLISHED-TTL:PT1H
BEGIN:VTIMEZONE
TZID:America/Detroit
BEGIN:DAYLIGHT
TZOFFSETFROM:-0500
TZOFFSETTO:-0400
TZNAME:EDT
DTSTART:20210314T070000
END:DAYLIGHT
BEGIN:STANDARD
TZOFFSETFROM:-0400
TZOFFSETTO:-0500
TZNAME:EST
DTSTART:20211107T060000
END:STANDARD
BEGIN:DAYLIGHT
TZOFFSETFROM:-0500
TZOFFSETTO:-0400
TZNAME:EDT
DTSTART:20220313T070000
END:DAYLIGHT
BEGIN:STANDARD
TZOFFSETFROM:-0400
TZOFFSETTO:-0500
TZNAME:EST
DTSTART:20221106T060000
END:STANDARD
BEGIN:DAYLIGHT
TZOFFSETFROM:-0500
TZOFFSETTO:-0400
TZNAME:EDT
DTSTART:20230312T070000
END:DAYLIGHT
BEGIN:STANDARD
TZOFFSETFROM:-0400
TZOFFSETTO:-0500
TZNAME:EST
DTSTART:20231105T060000
END:STANDARD
END:VTIMEZONE
BEGIN:VEVENT
DTSTART;TZID=America/Detroit:20221112T180000
DTEND;TZID=America/Detroit:20221112T223000
DTSTAMP:20260420T192644
CREATED:20221013T180350Z
LAST-MODIFIED:20221013T180350Z
UID:10000312-1668276000-1668292200@afk.games
SUMMARY:The Brothers' War prerelease - Saturday 6:00 pm
DESCRIPTION:AFK Games will be hosting The Brothers’ War Prerelease throughout the weekend of November 11th! \nAre you ready to experience an epic retelling of the most consequential event in the Multiverse? This event is the catalyst for nearly all of what Magic is today\, including the unleashing of the greatest evil\, the Phyrexians. \nEntry: $30\nEach player will receive a pre-release kit which includes :\n• 6 The Brothers’ War Draft Booster\n• 1 foil\, year-stamped Rare or Mythic Rare\n• 1 deck box\n• 1 Spindown life counter\n• 1 MTG Arena code card \nWith the pre-release kit\, you will construct a 40 card deck.\nAfter deck construction time\, players will play magic in a swiss tournament.\nPrizes will be one pack per round win\, and rounds will cap at 4 \nTickets:\nFriday 6:30 pm –\nhttps://shop.afk.games/product/the-brothers-war-prerelease-friday-6-30-pm \nSaturday 1:00 pm –\nhttps://shop.afk.games/product/the-brothers-war-prerelease-saturday-1-00-pm \nSaturday 6:00 pm –\nhttps://shop.afk.games/product/the-brothers-war-prerelease-saturday-6-00-pm \n2HG Sunday 1:00 pm –\nhttps://shop.afk.games/product/the-brothers-war-2hg-prerelease-sunday-1-00-pm
URL:https://afk.games/event/the-brothers-war-prerelease-saturday-600-pm/
LOCATION:AFK Games\, 2495 Cedar Street STE 14-B\, Holt\, MI\, 48842\, United States
CATEGORIES:Events,Magic: The Gathering,Prerelease,Sealed
ORGANIZER;CN="AFK Games":MAILTO:support@afk-games.com
END:VEVENT
BEGIN:VEVENT
DTSTART;TZID=America/Detroit:20221112T130000
DTEND;TZID=America/Detroit:20221112T173000
DTSTAMP:20260420T192644
CREATED:20221013T180159Z
LAST-MODIFIED:20221013T180159Z
UID:10000311-1668258000-1668274200@afk.games
SUMMARY:The Brothers' War prerelease - Saturday 1:00 pm
DESCRIPTION:AFK Games will be hosting The Brothers’ War Prerelease throughout the weekend of November 11th! \nAre you ready to experience an epic retelling of the most consequential event in the Multiverse? This event is the catalyst for nearly all of what Magic is today\, including the unleashing of the greatest evil\, the Phyrexians. \nEntry: $30\nEach player will receive a pre-release kit which includes :\n• 6 The Brothers’ War Draft Booster\n• 1 foil\, year-stamped Rare or Mythic Rare\n• 1 deck box\n• 1 Spindown life counter\n• 1 MTG Arena code card \nWith the pre-release kit\, you will construct a 40 card deck.\nAfter deck construction time\, players will play magic in a swiss tournament.\nPrizes will be one pack per round win\, and rounds will cap at 4 \nTickets:\nFriday 6:30 pm –\nhttps://shop.afk.games/product/the-brothers-war-prerelease-friday-6-30-pm \nSaturday 1:00 pm –\nhttps://shop.afk.games/product/the-brothers-war-prerelease-saturday-1-00-pm \nSaturday 6:00 pm –\nhttps://shop.afk.games/product/the-brothers-war-prerelease-saturday-6-00-pm \n2HG Sunday 1:00 pm –\nhttps://shop.afk.games/product/the-brothers-war-2hg-prerelease-sunday-1-00-pm
URL:https://afk.games/event/the-brothers-war-prerelease-saturday-100-pm/
LOCATION:AFK Games\, 2495 Cedar Street STE 14-B\, Holt\, MI\, 48842\, United States
CATEGORIES:Events,Magic: The Gathering,Prerelease,Sealed
ORGANIZER;CN="AFK Games":MAILTO:support@afk-games.com
END:VEVENT
BEGIN:VEVENT
DTSTART;TZID=America/Detroit:20221111T183000
DTEND;TZID=America/Detroit:20221111T230000
DTSTAMP:20260420T192644
CREATED:20221013T180022Z
LAST-MODIFIED:20221013T180250Z
UID:10000310-1668191400-1668207600@afk.games
SUMMARY:The Brothers' War prerelease - Friday 6:30 pm
DESCRIPTION:AFK Games will be hosting The Brothers’ War Prerelease throughout the weekend of November 11th! \nAre you ready to experience an epic retelling of the most consequential event in the Multiverse? This event is the catalyst for nearly all of what Magic is today\, including the unleashing of the greatest evil\, the Phyrexians. \nEntry: $30\nEach player will receive a pre-release kit which includes :\n• 6 The Brothers’ War Draft Booster\n• 1 foil\, year-stamped Rare or Mythic Rare\n• 1 deck box\n• 1 Spindown life counter\n• 1 MTG Arena code card \nWith the pre-release kit\, you will construct a 40 card deck.\nAfter deck construction time\, players will play magic in a swiss tournament.\nPrizes will be one pack per round win\, and rounds will cap at 4 \nTickets:\nFriday 6:30 pm –\nhttps://shop.afk.games/product/the-brothers-war-prerelease-friday-6-30-pm \nSaturday 1:00 pm –\nhttps://shop.afk.games/product/the-brothers-war-prerelease-saturday-1-00-pm \nSaturday 6:00 pm –\nhttps://shop.afk.games/product/the-brothers-war-prerelease-saturday-6-00-pm \n2HG Sunday 1:00 pm –\nhttps://shop.afk.games/product/the-brothers-war-2hg-prerelease-sunday-1-00-pm
URL:https://afk.games/event/the-brothers-war-prerelease-friday-630-pm/
LOCATION:AFK Games\, 2495 Cedar Street STE 14-B\, Holt\, MI\, 48842\, United States
CATEGORIES:Events,Magic: The Gathering,Prerelease,Sealed
ORGANIZER;CN="AFK Games":MAILTO:support@afk-games.com
END:VEVENT
BEGIN:VEVENT
DTSTART;TZID=America/Detroit:20220904T130000
DTEND;TZID=America/Detroit:20220904T130000
DTSTAMP:20260420T192644
CREATED:20220730T160135Z
LAST-MODIFIED:20220730T205824Z
UID:10000188-1662296400-1662296400@afk.games
SUMMARY:Dominaria United 2HG Sunday 1:00 pm prerelease
DESCRIPTION:AFK Games will be hosting Dominaria United Pre-releases throughout the weekend of September 2nd!\nEntry: $30 \nEach player will receive a pre-release kit which includes: \n• 6 Dominaria United Draft Boosters\n• 1 foil\, year-stamped Rare or Mythic Rare\n• 1 deck box\n• 1 Spindown life counter \nWith the pre-release kit\, you will construct a 40 card deck. \nAfter deck construction time\, players will play magic in a swiss tournament. \nPrizes will be one pack per round win\, and rounds will cap at 4
URL:https://afk.games/event/dominaria-united-2hg-sunday-100-pm-prerelease/
LOCATION:AFK Games\, 2495 Cedar Street STE 14-B\, Holt\, MI\, 48842\, United States
CATEGORIES:Events,Magic: The Gathering,Prerelease
ORGANIZER;CN="AFK Games":MAILTO:support@afk-games.com
END:VEVENT
BEGIN:VEVENT
DTSTART;TZID=America/Detroit:20220903T180000
DTEND;TZID=America/Detroit:20220903T223000
DTSTAMP:20260420T192644
CREATED:20220730T160135Z
LAST-MODIFIED:20220730T205828Z
UID:10000187-1662228000-1662244200@afk.games
SUMMARY:Dominaria United Saturday 6:00 pm prerelease
DESCRIPTION:AFK Games will be hosting Dominaria United Pre-releases throughout the weekend of September 2nd!\nEntry: $30 \nEach player will receive a pre-release kit which includes: \n• 6 Dominaria United Draft Boosters\n• 1 foil\, year-stamped Rare or Mythic Rare\n• 1 deck box\n• 1 Spindown life counter \nWith the pre-release kit\, you will construct a 40 card deck. \nAfter deck construction time\, players will play magic in a swiss tournament. \nPrizes will be one pack per round win\, and rounds will cap at 4
URL:https://afk.games/event/dominaria-united-saturday-600-pm-prerelease/
LOCATION:AFK Games\, 2495 Cedar Street STE 14-B\, Holt\, MI\, 48842\, United States
CATEGORIES:Events,Magic: The Gathering,Prerelease
ORGANIZER;CN="AFK Games":MAILTO:support@afk-games.com
END:VEVENT
BEGIN:VEVENT
DTSTART;TZID=America/Detroit:20220903T130000
DTEND;TZID=America/Detroit:20220903T180000
DTSTAMP:20260420T192644
CREATED:20220730T160135Z
LAST-MODIFIED:20220730T205831Z
UID:10000186-1662210000-1662228000@afk.games
SUMMARY:Dominaria United Saturday 1:00 pm prerelease
DESCRIPTION:AFK Games will be hosting Dominaria United Pre-releases throughout the weekend of September 2nd!\nEntry: $30 \nEach player will receive a pre-release kit which includes: \n• 6 Dominaria United Draft Boosters\n• 1 foil\, year-stamped Rare or Mythic Rare\n• 1 deck box\n• 1 Spindown life counter \nWith the pre-release kit\, you will construct a 40 card deck. \nAfter deck construction time\, players will play magic in a swiss tournament. \nPrizes will be one pack per round win\, and rounds will cap at 4
URL:https://afk.games/event/dominaria-united-saturday-100-pm-prerelease/
LOCATION:AFK Games\, 2495 Cedar Street STE 14-B\, Holt\, MI\, 48842\, United States
CATEGORIES:Events,Magic: The Gathering,Prerelease
ORGANIZER;CN="AFK Games":MAILTO:support@afk-games.com
END:VEVENT
BEGIN:VEVENT
DTSTART;TZID=America/Detroit:20220902T183000
DTEND;TZID=America/Detroit:20220902T223000
DTSTAMP:20260420T192644
CREATED:20220730T160135Z
LAST-MODIFIED:20220730T205833Z
UID:10000185-1662143400-1662157800@afk.games
SUMMARY:Dominaria United Friday 6:30 pm prerelease
DESCRIPTION:AFK Games will be hosting Dominaria United Pre-releases throughout the weekend of September 2nd!\nEntry: $30 \nEach player will receive a pre-release kit which includes: \n• 6 Dominaria United Draft Boosters\n• 1 foil\, year-stamped Rare or Mythic Rare\n• 1 deck box\n• 1 Spindown life counter \nWith the pre-release kit\, you will construct a 40 card deck. \nAfter deck construction time\, players will play magic in a swiss tournament. \nPrizes will be one pack per round win\, and rounds will cap at 4
URL:https://afk.games/event/dominaria-united-friday-630-pm-prerelease/
LOCATION:AFK Games\, 2495 Cedar Street STE 14-B\, Holt\, MI\, 48842\, United States
CATEGORIES:Events,Magic: The Gathering,Prerelease
ORGANIZER;CN="AFK Games":MAILTO:support@afk-games.com
END:VEVENT
END:VCALENDAR