BEGIN:VCALENDAR
VERSION:2.0
PRODID:-//AFK Games - ECPv6.15.20//NONSGML v1.0//EN
CALSCALE:GREGORIAN
METHOD:PUBLISH
X-WR-CALNAME:AFK Games
X-ORIGINAL-URL:https://afk.games
X-WR-CALDESC:Events for AFK Games
REFRESH-INTERVAL;VALUE=DURATION:PT1H
X-Robots-Tag:noindex
X-PUBLISHED-TTL:PT1H
BEGIN:VTIMEZONE
TZID:America/Detroit
BEGIN:DAYLIGHT
TZOFFSETFROM:-0500
TZOFFSETTO:-0400
TZNAME:EDT
DTSTART:20210314T070000
END:DAYLIGHT
BEGIN:STANDARD
TZOFFSETFROM:-0400
TZOFFSETTO:-0500
TZNAME:EST
DTSTART:20211107T060000
END:STANDARD
BEGIN:DAYLIGHT
TZOFFSETFROM:-0500
TZOFFSETTO:-0400
TZNAME:EDT
DTSTART:20220313T070000
END:DAYLIGHT
BEGIN:STANDARD
TZOFFSETFROM:-0400
TZOFFSETTO:-0500
TZNAME:EST
DTSTART:20221106T060000
END:STANDARD
BEGIN:DAYLIGHT
TZOFFSETFROM:-0500
TZOFFSETTO:-0400
TZNAME:EDT
DTSTART:20230312T070000
END:DAYLIGHT
BEGIN:STANDARD
TZOFFSETFROM:-0400
TZOFFSETTO:-0500
TZNAME:EST
DTSTART:20231105T060000
END:STANDARD
END:VTIMEZONE
BEGIN:VEVENT
DTSTART;TZID=America/Detroit:20221027T183000
DTEND;TZID=America/Detroit:20221027T213000
DTSTAMP:20260419T194213
CREATED:20220728T215050Z
LAST-MODIFIED:20221119T010837Z
UID:10000278-1666895400-1666906200@afk.games
SUMMARY:MTG Weekly Pioneer
DESCRIPTION:AFK Games hosts weekly Pioneer tournaments on Thursdays starting at 6:30 pm!\nEntry is $10 \nPrize out is based on record. Capped at 3 rounds. \n3-0-0 = $30\n2-1-0 = $15 \nEach player will each be able to pick from a pool of promo pack promos in reverse standings order.
URL:https://afk.games/event/mtg-weekly-pioneer-10/2022-10-27/
LOCATION:AFK Games\, 2495 Cedar Street STE 14-B\, Holt\, MI\, 48842\, United States
CATEGORIES:Events,Magic: The Gathering,Pioneer
ORGANIZER;CN="AFK Games":MAILTO:support@afk-games.com
END:VEVENT
BEGIN:VEVENT
DTSTART;TZID=America/Detroit:20221020T183000
DTEND;TZID=America/Detroit:20221020T213000
DTSTAMP:20260419T194213
CREATED:20220728T215050Z
LAST-MODIFIED:20221119T010837Z
UID:10000277-1666290600-1666301400@afk.games
SUMMARY:MTG Weekly Pioneer
DESCRIPTION:AFK Games hosts weekly Pioneer tournaments on Thursdays starting at 6:30 pm!\nEntry is $10 \nPrize out is based on record. Capped at 3 rounds. \n3-0-0 = $30\n2-1-0 = $15 \nEach player will each be able to pick from a pool of promo pack promos in reverse standings order.
URL:https://afk.games/event/mtg-weekly-pioneer-10/2022-10-20/
LOCATION:AFK Games\, 2495 Cedar Street STE 14-B\, Holt\, MI\, 48842\, United States
CATEGORIES:Events,Magic: The Gathering,Pioneer
ORGANIZER;CN="AFK Games":MAILTO:support@afk-games.com
END:VEVENT
BEGIN:VEVENT
DTSTART;TZID=America/Detroit:20221013T183000
DTEND;TZID=America/Detroit:20221013T213000
DTSTAMP:20260419T194213
CREATED:20220728T215050Z
LAST-MODIFIED:20221119T010837Z
UID:10000276-1665685800-1665696600@afk.games
SUMMARY:MTG Weekly Pioneer
DESCRIPTION:AFK Games hosts weekly Pioneer tournaments on Thursdays starting at 6:30 pm!\nEntry is $10 \nPrize out is based on record. Capped at 3 rounds. \n3-0-0 = $30\n2-1-0 = $15 \nEach player will each be able to pick from a pool of promo pack promos in reverse standings order.
URL:https://afk.games/event/mtg-weekly-pioneer-10/2022-10-13/
LOCATION:AFK Games\, 2495 Cedar Street STE 14-B\, Holt\, MI\, 48842\, United States
CATEGORIES:Events,Magic: The Gathering,Pioneer
ORGANIZER;CN="AFK Games":MAILTO:support@afk-games.com
END:VEVENT
BEGIN:VEVENT
DTSTART;TZID=America/Detroit:20221006T183000
DTEND;TZID=America/Detroit:20221006T213000
DTSTAMP:20260419T194213
CREATED:20220728T215050Z
LAST-MODIFIED:20221119T010837Z
UID:10000275-1665081000-1665091800@afk.games
SUMMARY:MTG Weekly Pioneer
DESCRIPTION:AFK Games hosts weekly Pioneer tournaments on Thursdays starting at 6:30 pm!\nEntry is $10 \nPrize out is based on record. Capped at 3 rounds. \n3-0-0 = $30\n2-1-0 = $15 \nEach player will each be able to pick from a pool of promo pack promos in reverse standings order.
URL:https://afk.games/event/mtg-weekly-pioneer-10/2022-10-06/
LOCATION:AFK Games\, 2495 Cedar Street STE 14-B\, Holt\, MI\, 48842\, United States
CATEGORIES:Events,Magic: The Gathering,Pioneer
ORGANIZER;CN="AFK Games":MAILTO:support@afk-games.com
END:VEVENT
BEGIN:VEVENT
DTSTART;TZID=America/Detroit:20220929T183000
DTEND;TZID=America/Detroit:20220929T213000
DTSTAMP:20260419T194213
CREATED:20220728T215050Z
LAST-MODIFIED:20221119T010837Z
UID:10000110-1664476200-1664487000@afk.games
SUMMARY:MTG Weekly Pioneer
DESCRIPTION:AFK Games hosts weekly Pioneer tournaments on Thursdays starting at 6:30 pm!\nEntry is $10 \nPrize out is based on record. Capped at 3 rounds. \n3-0-0 = $30\n2-1-0 = $15 \nEach player will each be able to pick from a pool of promo pack promos in reverse standings order.
URL:https://afk.games/event/mtg-weekly-pioneer-10/2022-09-29/
LOCATION:AFK Games\, 2495 Cedar Street STE 14-B\, Holt\, MI\, 48842\, United States
CATEGORIES:Events,Magic: The Gathering,Pioneer
ORGANIZER;CN="AFK Games":MAILTO:support@afk-games.com
END:VEVENT
BEGIN:VEVENT
DTSTART;TZID=America/Detroit:20220922T183000
DTEND;TZID=America/Detroit:20220922T213000
DTSTAMP:20260419T194213
CREATED:20220728T215050Z
LAST-MODIFIED:20220728T215620Z
UID:10000109-1663871400-1663882200@afk.games
SUMMARY:MTG Weekly Pioneer
DESCRIPTION:AFK Games hosts weekly Pioneer tournaments on Thursdays starting at 6:30 pm!\nEntry is $10\n\nPrize out is based on record.\n\n4-0-0 = $60\n3-0-1 = $40\n3-1-0 = $20\n2-1-1 = $10\n\nEach player will each be able to pick from a pool of promo packs in reverse standings order.
URL:https://afk.games/event/mtg-weekly-pioneer-9/
LOCATION:AFK Games\, 2495 Cedar Street STE 14-B\, Holt\, MI\, 48842\, United States
CATEGORIES:Events,Magic: The Gathering,Pioneer
ORGANIZER;CN="AFK Games":MAILTO:support@afk-games.com
END:VEVENT
BEGIN:VEVENT
DTSTART;TZID=America/Detroit:20220915T183000
DTEND;TZID=America/Detroit:20220915T213000
DTSTAMP:20260419T194213
CREATED:20220728T215050Z
LAST-MODIFIED:20220728T215620Z
UID:10000108-1663266600-1663277400@afk.games
SUMMARY:MTG Weekly Pioneer
DESCRIPTION:AFK Games hosts weekly Pioneer tournaments on Thursdays starting at 6:30 pm!\nEntry is $10\n\nPrize out is based on record.\n\n4-0-0 = $60\n3-0-1 = $40\n3-1-0 = $20\n2-1-1 = $10\n\nEach player will each be able to pick from a pool of promo packs in reverse standings order.
URL:https://afk.games/event/mtg-weekly-pioneer-8/
LOCATION:AFK Games\, 2495 Cedar Street STE 14-B\, Holt\, MI\, 48842\, United States
CATEGORIES:Events,Magic: The Gathering,Pioneer
ORGANIZER;CN="AFK Games":MAILTO:support@afk-games.com
END:VEVENT
BEGIN:VEVENT
DTSTART;TZID=America/Detroit:20220908T183000
DTEND;TZID=America/Detroit:20220908T213000
DTSTAMP:20260419T194213
CREATED:20220728T215049Z
LAST-MODIFIED:20220728T215620Z
UID:10000107-1662661800-1662672600@afk.games
SUMMARY:MTG Weekly Pioneer
DESCRIPTION:AFK Games hosts weekly Pioneer tournaments on Thursdays starting at 6:30 pm!\nEntry is $10\n\nPrize out is based on record.\n\n4-0-0 = $60\n3-0-1 = $40\n3-1-0 = $20\n2-1-1 = $10\n\nEach player will each be able to pick from a pool of promo packs in reverse standings order.
URL:https://afk.games/event/mtg-weekly-pioneer-7/
LOCATION:AFK Games\, 2495 Cedar Street STE 14-B\, Holt\, MI\, 48842\, United States
CATEGORIES:Events,Magic: The Gathering,Pioneer
ORGANIZER;CN="AFK Games":MAILTO:support@afk-games.com
END:VEVENT
BEGIN:VEVENT
DTSTART;TZID=America/Detroit:20220901T183000
DTEND;TZID=America/Detroit:20220901T213000
DTSTAMP:20260419T194213
CREATED:20220728T215049Z
LAST-MODIFIED:20220728T215620Z
UID:10000106-1662057000-1662067800@afk.games
SUMMARY:MTG Weekly Pioneer
DESCRIPTION:AFK Games hosts weekly Pioneer tournaments on Thursdays starting at 6:30 pm!\nEntry is $10\n\nPrize out is based on record.\n\n4-0-0 = $60\n3-0-1 = $40\n3-1-0 = $20\n2-1-1 = $10\n\nEach player will each be able to pick from a pool of promo packs in reverse standings order.
URL:https://afk.games/event/mtg-weekly-pioneer-6/
LOCATION:AFK Games\, 2495 Cedar Street STE 14-B\, Holt\, MI\, 48842\, United States
CATEGORIES:Events,Magic: The Gathering,Pioneer
ORGANIZER;CN="AFK Games":MAILTO:support@afk-games.com
END:VEVENT
END:VCALENDAR