BEGIN:VCALENDAR
VERSION:2.0
PRODID:-//AFK Games - ECPv6.15.20//NONSGML v1.0//EN
CALSCALE:GREGORIAN
METHOD:PUBLISH
X-WR-CALNAME:AFK Games
X-ORIGINAL-URL:https://afk.games
X-WR-CALDESC:Events for AFK Games
REFRESH-INTERVAL;VALUE=DURATION:PT1H
X-Robots-Tag:noindex
X-PUBLISHED-TTL:PT1H
BEGIN:VTIMEZONE
TZID:America/Detroit
BEGIN:DAYLIGHT
TZOFFSETFROM:-0500
TZOFFSETTO:-0400
TZNAME:EDT
DTSTART:20210314T070000
END:DAYLIGHT
BEGIN:STANDARD
TZOFFSETFROM:-0400
TZOFFSETTO:-0500
TZNAME:EST
DTSTART:20211107T060000
END:STANDARD
BEGIN:DAYLIGHT
TZOFFSETFROM:-0500
TZOFFSETTO:-0400
TZNAME:EDT
DTSTART:20220313T070000
END:DAYLIGHT
BEGIN:STANDARD
TZOFFSETFROM:-0400
TZOFFSETTO:-0500
TZNAME:EST
DTSTART:20221106T060000
END:STANDARD
BEGIN:DAYLIGHT
TZOFFSETFROM:-0500
TZOFFSETTO:-0400
TZNAME:EDT
DTSTART:20230312T070000
END:DAYLIGHT
BEGIN:STANDARD
TZOFFSETFROM:-0400
TZOFFSETTO:-0500
TZNAME:EST
DTSTART:20231105T060000
END:STANDARD
BEGIN:DAYLIGHT
TZOFFSETFROM:-0500
TZOFFSETTO:-0400
TZNAME:EDT
DTSTART:20240310T070000
END:DAYLIGHT
BEGIN:STANDARD
TZOFFSETFROM:-0400
TZOFFSETTO:-0500
TZNAME:EST
DTSTART:20241103T060000
END:STANDARD
END:VTIMEZONE
BEGIN:VEVENT
DTSTART;TZID=America/Detroit:20230309T183000
DTEND;TZID=America/Detroit:20230309T213000
DTSTAMP:20260419T143621
CREATED:20220728T215050Z
LAST-MODIFIED:20221119T010837Z
UID:10000799-1678386600-1678397400@afk.games
SUMMARY:MTG Weekly Pioneer
DESCRIPTION:AFK Games hosts weekly Pioneer tournaments on Thursdays starting at 6:30 pm!\nEntry is $10 \nPrize out is based on record. Capped at 3 rounds. \n3-0-0 = $30\n2-1-0 = $15 \nEach player will each be able to pick from a pool of promo pack promos in reverse standings order.
URL:https://afk.games/event/mtg-weekly-pioneer-10/2023-03-09/
LOCATION:AFK Games\, 2495 Cedar Street STE 14-B\, Holt\, MI\, 48842\, United States
CATEGORIES:Events,Magic: The Gathering,Pioneer
ORGANIZER;CN="AFK Games":MAILTO:support@afk-games.com
END:VEVENT
BEGIN:VEVENT
DTSTART;TZID=America/Detroit:20230302T183000
DTEND;TZID=America/Detroit:20230302T213000
DTSTAMP:20260419T143621
CREATED:20220728T215050Z
LAST-MODIFIED:20221119T010837Z
UID:10000798-1677781800-1677792600@afk.games
SUMMARY:MTG Weekly Pioneer
DESCRIPTION:AFK Games hosts weekly Pioneer tournaments on Thursdays starting at 6:30 pm!\nEntry is $10 \nPrize out is based on record. Capped at 3 rounds. \n3-0-0 = $30\n2-1-0 = $15 \nEach player will each be able to pick from a pool of promo pack promos in reverse standings order.
URL:https://afk.games/event/mtg-weekly-pioneer-10/2023-03-02/
LOCATION:AFK Games\, 2495 Cedar Street STE 14-B\, Holt\, MI\, 48842\, United States
CATEGORIES:Events,Magic: The Gathering,Pioneer
ORGANIZER;CN="AFK Games":MAILTO:support@afk-games.com
END:VEVENT
BEGIN:VEVENT
DTSTART;TZID=America/Detroit:20230223T183000
DTEND;TZID=America/Detroit:20230223T213000
DTSTAMP:20260419T143621
CREATED:20220728T215050Z
LAST-MODIFIED:20221119T010837Z
UID:10000797-1677177000-1677187800@afk.games
SUMMARY:MTG Weekly Pioneer
DESCRIPTION:AFK Games hosts weekly Pioneer tournaments on Thursdays starting at 6:30 pm!\nEntry is $10 \nPrize out is based on record. Capped at 3 rounds. \n3-0-0 = $30\n2-1-0 = $15 \nEach player will each be able to pick from a pool of promo pack promos in reverse standings order.
URL:https://afk.games/event/mtg-weekly-pioneer-10/2023-02-23/
LOCATION:AFK Games\, 2495 Cedar Street STE 14-B\, Holt\, MI\, 48842\, United States
CATEGORIES:Events,Magic: The Gathering,Pioneer
ORGANIZER;CN="AFK Games":MAILTO:support@afk-games.com
END:VEVENT
BEGIN:VEVENT
DTSTART;TZID=America/Detroit:20230216T183000
DTEND;TZID=America/Detroit:20230216T213000
DTSTAMP:20260419T143621
CREATED:20220728T215050Z
LAST-MODIFIED:20221119T010837Z
UID:10000796-1676572200-1676583000@afk.games
SUMMARY:MTG Weekly Pioneer
DESCRIPTION:AFK Games hosts weekly Pioneer tournaments on Thursdays starting at 6:30 pm!\nEntry is $10 \nPrize out is based on record. Capped at 3 rounds. \n3-0-0 = $30\n2-1-0 = $15 \nEach player will each be able to pick from a pool of promo pack promos in reverse standings order.
URL:https://afk.games/event/mtg-weekly-pioneer-10/2023-02-16/
LOCATION:AFK Games\, 2495 Cedar Street STE 14-B\, Holt\, MI\, 48842\, United States
CATEGORIES:Events,Magic: The Gathering,Pioneer
ORGANIZER;CN="AFK Games":MAILTO:support@afk-games.com
END:VEVENT
BEGIN:VEVENT
DTSTART;TZID=America/Detroit:20230209T183000
DTEND;TZID=America/Detroit:20230209T213000
DTSTAMP:20260419T143621
CREATED:20220728T215050Z
LAST-MODIFIED:20221119T010837Z
UID:10000795-1675967400-1675978200@afk.games
SUMMARY:MTG Weekly Pioneer
DESCRIPTION:AFK Games hosts weekly Pioneer tournaments on Thursdays starting at 6:30 pm!\nEntry is $10 \nPrize out is based on record. Capped at 3 rounds. \n3-0-0 = $30\n2-1-0 = $15 \nEach player will each be able to pick from a pool of promo pack promos in reverse standings order.
URL:https://afk.games/event/mtg-weekly-pioneer-10/2023-02-09/
LOCATION:AFK Games\, 2495 Cedar Street STE 14-B\, Holt\, MI\, 48842\, United States
CATEGORIES:Events,Magic: The Gathering,Pioneer
ORGANIZER;CN="AFK Games":MAILTO:support@afk-games.com
END:VEVENT
BEGIN:VEVENT
DTSTART;TZID=America/Detroit:20230202T183000
DTEND;TZID=America/Detroit:20230202T213000
DTSTAMP:20260419T143621
CREATED:20220728T215050Z
LAST-MODIFIED:20221119T010837Z
UID:10000794-1675362600-1675373400@afk.games
SUMMARY:MTG Weekly Pioneer
DESCRIPTION:AFK Games hosts weekly Pioneer tournaments on Thursdays starting at 6:30 pm!\nEntry is $10 \nPrize out is based on record. Capped at 3 rounds. \n3-0-0 = $30\n2-1-0 = $15 \nEach player will each be able to pick from a pool of promo pack promos in reverse standings order.
URL:https://afk.games/event/mtg-weekly-pioneer-10/2023-02-02/
LOCATION:AFK Games\, 2495 Cedar Street STE 14-B\, Holt\, MI\, 48842\, United States
CATEGORIES:Events,Magic: The Gathering,Pioneer
ORGANIZER;CN="AFK Games":MAILTO:support@afk-games.com
END:VEVENT
BEGIN:VEVENT
DTSTART;TZID=America/Detroit:20230126T183000
DTEND;TZID=America/Detroit:20230126T213000
DTSTAMP:20260419T143621
CREATED:20220728T215050Z
LAST-MODIFIED:20221119T010837Z
UID:10000793-1674757800-1674768600@afk.games
SUMMARY:MTG Weekly Pioneer
DESCRIPTION:AFK Games hosts weekly Pioneer tournaments on Thursdays starting at 6:30 pm!\nEntry is $10 \nPrize out is based on record. Capped at 3 rounds. \n3-0-0 = $30\n2-1-0 = $15 \nEach player will each be able to pick from a pool of promo pack promos in reverse standings order.
URL:https://afk.games/event/mtg-weekly-pioneer-10/2023-01-26/
LOCATION:AFK Games\, 2495 Cedar Street STE 14-B\, Holt\, MI\, 48842\, United States
CATEGORIES:Events,Magic: The Gathering,Pioneer
ORGANIZER;CN="AFK Games":MAILTO:support@afk-games.com
END:VEVENT
BEGIN:VEVENT
DTSTART;TZID=America/Detroit:20230119T183000
DTEND;TZID=America/Detroit:20230119T213000
DTSTAMP:20260419T143621
CREATED:20220728T215050Z
LAST-MODIFIED:20221119T010837Z
UID:10000792-1674153000-1674163800@afk.games
SUMMARY:MTG Weekly Pioneer
DESCRIPTION:AFK Games hosts weekly Pioneer tournaments on Thursdays starting at 6:30 pm!\nEntry is $10 \nPrize out is based on record. Capped at 3 rounds. \n3-0-0 = $30\n2-1-0 = $15 \nEach player will each be able to pick from a pool of promo pack promos in reverse standings order.
URL:https://afk.games/event/mtg-weekly-pioneer-10/2023-01-19/
LOCATION:AFK Games\, 2495 Cedar Street STE 14-B\, Holt\, MI\, 48842\, United States
CATEGORIES:Events,Magic: The Gathering,Pioneer
ORGANIZER;CN="AFK Games":MAILTO:support@afk-games.com
END:VEVENT
BEGIN:VEVENT
DTSTART;TZID=America/Detroit:20230112T183000
DTEND;TZID=America/Detroit:20230112T213000
DTSTAMP:20260419T143621
CREATED:20220728T215050Z
LAST-MODIFIED:20221119T010837Z
UID:10000791-1673548200-1673559000@afk.games
SUMMARY:MTG Weekly Pioneer
DESCRIPTION:AFK Games hosts weekly Pioneer tournaments on Thursdays starting at 6:30 pm!\nEntry is $10 \nPrize out is based on record. Capped at 3 rounds. \n3-0-0 = $30\n2-1-0 = $15 \nEach player will each be able to pick from a pool of promo pack promos in reverse standings order.
URL:https://afk.games/event/mtg-weekly-pioneer-10/2023-01-12/
LOCATION:AFK Games\, 2495 Cedar Street STE 14-B\, Holt\, MI\, 48842\, United States
CATEGORIES:Events,Magic: The Gathering,Pioneer
ORGANIZER;CN="AFK Games":MAILTO:support@afk-games.com
END:VEVENT
BEGIN:VEVENT
DTSTART;TZID=America/Detroit:20230105T183000
DTEND;TZID=America/Detroit:20230105T213000
DTSTAMP:20260419T143621
CREATED:20220728T215050Z
LAST-MODIFIED:20221119T010837Z
UID:10000790-1672943400-1672954200@afk.games
SUMMARY:MTG Weekly Pioneer
DESCRIPTION:AFK Games hosts weekly Pioneer tournaments on Thursdays starting at 6:30 pm!\nEntry is $10 \nPrize out is based on record. Capped at 3 rounds. \n3-0-0 = $30\n2-1-0 = $15 \nEach player will each be able to pick from a pool of promo pack promos in reverse standings order.
URL:https://afk.games/event/mtg-weekly-pioneer-10/2023-01-05/
LOCATION:AFK Games\, 2495 Cedar Street STE 14-B\, Holt\, MI\, 48842\, United States
CATEGORIES:Events,Magic: The Gathering,Pioneer
ORGANIZER;CN="AFK Games":MAILTO:support@afk-games.com
END:VEVENT
BEGIN:VEVENT
DTSTART;TZID=America/Detroit:20221229T183000
DTEND;TZID=America/Detroit:20221229T213000
DTSTAMP:20260419T143621
CREATED:20220728T215050Z
LAST-MODIFIED:20221119T010837Z
UID:10000287-1672338600-1672349400@afk.games
SUMMARY:MTG Weekly Pioneer
DESCRIPTION:AFK Games hosts weekly Pioneer tournaments on Thursdays starting at 6:30 pm!\nEntry is $10 \nPrize out is based on record. Capped at 3 rounds. \n3-0-0 = $30\n2-1-0 = $15 \nEach player will each be able to pick from a pool of promo pack promos in reverse standings order.
URL:https://afk.games/event/mtg-weekly-pioneer-10/2022-12-29/
LOCATION:AFK Games\, 2495 Cedar Street STE 14-B\, Holt\, MI\, 48842\, United States
CATEGORIES:Events,Magic: The Gathering,Pioneer
ORGANIZER;CN="AFK Games":MAILTO:support@afk-games.com
END:VEVENT
BEGIN:VEVENT
DTSTART;TZID=America/Detroit:20221222T183000
DTEND;TZID=America/Detroit:20221222T213000
DTSTAMP:20260419T143621
CREATED:20220728T215050Z
LAST-MODIFIED:20221119T010837Z
UID:10000286-1671733800-1671744600@afk.games
SUMMARY:MTG Weekly Pioneer
DESCRIPTION:AFK Games hosts weekly Pioneer tournaments on Thursdays starting at 6:30 pm!\nEntry is $10 \nPrize out is based on record. Capped at 3 rounds. \n3-0-0 = $30\n2-1-0 = $15 \nEach player will each be able to pick from a pool of promo pack promos in reverse standings order.
URL:https://afk.games/event/mtg-weekly-pioneer-10/2022-12-22/
LOCATION:AFK Games\, 2495 Cedar Street STE 14-B\, Holt\, MI\, 48842\, United States
CATEGORIES:Events,Magic: The Gathering,Pioneer
ORGANIZER;CN="AFK Games":MAILTO:support@afk-games.com
END:VEVENT
BEGIN:VEVENT
DTSTART;TZID=America/Detroit:20221215T183000
DTEND;TZID=America/Detroit:20221215T213000
DTSTAMP:20260419T143621
CREATED:20220728T215050Z
LAST-MODIFIED:20221119T010837Z
UID:10000285-1671129000-1671139800@afk.games
SUMMARY:MTG Weekly Pioneer
DESCRIPTION:AFK Games hosts weekly Pioneer tournaments on Thursdays starting at 6:30 pm!\nEntry is $10 \nPrize out is based on record. Capped at 3 rounds. \n3-0-0 = $30\n2-1-0 = $15 \nEach player will each be able to pick from a pool of promo pack promos in reverse standings order.
URL:https://afk.games/event/mtg-weekly-pioneer-10/2022-12-15/
LOCATION:AFK Games\, 2495 Cedar Street STE 14-B\, Holt\, MI\, 48842\, United States
CATEGORIES:Events,Magic: The Gathering,Pioneer
ORGANIZER;CN="AFK Games":MAILTO:support@afk-games.com
END:VEVENT
BEGIN:VEVENT
DTSTART;TZID=America/Detroit:20221208T183000
DTEND;TZID=America/Detroit:20221208T213000
DTSTAMP:20260419T143621
CREATED:20220728T215050Z
LAST-MODIFIED:20221119T010837Z
UID:10000284-1670524200-1670535000@afk.games
SUMMARY:MTG Weekly Pioneer
DESCRIPTION:AFK Games hosts weekly Pioneer tournaments on Thursdays starting at 6:30 pm!\nEntry is $10 \nPrize out is based on record. Capped at 3 rounds. \n3-0-0 = $30\n2-1-0 = $15 \nEach player will each be able to pick from a pool of promo pack promos in reverse standings order.
URL:https://afk.games/event/mtg-weekly-pioneer-10/2022-12-08/
LOCATION:AFK Games\, 2495 Cedar Street STE 14-B\, Holt\, MI\, 48842\, United States
CATEGORIES:Events,Magic: The Gathering,Pioneer
ORGANIZER;CN="AFK Games":MAILTO:support@afk-games.com
END:VEVENT
BEGIN:VEVENT
DTSTART;TZID=America/Detroit:20221201T183000
DTEND;TZID=America/Detroit:20221201T213000
DTSTAMP:20260419T143621
CREATED:20220728T215050Z
LAST-MODIFIED:20221119T010837Z
UID:10000283-1669919400-1669930200@afk.games
SUMMARY:MTG Weekly Pioneer
DESCRIPTION:AFK Games hosts weekly Pioneer tournaments on Thursdays starting at 6:30 pm!\nEntry is $10 \nPrize out is based on record. Capped at 3 rounds. \n3-0-0 = $30\n2-1-0 = $15 \nEach player will each be able to pick from a pool of promo pack promos in reverse standings order.
URL:https://afk.games/event/mtg-weekly-pioneer-10/2022-12-01/
LOCATION:AFK Games\, 2495 Cedar Street STE 14-B\, Holt\, MI\, 48842\, United States
CATEGORIES:Events,Magic: The Gathering,Pioneer
ORGANIZER;CN="AFK Games":MAILTO:support@afk-games.com
END:VEVENT
BEGIN:VEVENT
DTSTART;TZID=America/Detroit:20221124T183000
DTEND;TZID=America/Detroit:20221124T213000
DTSTAMP:20260419T143621
CREATED:20220728T215050Z
LAST-MODIFIED:20221119T010837Z
UID:10000282-1669314600-1669325400@afk.games
SUMMARY:MTG Weekly Pioneer
DESCRIPTION:AFK Games hosts weekly Pioneer tournaments on Thursdays starting at 6:30 pm!\nEntry is $10 \nPrize out is based on record. Capped at 3 rounds. \n3-0-0 = $30\n2-1-0 = $15 \nEach player will each be able to pick from a pool of promo pack promos in reverse standings order.
URL:https://afk.games/event/mtg-weekly-pioneer-10/2022-11-24/
LOCATION:AFK Games\, 2495 Cedar Street STE 14-B\, Holt\, MI\, 48842\, United States
CATEGORIES:Events,Magic: The Gathering,Pioneer
ORGANIZER;CN="AFK Games":MAILTO:support@afk-games.com
END:VEVENT
BEGIN:VEVENT
DTSTART;TZID=America/Detroit:20221117T183000
DTEND;TZID=America/Detroit:20221117T213000
DTSTAMP:20260419T143621
CREATED:20220728T215050Z
LAST-MODIFIED:20221119T010837Z
UID:10000281-1668709800-1668720600@afk.games
SUMMARY:MTG Weekly Pioneer
DESCRIPTION:AFK Games hosts weekly Pioneer tournaments on Thursdays starting at 6:30 pm!\nEntry is $10 \nPrize out is based on record. Capped at 3 rounds. \n3-0-0 = $30\n2-1-0 = $15 \nEach player will each be able to pick from a pool of promo pack promos in reverse standings order.
URL:https://afk.games/event/mtg-weekly-pioneer-10/2022-11-17/
LOCATION:AFK Games\, 2495 Cedar Street STE 14-B\, Holt\, MI\, 48842\, United States
CATEGORIES:Events,Magic: The Gathering,Pioneer
ORGANIZER;CN="AFK Games":MAILTO:support@afk-games.com
END:VEVENT
BEGIN:VEVENT
DTSTART;TZID=America/Detroit:20221110T183000
DTEND;TZID=America/Detroit:20221110T213000
DTSTAMP:20260419T143621
CREATED:20220728T215050Z
LAST-MODIFIED:20221119T010837Z
UID:10000280-1668105000-1668115800@afk.games
SUMMARY:MTG Weekly Pioneer
DESCRIPTION:AFK Games hosts weekly Pioneer tournaments on Thursdays starting at 6:30 pm!\nEntry is $10 \nPrize out is based on record. Capped at 3 rounds. \n3-0-0 = $30\n2-1-0 = $15 \nEach player will each be able to pick from a pool of promo pack promos in reverse standings order.
URL:https://afk.games/event/mtg-weekly-pioneer-10/2022-11-10/
LOCATION:AFK Games\, 2495 Cedar Street STE 14-B\, Holt\, MI\, 48842\, United States
CATEGORIES:Events,Magic: The Gathering,Pioneer
ORGANIZER;CN="AFK Games":MAILTO:support@afk-games.com
END:VEVENT
BEGIN:VEVENT
DTSTART;TZID=America/Detroit:20221103T183000
DTEND;TZID=America/Detroit:20221103T213000
DTSTAMP:20260419T143621
CREATED:20220728T215050Z
LAST-MODIFIED:20221119T010837Z
UID:10000279-1667500200-1667511000@afk.games
SUMMARY:MTG Weekly Pioneer
DESCRIPTION:AFK Games hosts weekly Pioneer tournaments on Thursdays starting at 6:30 pm!\nEntry is $10 \nPrize out is based on record. Capped at 3 rounds. \n3-0-0 = $30\n2-1-0 = $15 \nEach player will each be able to pick from a pool of promo pack promos in reverse standings order.
URL:https://afk.games/event/mtg-weekly-pioneer-10/2022-11-03/
LOCATION:AFK Games\, 2495 Cedar Street STE 14-B\, Holt\, MI\, 48842\, United States
CATEGORIES:Events,Magic: The Gathering,Pioneer
ORGANIZER;CN="AFK Games":MAILTO:support@afk-games.com
END:VEVENT
BEGIN:VEVENT
DTSTART;TZID=America/Detroit:20221029T100000
DTEND;TZID=America/Detroit:20221029T193000
DTSTAMP:20260419T143621
CREATED:20221006T235413Z
LAST-MODIFIED:20221007T002439Z
UID:10000308-1667037600-1667071800@afk.games
SUMMARY:Pioneer Dreamhack RCQ Round 2
DESCRIPTION:We will have swiss rounds followed by a cut to the top 8. \nThe first 32 players to register will receive a promo “Thraben Inspector” \nThere will be a free pizza lunch for all participants that will last 30 minutes after round 3.\nThe pizza order will be based on pre-registration numbers on October 26th. \nPre-registration price (ends October 26th 9:00 pm): $30\nRegistration: $40 \nYou can purchase tickets on our webstore:\nhttps://shop.afk.games/product/dreamhack-pioneer-rcq/10204 \nor on MTGMelee:\nhttps://mtgmelee.com/Tournament/View/12279 \nWe prefer if you use our site and then we can add you to MTGMelee to submit decklists if you provide your MTGMelee email when purchasing your ticket on afk.games. \nDoors will open at 9:00 am\, with registration ending at 9:55 am. The player meeting will commence at 10:00 am with our judge\, followed by the start of round 1. \nPrinted/written/online submitted decklists will be required to be given to the head judge during the player meeting at 10:00 am. Decklists can be submitted online on MTGMelee: https://mtgmelee.com/Tournament/View/12279 \nRegistration end: 9:55 am\nPlayer meeting: 10:00 am\nRound 1: directly after the player meeting \nPrizes:\n1st – Cash Prize + Exclusive Promo + Top 8 promo\n2nd – Cash Prize + Top 8 promo\n3/4th -Cash Prize + Top 8 promo\n5-8th – Cash Prize + Top 8 promo \nPrizes will be in cash\, with the option of store credit at 120% of your winnings (ex. $100 cash is $120 in-store credit). \nCash prizes will be scaled with attendance. But some major milestones will be:\n32 players: $500 pool\n64 players: $1000 pool
URL:https://afk.games/event/pioneer-dreamhack-rcq-round-2/
LOCATION:AFK Games\, 2495 Cedar Street STE 14-B\, Holt\, MI\, 48842\, United States
CATEGORIES:Events,Magic: The Gathering,Pioneer
ORGANIZER;CN="AFK Games":MAILTO:support@afk-games.com
END:VEVENT
BEGIN:VEVENT
DTSTART;TZID=America/Detroit:20221027T183000
DTEND;TZID=America/Detroit:20221027T213000
DTSTAMP:20260419T143621
CREATED:20220728T215050Z
LAST-MODIFIED:20221119T010837Z
UID:10000278-1666895400-1666906200@afk.games
SUMMARY:MTG Weekly Pioneer
DESCRIPTION:AFK Games hosts weekly Pioneer tournaments on Thursdays starting at 6:30 pm!\nEntry is $10 \nPrize out is based on record. Capped at 3 rounds. \n3-0-0 = $30\n2-1-0 = $15 \nEach player will each be able to pick from a pool of promo pack promos in reverse standings order.
URL:https://afk.games/event/mtg-weekly-pioneer-10/2022-10-27/
LOCATION:AFK Games\, 2495 Cedar Street STE 14-B\, Holt\, MI\, 48842\, United States
CATEGORIES:Events,Magic: The Gathering,Pioneer
ORGANIZER;CN="AFK Games":MAILTO:support@afk-games.com
END:VEVENT
BEGIN:VEVENT
DTSTART;TZID=America/Detroit:20221020T183000
DTEND;TZID=America/Detroit:20221020T213000
DTSTAMP:20260419T143621
CREATED:20220728T215050Z
LAST-MODIFIED:20221119T010837Z
UID:10000277-1666290600-1666301400@afk.games
SUMMARY:MTG Weekly Pioneer
DESCRIPTION:AFK Games hosts weekly Pioneer tournaments on Thursdays starting at 6:30 pm!\nEntry is $10 \nPrize out is based on record. Capped at 3 rounds. \n3-0-0 = $30\n2-1-0 = $15 \nEach player will each be able to pick from a pool of promo pack promos in reverse standings order.
URL:https://afk.games/event/mtg-weekly-pioneer-10/2022-10-20/
LOCATION:AFK Games\, 2495 Cedar Street STE 14-B\, Holt\, MI\, 48842\, United States
CATEGORIES:Events,Magic: The Gathering,Pioneer
ORGANIZER;CN="AFK Games":MAILTO:support@afk-games.com
END:VEVENT
BEGIN:VEVENT
DTSTART;TZID=America/Detroit:20221013T183000
DTEND;TZID=America/Detroit:20221013T213000
DTSTAMP:20260419T143621
CREATED:20220728T215050Z
LAST-MODIFIED:20221119T010837Z
UID:10000276-1665685800-1665696600@afk.games
SUMMARY:MTG Weekly Pioneer
DESCRIPTION:AFK Games hosts weekly Pioneer tournaments on Thursdays starting at 6:30 pm!\nEntry is $10 \nPrize out is based on record. Capped at 3 rounds. \n3-0-0 = $30\n2-1-0 = $15 \nEach player will each be able to pick from a pool of promo pack promos in reverse standings order.
URL:https://afk.games/event/mtg-weekly-pioneer-10/2022-10-13/
LOCATION:AFK Games\, 2495 Cedar Street STE 14-B\, Holt\, MI\, 48842\, United States
CATEGORIES:Events,Magic: The Gathering,Pioneer
ORGANIZER;CN="AFK Games":MAILTO:support@afk-games.com
END:VEVENT
BEGIN:VEVENT
DTSTART;TZID=America/Detroit:20221006T183000
DTEND;TZID=America/Detroit:20221006T213000
DTSTAMP:20260419T143621
CREATED:20220728T215050Z
LAST-MODIFIED:20221119T010837Z
UID:10000275-1665081000-1665091800@afk.games
SUMMARY:MTG Weekly Pioneer
DESCRIPTION:AFK Games hosts weekly Pioneer tournaments on Thursdays starting at 6:30 pm!\nEntry is $10 \nPrize out is based on record. Capped at 3 rounds. \n3-0-0 = $30\n2-1-0 = $15 \nEach player will each be able to pick from a pool of promo pack promos in reverse standings order.
URL:https://afk.games/event/mtg-weekly-pioneer-10/2022-10-06/
LOCATION:AFK Games\, 2495 Cedar Street STE 14-B\, Holt\, MI\, 48842\, United States
CATEGORIES:Events,Magic: The Gathering,Pioneer
ORGANIZER;CN="AFK Games":MAILTO:support@afk-games.com
END:VEVENT
BEGIN:VEVENT
DTSTART;TZID=America/Detroit:20220929T183000
DTEND;TZID=America/Detroit:20220929T213000
DTSTAMP:20260419T143621
CREATED:20220728T215050Z
LAST-MODIFIED:20221119T010837Z
UID:10000110-1664476200-1664487000@afk.games
SUMMARY:MTG Weekly Pioneer
DESCRIPTION:AFK Games hosts weekly Pioneer tournaments on Thursdays starting at 6:30 pm!\nEntry is $10 \nPrize out is based on record. Capped at 3 rounds. \n3-0-0 = $30\n2-1-0 = $15 \nEach player will each be able to pick from a pool of promo pack promos in reverse standings order.
URL:https://afk.games/event/mtg-weekly-pioneer-10/2022-09-29/
LOCATION:AFK Games\, 2495 Cedar Street STE 14-B\, Holt\, MI\, 48842\, United States
CATEGORIES:Events,Magic: The Gathering,Pioneer
ORGANIZER;CN="AFK Games":MAILTO:support@afk-games.com
END:VEVENT
BEGIN:VEVENT
DTSTART;TZID=America/Detroit:20220922T183000
DTEND;TZID=America/Detroit:20220922T213000
DTSTAMP:20260419T143621
CREATED:20220728T215050Z
LAST-MODIFIED:20220728T215620Z
UID:10000109-1663871400-1663882200@afk.games
SUMMARY:MTG Weekly Pioneer
DESCRIPTION:AFK Games hosts weekly Pioneer tournaments on Thursdays starting at 6:30 pm!\nEntry is $10\n\nPrize out is based on record.\n\n4-0-0 = $60\n3-0-1 = $40\n3-1-0 = $20\n2-1-1 = $10\n\nEach player will each be able to pick from a pool of promo packs in reverse standings order.
URL:https://afk.games/event/mtg-weekly-pioneer-9/
LOCATION:AFK Games\, 2495 Cedar Street STE 14-B\, Holt\, MI\, 48842\, United States
CATEGORIES:Events,Magic: The Gathering,Pioneer
ORGANIZER;CN="AFK Games":MAILTO:support@afk-games.com
END:VEVENT
BEGIN:VEVENT
DTSTART;TZID=America/Detroit:20220915T183000
DTEND;TZID=America/Detroit:20220915T213000
DTSTAMP:20260419T143621
CREATED:20220728T215050Z
LAST-MODIFIED:20220728T215620Z
UID:10000108-1663266600-1663277400@afk.games
SUMMARY:MTG Weekly Pioneer
DESCRIPTION:AFK Games hosts weekly Pioneer tournaments on Thursdays starting at 6:30 pm!\nEntry is $10\n\nPrize out is based on record.\n\n4-0-0 = $60\n3-0-1 = $40\n3-1-0 = $20\n2-1-1 = $10\n\nEach player will each be able to pick from a pool of promo packs in reverse standings order.
URL:https://afk.games/event/mtg-weekly-pioneer-8/
LOCATION:AFK Games\, 2495 Cedar Street STE 14-B\, Holt\, MI\, 48842\, United States
CATEGORIES:Events,Magic: The Gathering,Pioneer
ORGANIZER;CN="AFK Games":MAILTO:support@afk-games.com
END:VEVENT
BEGIN:VEVENT
DTSTART;TZID=America/Detroit:20220908T183000
DTEND;TZID=America/Detroit:20220908T213000
DTSTAMP:20260419T143621
CREATED:20220728T215049Z
LAST-MODIFIED:20220728T215620Z
UID:10000107-1662661800-1662672600@afk.games
SUMMARY:MTG Weekly Pioneer
DESCRIPTION:AFK Games hosts weekly Pioneer tournaments on Thursdays starting at 6:30 pm!\nEntry is $10\n\nPrize out is based on record.\n\n4-0-0 = $60\n3-0-1 = $40\n3-1-0 = $20\n2-1-1 = $10\n\nEach player will each be able to pick from a pool of promo packs in reverse standings order.
URL:https://afk.games/event/mtg-weekly-pioneer-7/
LOCATION:AFK Games\, 2495 Cedar Street STE 14-B\, Holt\, MI\, 48842\, United States
CATEGORIES:Events,Magic: The Gathering,Pioneer
ORGANIZER;CN="AFK Games":MAILTO:support@afk-games.com
END:VEVENT
BEGIN:VEVENT
DTSTART;TZID=America/Detroit:20220901T183000
DTEND;TZID=America/Detroit:20220901T213000
DTSTAMP:20260419T143621
CREATED:20220728T215049Z
LAST-MODIFIED:20220728T215620Z
UID:10000106-1662057000-1662067800@afk.games
SUMMARY:MTG Weekly Pioneer
DESCRIPTION:AFK Games hosts weekly Pioneer tournaments on Thursdays starting at 6:30 pm!\nEntry is $10\n\nPrize out is based on record.\n\n4-0-0 = $60\n3-0-1 = $40\n3-1-0 = $20\n2-1-1 = $10\n\nEach player will each be able to pick from a pool of promo packs in reverse standings order.
URL:https://afk.games/event/mtg-weekly-pioneer-6/
LOCATION:AFK Games\, 2495 Cedar Street STE 14-B\, Holt\, MI\, 48842\, United States
CATEGORIES:Events,Magic: The Gathering,Pioneer
ORGANIZER;CN="AFK Games":MAILTO:support@afk-games.com
END:VEVENT
END:VCALENDAR