BEGIN:VCALENDAR
VERSION:2.0
PRODID:-//AFK Games - ECPv6.15.20//NONSGML v1.0//EN
CALSCALE:GREGORIAN
METHOD:PUBLISH
X-WR-CALNAME:AFK Games
X-ORIGINAL-URL:https://afk.games
X-WR-CALDESC:Events for AFK Games
REFRESH-INTERVAL;VALUE=DURATION:PT1H
X-Robots-Tag:noindex
X-PUBLISHED-TTL:PT1H
BEGIN:VTIMEZONE
TZID:America/Detroit
BEGIN:DAYLIGHT
TZOFFSETFROM:-0500
TZOFFSETTO:-0400
TZNAME:EDT
DTSTART:20220313T070000
END:DAYLIGHT
BEGIN:STANDARD
TZOFFSETFROM:-0400
TZOFFSETTO:-0500
TZNAME:EST
DTSTART:20221106T060000
END:STANDARD
BEGIN:DAYLIGHT
TZOFFSETFROM:-0500
TZOFFSETTO:-0400
TZNAME:EDT
DTSTART:20230312T070000
END:DAYLIGHT
BEGIN:STANDARD
TZOFFSETFROM:-0400
TZOFFSETTO:-0500
TZNAME:EST
DTSTART:20231105T060000
END:STANDARD
BEGIN:DAYLIGHT
TZOFFSETFROM:-0500
TZOFFSETTO:-0400
TZNAME:EDT
DTSTART:20240310T070000
END:DAYLIGHT
BEGIN:STANDARD
TZOFFSETFROM:-0400
TZOFFSETTO:-0500
TZNAME:EST
DTSTART:20241103T060000
END:STANDARD
BEGIN:DAYLIGHT
TZOFFSETFROM:-0500
TZOFFSETTO:-0400
TZNAME:EDT
DTSTART:20250309T070000
END:DAYLIGHT
BEGIN:STANDARD
TZOFFSETFROM:-0400
TZOFFSETTO:-0500
TZNAME:EST
DTSTART:20251102T060000
END:STANDARD
END:VTIMEZONE
BEGIN:VEVENT
DTSTART;TZID=America/Detroit:20240713T100000
DTEND;TZID=America/Detroit:20240713T180000
DTSTAMP:20260419T092442
CREATED:20240616T175514Z
LAST-MODIFIED:20240616T175514Z
UID:10002931-1720864800-1720893600@afk.games
SUMMARY:July 13th - Season 3 - Round 1 - Pioneer RCQ (2-Slot)
DESCRIPTION:Tournament Format\nThis event will be a 2-slot RCQ for SCG CON Washington D.C\, which means 1st and 2nd will receive an RCQ invite.  \nFormat: Pioneer \nWe will be playing rounds of Swiss as recommended by the tournament rules. Following the Swiss rounds\, the top 8 players overall will play in single-elimination rounds. \nTickets: https://shop.afk.games/products/july-13th-season-3-round-1-pioneer-rcq-2-slot\nMelee: https://melee.gg/Tournament/View/108746\nRegistration: $30 \nTournament Schedule\nDoors will open at 9:30 am \nRegistration ends at 9:55 am.  \nThe player meeting will commence at 10:00 am with our head judge Nick Babcock\, followed by the start of deck registration. \nPrizes:\n1st – 30% of Store Credit pool + Exclusive Promo + Top 8 promo + RCQ Invite \n2nd – 20% of Store Credit pool + Exclusive Promo + Top 8 promo + RCQ Invite \n3/4th – 10% of Store Credit pool + Top 8 promo \n5-8th – 7.5% of Store Credit pool + Top 8 promo \nThe first 64 players will receive an RCQ promo. \nStore credit prizes will be scaled with attendance. Finalized prizing amounts will be announced after the lunch break.
URL:https://afk.games/event/july-13th-season-3-round-1-pioneer-rcq-2-slot/
LOCATION:AFK Games\, 2495 Cedar Street STE 14-B\, Holt\, MI\, 48842\, United States
CATEGORIES:Events,Magic: The Gathering,Pioneer,RCQ
ORGANIZER;CN="AFK Games":MAILTO:support@afk-games.com
END:VEVENT
BEGIN:VEVENT
DTSTART;TZID=America/Detroit:20240615T100000
DTEND;TZID=America/Detroit:20240615T190000
DTSTAMP:20260419T092442
CREATED:20240523T200202Z
LAST-MODIFIED:20240531T213317Z
UID:10002807-1718445600-1718478000@afk.games
SUMMARY:Pioneer RCQ (2-Slot) - June 15th - Season 3 - Round 1
DESCRIPTION:Tournament Format\nThis event will be a 2-slot RCQ for SCG CON Washington D.C\, which means 1st and 2nd will receive an RCQ invite.\nFormat: Pioneer\nWe will be playing rounds of Swiss as recommended by the tournament rules. Following the Swiss rounds\, the top 8 players overall will play in single-elimination rounds.\n\nRegistration: $30\nTournament Schedule\nDoors will open at 9:30 am\nRegistration ends at 9:55 am.\nThe player meeting will commence at 10:00 am with our head judge Nick Babcock\, followed by the start of deck registration.\nPrizes:\n1st – 30% of Store Credit pool + Exclusive Promo + Top 8 promo + RCQ Invite2nd – 20% of Store Credit pool + Exclusive Promo + Top 8 promo + RCQ Invite3/4th – 10% of Store Credit pool + Top 8 promo5-8th – 7.5% of Store Credit pool + Top 8 promo\nThe first 64 players will receive an RCQ promo.\n\nStore credit prizes will be scaled with attendance. Finalized prizing amounts will be announced after the lunch break.
URL:https://afk.games/event/pioneer-rcq-2-slot-june-15th-season-3-round-1/
LOCATION:AFK Games\, 2495 Cedar Street STE 14-B\, Holt\, MI\, 48842\, United States
CATEGORIES:Events,Magic: The Gathering,Pioneer,RCQ
ORGANIZER;CN="AFK Games":MAILTO:support@afk-games.com
END:VEVENT
BEGIN:VEVENT
DTSTART;TZID=America/Detroit:20230914T183000
DTEND;TZID=America/Detroit:20230914T213000
DTSTAMP:20260419T092442
CREATED:20220728T215050Z
LAST-MODIFIED:20221119T010837Z
UID:10000826-1694716200-1694727000@afk.games
SUMMARY:MTG Weekly Pioneer
DESCRIPTION:AFK Games hosts weekly Pioneer tournaments on Thursdays starting at 6:30 pm!\nEntry is $10 \nPrize out is based on record. Capped at 3 rounds. \n3-0-0 = $30\n2-1-0 = $15 \nEach player will each be able to pick from a pool of promo pack promos in reverse standings order.
URL:https://afk.games/event/mtg-weekly-pioneer-10/2023-09-14/
LOCATION:AFK Games\, 2495 Cedar Street STE 14-B\, Holt\, MI\, 48842\, United States
CATEGORIES:Events,Magic: The Gathering,Pioneer
ORGANIZER;CN="AFK Games":MAILTO:support@afk-games.com
END:VEVENT
BEGIN:VEVENT
DTSTART;TZID=America/Detroit:20230907T183000
DTEND;TZID=America/Detroit:20230907T213000
DTSTAMP:20260419T092442
CREATED:20220728T215050Z
LAST-MODIFIED:20221119T010837Z
UID:10000825-1694111400-1694122200@afk.games
SUMMARY:MTG Weekly Pioneer
DESCRIPTION:AFK Games hosts weekly Pioneer tournaments on Thursdays starting at 6:30 pm!\nEntry is $10 \nPrize out is based on record. Capped at 3 rounds. \n3-0-0 = $30\n2-1-0 = $15 \nEach player will each be able to pick from a pool of promo pack promos in reverse standings order.
URL:https://afk.games/event/mtg-weekly-pioneer-10/2023-09-07/
LOCATION:AFK Games\, 2495 Cedar Street STE 14-B\, Holt\, MI\, 48842\, United States
CATEGORIES:Events,Magic: The Gathering,Pioneer
ORGANIZER;CN="AFK Games":MAILTO:support@afk-games.com
END:VEVENT
BEGIN:VEVENT
DTSTART;TZID=America/Detroit:20230831T183000
DTEND;TZID=America/Detroit:20230831T213000
DTSTAMP:20260419T092442
CREATED:20220728T215050Z
LAST-MODIFIED:20221119T010837Z
UID:10000824-1693506600-1693517400@afk.games
SUMMARY:MTG Weekly Pioneer
DESCRIPTION:AFK Games hosts weekly Pioneer tournaments on Thursdays starting at 6:30 pm!\nEntry is $10 \nPrize out is based on record. Capped at 3 rounds. \n3-0-0 = $30\n2-1-0 = $15 \nEach player will each be able to pick from a pool of promo pack promos in reverse standings order.
URL:https://afk.games/event/mtg-weekly-pioneer-10/2023-08-31/
LOCATION:AFK Games\, 2495 Cedar Street STE 14-B\, Holt\, MI\, 48842\, United States
CATEGORIES:Events,Magic: The Gathering,Pioneer
ORGANIZER;CN="AFK Games":MAILTO:support@afk-games.com
END:VEVENT
BEGIN:VEVENT
DTSTART;TZID=America/Detroit:20230824T183000
DTEND;TZID=America/Detroit:20230824T213000
DTSTAMP:20260419T092442
CREATED:20220728T215050Z
LAST-MODIFIED:20221119T010837Z
UID:10000823-1692901800-1692912600@afk.games
SUMMARY:MTG Weekly Pioneer
DESCRIPTION:AFK Games hosts weekly Pioneer tournaments on Thursdays starting at 6:30 pm!\nEntry is $10 \nPrize out is based on record. Capped at 3 rounds. \n3-0-0 = $30\n2-1-0 = $15 \nEach player will each be able to pick from a pool of promo pack promos in reverse standings order.
URL:https://afk.games/event/mtg-weekly-pioneer-10/2023-08-24/
LOCATION:AFK Games\, 2495 Cedar Street STE 14-B\, Holt\, MI\, 48842\, United States
CATEGORIES:Events,Magic: The Gathering,Pioneer
ORGANIZER;CN="AFK Games":MAILTO:support@afk-games.com
END:VEVENT
BEGIN:VEVENT
DTSTART;TZID=America/Detroit:20230817T183000
DTEND;TZID=America/Detroit:20230817T213000
DTSTAMP:20260419T092442
CREATED:20220728T215050Z
LAST-MODIFIED:20221119T010837Z
UID:10000822-1692297000-1692307800@afk.games
SUMMARY:MTG Weekly Pioneer
DESCRIPTION:AFK Games hosts weekly Pioneer tournaments on Thursdays starting at 6:30 pm!\nEntry is $10 \nPrize out is based on record. Capped at 3 rounds. \n3-0-0 = $30\n2-1-0 = $15 \nEach player will each be able to pick from a pool of promo pack promos in reverse standings order.
URL:https://afk.games/event/mtg-weekly-pioneer-10/2023-08-17/
LOCATION:AFK Games\, 2495 Cedar Street STE 14-B\, Holt\, MI\, 48842\, United States
CATEGORIES:Events,Magic: The Gathering,Pioneer
ORGANIZER;CN="AFK Games":MAILTO:support@afk-games.com
END:VEVENT
BEGIN:VEVENT
DTSTART;TZID=America/Detroit:20230810T183000
DTEND;TZID=America/Detroit:20230810T213000
DTSTAMP:20260419T092442
CREATED:20220728T215050Z
LAST-MODIFIED:20221119T010837Z
UID:10000821-1691692200-1691703000@afk.games
SUMMARY:MTG Weekly Pioneer
DESCRIPTION:AFK Games hosts weekly Pioneer tournaments on Thursdays starting at 6:30 pm!\nEntry is $10 \nPrize out is based on record. Capped at 3 rounds. \n3-0-0 = $30\n2-1-0 = $15 \nEach player will each be able to pick from a pool of promo pack promos in reverse standings order.
URL:https://afk.games/event/mtg-weekly-pioneer-10/2023-08-10/
LOCATION:AFK Games\, 2495 Cedar Street STE 14-B\, Holt\, MI\, 48842\, United States
CATEGORIES:Events,Magic: The Gathering,Pioneer
ORGANIZER;CN="AFK Games":MAILTO:support@afk-games.com
END:VEVENT
BEGIN:VEVENT
DTSTART;TZID=America/Detroit:20230803T183000
DTEND;TZID=America/Detroit:20230803T213000
DTSTAMP:20260419T092442
CREATED:20220728T215050Z
LAST-MODIFIED:20221119T010837Z
UID:10000820-1691087400-1691098200@afk.games
SUMMARY:MTG Weekly Pioneer
DESCRIPTION:AFK Games hosts weekly Pioneer tournaments on Thursdays starting at 6:30 pm!\nEntry is $10 \nPrize out is based on record. Capped at 3 rounds. \n3-0-0 = $30\n2-1-0 = $15 \nEach player will each be able to pick from a pool of promo pack promos in reverse standings order.
URL:https://afk.games/event/mtg-weekly-pioneer-10/2023-08-03/
LOCATION:AFK Games\, 2495 Cedar Street STE 14-B\, Holt\, MI\, 48842\, United States
CATEGORIES:Events,Magic: The Gathering,Pioneer
ORGANIZER;CN="AFK Games":MAILTO:support@afk-games.com
END:VEVENT
BEGIN:VEVENT
DTSTART;TZID=America/Detroit:20230727T183000
DTEND;TZID=America/Detroit:20230727T213000
DTSTAMP:20260419T092442
CREATED:20220728T215050Z
LAST-MODIFIED:20221119T010837Z
UID:10000819-1690482600-1690493400@afk.games
SUMMARY:MTG Weekly Pioneer
DESCRIPTION:AFK Games hosts weekly Pioneer tournaments on Thursdays starting at 6:30 pm!\nEntry is $10 \nPrize out is based on record. Capped at 3 rounds. \n3-0-0 = $30\n2-1-0 = $15 \nEach player will each be able to pick from a pool of promo pack promos in reverse standings order.
URL:https://afk.games/event/mtg-weekly-pioneer-10/2023-07-27/
LOCATION:AFK Games\, 2495 Cedar Street STE 14-B\, Holt\, MI\, 48842\, United States
CATEGORIES:Events,Magic: The Gathering,Pioneer
ORGANIZER;CN="AFK Games":MAILTO:support@afk-games.com
END:VEVENT
BEGIN:VEVENT
DTSTART;TZID=America/Detroit:20230720T183000
DTEND;TZID=America/Detroit:20230720T213000
DTSTAMP:20260419T092442
CREATED:20220728T215050Z
LAST-MODIFIED:20221119T010837Z
UID:10000818-1689877800-1689888600@afk.games
SUMMARY:MTG Weekly Pioneer
DESCRIPTION:AFK Games hosts weekly Pioneer tournaments on Thursdays starting at 6:30 pm!\nEntry is $10 \nPrize out is based on record. Capped at 3 rounds. \n3-0-0 = $30\n2-1-0 = $15 \nEach player will each be able to pick from a pool of promo pack promos in reverse standings order.
URL:https://afk.games/event/mtg-weekly-pioneer-10/2023-07-20/
LOCATION:AFK Games\, 2495 Cedar Street STE 14-B\, Holt\, MI\, 48842\, United States
CATEGORIES:Events,Magic: The Gathering,Pioneer
ORGANIZER;CN="AFK Games":MAILTO:support@afk-games.com
END:VEVENT
BEGIN:VEVENT
DTSTART;TZID=America/Detroit:20230713T183000
DTEND;TZID=America/Detroit:20230713T213000
DTSTAMP:20260419T092442
CREATED:20220728T215050Z
LAST-MODIFIED:20221119T010837Z
UID:10000817-1689273000-1689283800@afk.games
SUMMARY:MTG Weekly Pioneer
DESCRIPTION:AFK Games hosts weekly Pioneer tournaments on Thursdays starting at 6:30 pm!\nEntry is $10 \nPrize out is based on record. Capped at 3 rounds. \n3-0-0 = $30\n2-1-0 = $15 \nEach player will each be able to pick from a pool of promo pack promos in reverse standings order.
URL:https://afk.games/event/mtg-weekly-pioneer-10/2023-07-13/
LOCATION:AFK Games\, 2495 Cedar Street STE 14-B\, Holt\, MI\, 48842\, United States
CATEGORIES:Events,Magic: The Gathering,Pioneer
ORGANIZER;CN="AFK Games":MAILTO:support@afk-games.com
END:VEVENT
BEGIN:VEVENT
DTSTART;TZID=America/Detroit:20230708T100000
DTEND;TZID=America/Detroit:20230708T190000
DTSTAMP:20260419T092442
CREATED:20230526T185319Z
LAST-MODIFIED:20230526T185319Z
UID:10001351-1688810400-1688842800@afk.games
SUMMARY:Pioneer Dreamhack RCQ (2-slot)
DESCRIPTION:Tournament Format\nThis event will be a 2-slot Dreamhack RCQ\, which means 1st and 2nd will both receive an RCQ invite.\nThis tournament will be in the Pioneer format\, and using Swiss tournament rules. We will play Swiss rounds followed by a cut to the top 8. The cut to the top 8 will be single elimination. \nTickets\nRegistration: \nhttps://shop.afk.games/product/pioneer-dreamhack-rcq-2-slot-/11712 \nWe prefer that you use our website\,  then we can add you to MTGMelee afterward to submit decklists. \nTournament Schedule\nDoors will open at 9:00 am\nRegistration ends at 9:55 am.\nThe player meeting will commence at 10:00 am with our head judge Nick Babcock\, followed by the start of round 1. \nPrizes:\n1st – 30% of Store Credit pool + Exclusive Promo + Top 8 promo + RCQ Invite\n2nd – 20% of Store Credit pool + Exclusive Promo + Top 8 promo + RCQ Invite\n3/4th – 10% of Store Credit pool + Top 8 promo\n5-8th – 7.5% of Store Credit pool + Top 8 promo \nThe first 64 players will receive an RCQ promo.  \nStore credit prizes will be scaled with attendance. But the major milestones will be:\n32 players: $780\n64 players: $2100
URL:https://afk.games/event/pioneer-dreamhack-rcq-2-slot/
LOCATION:AFK Games\, 2495 Cedar Street STE 14-B\, Holt\, MI\, 48842\, United States
CATEGORIES:Events,Magic: The Gathering,Pioneer
ORGANIZER;CN="AFK Games":MAILTO:support@afk-games.com
END:VEVENT
BEGIN:VEVENT
DTSTART;TZID=America/Detroit:20230706T183000
DTEND;TZID=America/Detroit:20230706T213000
DTSTAMP:20260419T092442
CREATED:20220728T215050Z
LAST-MODIFIED:20221119T010837Z
UID:10000816-1688668200-1688679000@afk.games
SUMMARY:MTG Weekly Pioneer
DESCRIPTION:AFK Games hosts weekly Pioneer tournaments on Thursdays starting at 6:30 pm!\nEntry is $10 \nPrize out is based on record. Capped at 3 rounds. \n3-0-0 = $30\n2-1-0 = $15 \nEach player will each be able to pick from a pool of promo pack promos in reverse standings order.
URL:https://afk.games/event/mtg-weekly-pioneer-10/2023-07-06/
LOCATION:AFK Games\, 2495 Cedar Street STE 14-B\, Holt\, MI\, 48842\, United States
CATEGORIES:Events,Magic: The Gathering,Pioneer
ORGANIZER;CN="AFK Games":MAILTO:support@afk-games.com
END:VEVENT
BEGIN:VEVENT
DTSTART;TZID=America/Detroit:20230629T183000
DTEND;TZID=America/Detroit:20230629T213000
DTSTAMP:20260419T092442
CREATED:20220728T215050Z
LAST-MODIFIED:20221119T010837Z
UID:10000815-1688063400-1688074200@afk.games
SUMMARY:MTG Weekly Pioneer
DESCRIPTION:AFK Games hosts weekly Pioneer tournaments on Thursdays starting at 6:30 pm!\nEntry is $10 \nPrize out is based on record. Capped at 3 rounds. \n3-0-0 = $30\n2-1-0 = $15 \nEach player will each be able to pick from a pool of promo pack promos in reverse standings order.
URL:https://afk.games/event/mtg-weekly-pioneer-10/2023-06-29/
LOCATION:AFK Games\, 2495 Cedar Street STE 14-B\, Holt\, MI\, 48842\, United States
CATEGORIES:Events,Magic: The Gathering,Pioneer
ORGANIZER;CN="AFK Games":MAILTO:support@afk-games.com
END:VEVENT
BEGIN:VEVENT
DTSTART;TZID=America/Detroit:20230622T183000
DTEND;TZID=America/Detroit:20230622T213000
DTSTAMP:20260419T092442
CREATED:20220728T215050Z
LAST-MODIFIED:20221119T010837Z
UID:10000814-1687458600-1687469400@afk.games
SUMMARY:MTG Weekly Pioneer
DESCRIPTION:AFK Games hosts weekly Pioneer tournaments on Thursdays starting at 6:30 pm!\nEntry is $10 \nPrize out is based on record. Capped at 3 rounds. \n3-0-0 = $30\n2-1-0 = $15 \nEach player will each be able to pick from a pool of promo pack promos in reverse standings order.
URL:https://afk.games/event/mtg-weekly-pioneer-10/2023-06-22/
LOCATION:AFK Games\, 2495 Cedar Street STE 14-B\, Holt\, MI\, 48842\, United States
CATEGORIES:Events,Magic: The Gathering,Pioneer
ORGANIZER;CN="AFK Games":MAILTO:support@afk-games.com
END:VEVENT
BEGIN:VEVENT
DTSTART;TZID=America/Detroit:20230615T183000
DTEND;TZID=America/Detroit:20230615T213000
DTSTAMP:20260419T092442
CREATED:20220728T215050Z
LAST-MODIFIED:20221119T010837Z
UID:10000813-1686853800-1686864600@afk.games
SUMMARY:MTG Weekly Pioneer
DESCRIPTION:AFK Games hosts weekly Pioneer tournaments on Thursdays starting at 6:30 pm!\nEntry is $10 \nPrize out is based on record. Capped at 3 rounds. \n3-0-0 = $30\n2-1-0 = $15 \nEach player will each be able to pick from a pool of promo pack promos in reverse standings order.
URL:https://afk.games/event/mtg-weekly-pioneer-10/2023-06-15/
LOCATION:AFK Games\, 2495 Cedar Street STE 14-B\, Holt\, MI\, 48842\, United States
CATEGORIES:Events,Magic: The Gathering,Pioneer
ORGANIZER;CN="AFK Games":MAILTO:support@afk-games.com
END:VEVENT
BEGIN:VEVENT
DTSTART;TZID=America/Detroit:20230608T183000
DTEND;TZID=America/Detroit:20230608T213000
DTSTAMP:20260419T092442
CREATED:20220728T215050Z
LAST-MODIFIED:20221119T010837Z
UID:10000812-1686249000-1686259800@afk.games
SUMMARY:MTG Weekly Pioneer
DESCRIPTION:AFK Games hosts weekly Pioneer tournaments on Thursdays starting at 6:30 pm!\nEntry is $10 \nPrize out is based on record. Capped at 3 rounds. \n3-0-0 = $30\n2-1-0 = $15 \nEach player will each be able to pick from a pool of promo pack promos in reverse standings order.
URL:https://afk.games/event/mtg-weekly-pioneer-10/2023-06-08/
LOCATION:AFK Games\, 2495 Cedar Street STE 14-B\, Holt\, MI\, 48842\, United States
CATEGORIES:Events,Magic: The Gathering,Pioneer
ORGANIZER;CN="AFK Games":MAILTO:support@afk-games.com
END:VEVENT
BEGIN:VEVENT
DTSTART;TZID=America/Detroit:20230601T183000
DTEND;TZID=America/Detroit:20230601T213000
DTSTAMP:20260419T092442
CREATED:20220728T215050Z
LAST-MODIFIED:20221119T010837Z
UID:10000811-1685644200-1685655000@afk.games
SUMMARY:MTG Weekly Pioneer
DESCRIPTION:AFK Games hosts weekly Pioneer tournaments on Thursdays starting at 6:30 pm!\nEntry is $10 \nPrize out is based on record. Capped at 3 rounds. \n3-0-0 = $30\n2-1-0 = $15 \nEach player will each be able to pick from a pool of promo pack promos in reverse standings order.
URL:https://afk.games/event/mtg-weekly-pioneer-10/2023-06-01/
LOCATION:AFK Games\, 2495 Cedar Street STE 14-B\, Holt\, MI\, 48842\, United States
CATEGORIES:Events,Magic: The Gathering,Pioneer
ORGANIZER;CN="AFK Games":MAILTO:support@afk-games.com
END:VEVENT
BEGIN:VEVENT
DTSTART;TZID=America/Detroit:20230525T183000
DTEND;TZID=America/Detroit:20230525T213000
DTSTAMP:20260419T092442
CREATED:20220728T215050Z
LAST-MODIFIED:20221119T010837Z
UID:10000810-1685039400-1685050200@afk.games
SUMMARY:MTG Weekly Pioneer
DESCRIPTION:AFK Games hosts weekly Pioneer tournaments on Thursdays starting at 6:30 pm!\nEntry is $10 \nPrize out is based on record. Capped at 3 rounds. \n3-0-0 = $30\n2-1-0 = $15 \nEach player will each be able to pick from a pool of promo pack promos in reverse standings order.
URL:https://afk.games/event/mtg-weekly-pioneer-10/2023-05-25/
LOCATION:AFK Games\, 2495 Cedar Street STE 14-B\, Holt\, MI\, 48842\, United States
CATEGORIES:Events,Magic: The Gathering,Pioneer
ORGANIZER;CN="AFK Games":MAILTO:support@afk-games.com
END:VEVENT
BEGIN:VEVENT
DTSTART;TZID=America/Detroit:20230518T183000
DTEND;TZID=America/Detroit:20230518T213000
DTSTAMP:20260419T092442
CREATED:20220728T215050Z
LAST-MODIFIED:20221119T010837Z
UID:10000809-1684434600-1684445400@afk.games
SUMMARY:MTG Weekly Pioneer
DESCRIPTION:AFK Games hosts weekly Pioneer tournaments on Thursdays starting at 6:30 pm!\nEntry is $10 \nPrize out is based on record. Capped at 3 rounds. \n3-0-0 = $30\n2-1-0 = $15 \nEach player will each be able to pick from a pool of promo pack promos in reverse standings order.
URL:https://afk.games/event/mtg-weekly-pioneer-10/2023-05-18/
LOCATION:AFK Games\, 2495 Cedar Street STE 14-B\, Holt\, MI\, 48842\, United States
CATEGORIES:Events,Magic: The Gathering,Pioneer
ORGANIZER;CN="AFK Games":MAILTO:support@afk-games.com
END:VEVENT
BEGIN:VEVENT
DTSTART;TZID=America/Detroit:20230511T183000
DTEND;TZID=America/Detroit:20230511T213000
DTSTAMP:20260419T092442
CREATED:20220728T215050Z
LAST-MODIFIED:20221119T010837Z
UID:10000808-1683829800-1683840600@afk.games
SUMMARY:MTG Weekly Pioneer
DESCRIPTION:AFK Games hosts weekly Pioneer tournaments on Thursdays starting at 6:30 pm!\nEntry is $10 \nPrize out is based on record. Capped at 3 rounds. \n3-0-0 = $30\n2-1-0 = $15 \nEach player will each be able to pick from a pool of promo pack promos in reverse standings order.
URL:https://afk.games/event/mtg-weekly-pioneer-10/2023-05-11/
LOCATION:AFK Games\, 2495 Cedar Street STE 14-B\, Holt\, MI\, 48842\, United States
CATEGORIES:Events,Magic: The Gathering,Pioneer
ORGANIZER;CN="AFK Games":MAILTO:support@afk-games.com
END:VEVENT
BEGIN:VEVENT
DTSTART;TZID=America/Detroit:20230504T183000
DTEND;TZID=America/Detroit:20230504T213000
DTSTAMP:20260419T092442
CREATED:20220728T215050Z
LAST-MODIFIED:20221119T010837Z
UID:10000807-1683225000-1683235800@afk.games
SUMMARY:MTG Weekly Pioneer
DESCRIPTION:AFK Games hosts weekly Pioneer tournaments on Thursdays starting at 6:30 pm!\nEntry is $10 \nPrize out is based on record. Capped at 3 rounds. \n3-0-0 = $30\n2-1-0 = $15 \nEach player will each be able to pick from a pool of promo pack promos in reverse standings order.
URL:https://afk.games/event/mtg-weekly-pioneer-10/2023-05-04/
LOCATION:AFK Games\, 2495 Cedar Street STE 14-B\, Holt\, MI\, 48842\, United States
CATEGORIES:Events,Magic: The Gathering,Pioneer
ORGANIZER;CN="AFK Games":MAILTO:support@afk-games.com
END:VEVENT
BEGIN:VEVENT
DTSTART;TZID=America/Detroit:20230427T183000
DTEND;TZID=America/Detroit:20230427T213000
DTSTAMP:20260419T092442
CREATED:20220728T215050Z
LAST-MODIFIED:20221119T010837Z
UID:10000806-1682620200-1682631000@afk.games
SUMMARY:MTG Weekly Pioneer
DESCRIPTION:AFK Games hosts weekly Pioneer tournaments on Thursdays starting at 6:30 pm!\nEntry is $10 \nPrize out is based on record. Capped at 3 rounds. \n3-0-0 = $30\n2-1-0 = $15 \nEach player will each be able to pick from a pool of promo pack promos in reverse standings order.
URL:https://afk.games/event/mtg-weekly-pioneer-10/2023-04-27/
LOCATION:AFK Games\, 2495 Cedar Street STE 14-B\, Holt\, MI\, 48842\, United States
CATEGORIES:Events,Magic: The Gathering,Pioneer
ORGANIZER;CN="AFK Games":MAILTO:support@afk-games.com
END:VEVENT
BEGIN:VEVENT
DTSTART;TZID=America/Detroit:20230420T183000
DTEND;TZID=America/Detroit:20230420T213000
DTSTAMP:20260419T092442
CREATED:20220728T215050Z
LAST-MODIFIED:20221119T010837Z
UID:10000805-1682015400-1682026200@afk.games
SUMMARY:MTG Weekly Pioneer
DESCRIPTION:AFK Games hosts weekly Pioneer tournaments on Thursdays starting at 6:30 pm!\nEntry is $10 \nPrize out is based on record. Capped at 3 rounds. \n3-0-0 = $30\n2-1-0 = $15 \nEach player will each be able to pick from a pool of promo pack promos in reverse standings order.
URL:https://afk.games/event/mtg-weekly-pioneer-10/2023-04-20/
LOCATION:AFK Games\, 2495 Cedar Street STE 14-B\, Holt\, MI\, 48842\, United States
CATEGORIES:Events,Magic: The Gathering,Pioneer
ORGANIZER;CN="AFK Games":MAILTO:support@afk-games.com
END:VEVENT
BEGIN:VEVENT
DTSTART;TZID=America/Detroit:20230413T183000
DTEND;TZID=America/Detroit:20230413T213000
DTSTAMP:20260419T092442
CREATED:20220728T215050Z
LAST-MODIFIED:20221119T010837Z
UID:10000804-1681410600-1681421400@afk.games
SUMMARY:MTG Weekly Pioneer
DESCRIPTION:AFK Games hosts weekly Pioneer tournaments on Thursdays starting at 6:30 pm!\nEntry is $10 \nPrize out is based on record. Capped at 3 rounds. \n3-0-0 = $30\n2-1-0 = $15 \nEach player will each be able to pick from a pool of promo pack promos in reverse standings order.
URL:https://afk.games/event/mtg-weekly-pioneer-10/2023-04-13/
LOCATION:AFK Games\, 2495 Cedar Street STE 14-B\, Holt\, MI\, 48842\, United States
CATEGORIES:Events,Magic: The Gathering,Pioneer
ORGANIZER;CN="AFK Games":MAILTO:support@afk-games.com
END:VEVENT
BEGIN:VEVENT
DTSTART;TZID=America/Detroit:20230406T183000
DTEND;TZID=America/Detroit:20230406T213000
DTSTAMP:20260419T092442
CREATED:20220728T215050Z
LAST-MODIFIED:20221119T010837Z
UID:10000803-1680805800-1680816600@afk.games
SUMMARY:MTG Weekly Pioneer
DESCRIPTION:AFK Games hosts weekly Pioneer tournaments on Thursdays starting at 6:30 pm!\nEntry is $10 \nPrize out is based on record. Capped at 3 rounds. \n3-0-0 = $30\n2-1-0 = $15 \nEach player will each be able to pick from a pool of promo pack promos in reverse standings order.
URL:https://afk.games/event/mtg-weekly-pioneer-10/2023-04-06/
LOCATION:AFK Games\, 2495 Cedar Street STE 14-B\, Holt\, MI\, 48842\, United States
CATEGORIES:Events,Magic: The Gathering,Pioneer
ORGANIZER;CN="AFK Games":MAILTO:support@afk-games.com
END:VEVENT
BEGIN:VEVENT
DTSTART;TZID=America/Detroit:20230330T183000
DTEND;TZID=America/Detroit:20230330T213000
DTSTAMP:20260419T092442
CREATED:20220728T215050Z
LAST-MODIFIED:20221119T010837Z
UID:10000802-1680201000-1680211800@afk.games
SUMMARY:MTG Weekly Pioneer
DESCRIPTION:AFK Games hosts weekly Pioneer tournaments on Thursdays starting at 6:30 pm!\nEntry is $10 \nPrize out is based on record. Capped at 3 rounds. \n3-0-0 = $30\n2-1-0 = $15 \nEach player will each be able to pick from a pool of promo pack promos in reverse standings order.
URL:https://afk.games/event/mtg-weekly-pioneer-10/2023-03-30/
LOCATION:AFK Games\, 2495 Cedar Street STE 14-B\, Holt\, MI\, 48842\, United States
CATEGORIES:Events,Magic: The Gathering,Pioneer
ORGANIZER;CN="AFK Games":MAILTO:support@afk-games.com
END:VEVENT
BEGIN:VEVENT
DTSTART;TZID=America/Detroit:20230323T183000
DTEND;TZID=America/Detroit:20230323T213000
DTSTAMP:20260419T092443
CREATED:20220728T215050Z
LAST-MODIFIED:20221119T010837Z
UID:10000801-1679596200-1679607000@afk.games
SUMMARY:MTG Weekly Pioneer
DESCRIPTION:AFK Games hosts weekly Pioneer tournaments on Thursdays starting at 6:30 pm!\nEntry is $10 \nPrize out is based on record. Capped at 3 rounds. \n3-0-0 = $30\n2-1-0 = $15 \nEach player will each be able to pick from a pool of promo pack promos in reverse standings order.
URL:https://afk.games/event/mtg-weekly-pioneer-10/2023-03-23/
LOCATION:AFK Games\, 2495 Cedar Street STE 14-B\, Holt\, MI\, 48842\, United States
CATEGORIES:Events,Magic: The Gathering,Pioneer
ORGANIZER;CN="AFK Games":MAILTO:support@afk-games.com
END:VEVENT
BEGIN:VEVENT
DTSTART;TZID=America/Detroit:20230316T183000
DTEND;TZID=America/Detroit:20230316T213000
DTSTAMP:20260419T092443
CREATED:20220728T215050Z
LAST-MODIFIED:20221119T010837Z
UID:10000800-1678991400-1679002200@afk.games
SUMMARY:MTG Weekly Pioneer
DESCRIPTION:AFK Games hosts weekly Pioneer tournaments on Thursdays starting at 6:30 pm!\nEntry is $10 \nPrize out is based on record. Capped at 3 rounds. \n3-0-0 = $30\n2-1-0 = $15 \nEach player will each be able to pick from a pool of promo pack promos in reverse standings order.
URL:https://afk.games/event/mtg-weekly-pioneer-10/2023-03-16/
LOCATION:AFK Games\, 2495 Cedar Street STE 14-B\, Holt\, MI\, 48842\, United States
CATEGORIES:Events,Magic: The Gathering,Pioneer
ORGANIZER;CN="AFK Games":MAILTO:support@afk-games.com
END:VEVENT
END:VCALENDAR