BEGIN:VCALENDAR
VERSION:2.0
PRODID:-//AFK Games - ECPv6.15.20//NONSGML v1.0//EN
CALSCALE:GREGORIAN
METHOD:PUBLISH
X-ORIGINAL-URL:https://afk.games
X-WR-CALDESC:Events for AFK Games
REFRESH-INTERVAL;VALUE=DURATION:PT1H
X-Robots-Tag:noindex
X-PUBLISHED-TTL:PT1H
BEGIN:VTIMEZONE
TZID:America/Detroit
BEGIN:DAYLIGHT
TZOFFSETFROM:-0500
TZOFFSETTO:-0400
TZNAME:EDT
DTSTART:20220313T070000
END:DAYLIGHT
BEGIN:STANDARD
TZOFFSETFROM:-0400
TZOFFSETTO:-0500
TZNAME:EST
DTSTART:20221106T060000
END:STANDARD
BEGIN:DAYLIGHT
TZOFFSETFROM:-0500
TZOFFSETTO:-0400
TZNAME:EDT
DTSTART:20230312T070000
END:DAYLIGHT
BEGIN:STANDARD
TZOFFSETFROM:-0400
TZOFFSETTO:-0500
TZNAME:EST
DTSTART:20231105T060000
END:STANDARD
BEGIN:DAYLIGHT
TZOFFSETFROM:-0500
TZOFFSETTO:-0400
TZNAME:EDT
DTSTART:20240310T070000
END:DAYLIGHT
BEGIN:STANDARD
TZOFFSETFROM:-0400
TZOFFSETTO:-0500
TZNAME:EST
DTSTART:20241103T060000
END:STANDARD
END:VTIMEZONE
BEGIN:VEVENT
DTSTART;TZID=America/Detroit:20231015T130000
DTEND;TZID=America/Detroit:20231015T170000
DTSTAMP:20260419T140909
CREATED:20230203T184737Z
LAST-MODIFIED:20230203T184737Z
UID:10001117-1697374800-1697389200@afk.games
SUMMARY:Sunday Pauper
DESCRIPTION:Interested in the format but want to test it out? Loaner decks are available to anyone who would like to play on\, a first come first serve. The format is exciting\, and most of all\, affordable! \nOur first Pauper tournament will be on January 29th\, at 1 pm! Come and play legacy lite with us! \nEvent information:\nEntry: $5 \nPrize out: entry gets you a standard-legal draft booster as well as additional prizing for the top players \nStart time: 1:00 pm \nResources:\nhttps://mtgdecks.net/Pauper \nhttps://www.mtggoldfish.com/metagame/pauper#paper \nhttps://magic.wizards.com/en/banned-restricted-list \nhttps://scryfall.com/search?as=grid&order=name&q=legal%3Apauper \nor use “legal:pauper” in your search strings
URL:https://afk.games/event/sunday-pauper/2023-10-15/
LOCATION:AFK Games\, 2495 Cedar Street STE 14-B\, Holt\, MI\, 48842\, United States
CATEGORIES:Events,Magic: The Gathering,Pauper
ORGANIZER;CN="AFK Games":MAILTO:support@afk-games.com
END:VEVENT
BEGIN:VEVENT
DTSTART;TZID=America/Detroit:20231001T130000
DTEND;TZID=America/Detroit:20231001T170000
DTSTAMP:20260419T140909
CREATED:20230203T184737Z
LAST-MODIFIED:20230203T184737Z
UID:10001116-1696165200-1696179600@afk.games
SUMMARY:Sunday Pauper
DESCRIPTION:Interested in the format but want to test it out? Loaner decks are available to anyone who would like to play on\, a first come first serve. The format is exciting\, and most of all\, affordable! \nOur first Pauper tournament will be on January 29th\, at 1 pm! Come and play legacy lite with us! \nEvent information:\nEntry: $5 \nPrize out: entry gets you a standard-legal draft booster as well as additional prizing for the top players \nStart time: 1:00 pm \nResources:\nhttps://mtgdecks.net/Pauper \nhttps://www.mtggoldfish.com/metagame/pauper#paper \nhttps://magic.wizards.com/en/banned-restricted-list \nhttps://scryfall.com/search?as=grid&order=name&q=legal%3Apauper \nor use “legal:pauper” in your search strings
URL:https://afk.games/event/sunday-pauper/2023-10-01/
LOCATION:AFK Games\, 2495 Cedar Street STE 14-B\, Holt\, MI\, 48842\, United States
CATEGORIES:Events,Magic: The Gathering,Pauper
ORGANIZER;CN="AFK Games":MAILTO:support@afk-games.com
END:VEVENT
BEGIN:VEVENT
DTSTART;TZID=America/Detroit:20230917T130000
DTEND;TZID=America/Detroit:20230917T170000
DTSTAMP:20260419T140909
CREATED:20230203T184737Z
LAST-MODIFIED:20230203T184737Z
UID:10001115-1694955600-1694970000@afk.games
SUMMARY:Sunday Pauper
DESCRIPTION:Interested in the format but want to test it out? Loaner decks are available to anyone who would like to play on\, a first come first serve. The format is exciting\, and most of all\, affordable! \nOur first Pauper tournament will be on January 29th\, at 1 pm! Come and play legacy lite with us! \nEvent information:\nEntry: $5 \nPrize out: entry gets you a standard-legal draft booster as well as additional prizing for the top players \nStart time: 1:00 pm \nResources:\nhttps://mtgdecks.net/Pauper \nhttps://www.mtggoldfish.com/metagame/pauper#paper \nhttps://magic.wizards.com/en/banned-restricted-list \nhttps://scryfall.com/search?as=grid&order=name&q=legal%3Apauper \nor use “legal:pauper” in your search strings
URL:https://afk.games/event/sunday-pauper/2023-09-17/
LOCATION:AFK Games\, 2495 Cedar Street STE 14-B\, Holt\, MI\, 48842\, United States
CATEGORIES:Events,Magic: The Gathering,Pauper
ORGANIZER;CN="AFK Games":MAILTO:support@afk-games.com
END:VEVENT
BEGIN:VEVENT
DTSTART;TZID=America/Detroit:20230903T130000
DTEND;TZID=America/Detroit:20230903T170000
DTSTAMP:20260419T140909
CREATED:20230203T184737Z
LAST-MODIFIED:20230203T184737Z
UID:10001114-1693746000-1693760400@afk.games
SUMMARY:Sunday Pauper
DESCRIPTION:Interested in the format but want to test it out? Loaner decks are available to anyone who would like to play on\, a first come first serve. The format is exciting\, and most of all\, affordable! \nOur first Pauper tournament will be on January 29th\, at 1 pm! Come and play legacy lite with us! \nEvent information:\nEntry: $5 \nPrize out: entry gets you a standard-legal draft booster as well as additional prizing for the top players \nStart time: 1:00 pm \nResources:\nhttps://mtgdecks.net/Pauper \nhttps://www.mtggoldfish.com/metagame/pauper#paper \nhttps://magic.wizards.com/en/banned-restricted-list \nhttps://scryfall.com/search?as=grid&order=name&q=legal%3Apauper \nor use “legal:pauper” in your search strings
URL:https://afk.games/event/sunday-pauper/2023-09-03/
LOCATION:AFK Games\, 2495 Cedar Street STE 14-B\, Holt\, MI\, 48842\, United States
CATEGORIES:Events,Magic: The Gathering,Pauper
ORGANIZER;CN="AFK Games":MAILTO:support@afk-games.com
END:VEVENT
BEGIN:VEVENT
DTSTART;TZID=America/Detroit:20230820T130000
DTEND;TZID=America/Detroit:20230820T170000
DTSTAMP:20260419T140909
CREATED:20230203T184737Z
LAST-MODIFIED:20230203T184737Z
UID:10001113-1692536400-1692550800@afk.games
SUMMARY:Sunday Pauper
DESCRIPTION:Interested in the format but want to test it out? Loaner decks are available to anyone who would like to play on\, a first come first serve. The format is exciting\, and most of all\, affordable! \nOur first Pauper tournament will be on January 29th\, at 1 pm! Come and play legacy lite with us! \nEvent information:\nEntry: $5 \nPrize out: entry gets you a standard-legal draft booster as well as additional prizing for the top players \nStart time: 1:00 pm \nResources:\nhttps://mtgdecks.net/Pauper \nhttps://www.mtggoldfish.com/metagame/pauper#paper \nhttps://magic.wizards.com/en/banned-restricted-list \nhttps://scryfall.com/search?as=grid&order=name&q=legal%3Apauper \nor use “legal:pauper” in your search strings
URL:https://afk.games/event/sunday-pauper/2023-08-20/
LOCATION:AFK Games\, 2495 Cedar Street STE 14-B\, Holt\, MI\, 48842\, United States
CATEGORIES:Events,Magic: The Gathering,Pauper
ORGANIZER;CN="AFK Games":MAILTO:support@afk-games.com
END:VEVENT
BEGIN:VEVENT
DTSTART;TZID=America/Detroit:20230806T130000
DTEND;TZID=America/Detroit:20230806T170000
DTSTAMP:20260419T140909
CREATED:20230203T184737Z
LAST-MODIFIED:20230203T184737Z
UID:10001112-1691326800-1691341200@afk.games
SUMMARY:Sunday Pauper
DESCRIPTION:Interested in the format but want to test it out? Loaner decks are available to anyone who would like to play on\, a first come first serve. The format is exciting\, and most of all\, affordable! \nOur first Pauper tournament will be on January 29th\, at 1 pm! Come and play legacy lite with us! \nEvent information:\nEntry: $5 \nPrize out: entry gets you a standard-legal draft booster as well as additional prizing for the top players \nStart time: 1:00 pm \nResources:\nhttps://mtgdecks.net/Pauper \nhttps://www.mtggoldfish.com/metagame/pauper#paper \nhttps://magic.wizards.com/en/banned-restricted-list \nhttps://scryfall.com/search?as=grid&order=name&q=legal%3Apauper \nor use “legal:pauper” in your search strings
URL:https://afk.games/event/sunday-pauper/2023-08-06/
LOCATION:AFK Games\, 2495 Cedar Street STE 14-B\, Holt\, MI\, 48842\, United States
CATEGORIES:Events,Magic: The Gathering,Pauper
ORGANIZER;CN="AFK Games":MAILTO:support@afk-games.com
END:VEVENT
BEGIN:VEVENT
DTSTART;TZID=America/Detroit:20230723T130000
DTEND;TZID=America/Detroit:20230723T170000
DTSTAMP:20260419T140909
CREATED:20230203T184737Z
LAST-MODIFIED:20230203T184737Z
UID:10001111-1690117200-1690131600@afk.games
SUMMARY:Sunday Pauper
DESCRIPTION:Interested in the format but want to test it out? Loaner decks are available to anyone who would like to play on\, a first come first serve. The format is exciting\, and most of all\, affordable! \nOur first Pauper tournament will be on January 29th\, at 1 pm! Come and play legacy lite with us! \nEvent information:\nEntry: $5 \nPrize out: entry gets you a standard-legal draft booster as well as additional prizing for the top players \nStart time: 1:00 pm \nResources:\nhttps://mtgdecks.net/Pauper \nhttps://www.mtggoldfish.com/metagame/pauper#paper \nhttps://magic.wizards.com/en/banned-restricted-list \nhttps://scryfall.com/search?as=grid&order=name&q=legal%3Apauper \nor use “legal:pauper” in your search strings
URL:https://afk.games/event/sunday-pauper/2023-07-23/
LOCATION:AFK Games\, 2495 Cedar Street STE 14-B\, Holt\, MI\, 48842\, United States
CATEGORIES:Events,Magic: The Gathering,Pauper
ORGANIZER;CN="AFK Games":MAILTO:support@afk-games.com
END:VEVENT
BEGIN:VEVENT
DTSTART;TZID=America/Detroit:20230709T130000
DTEND;TZID=America/Detroit:20230709T170000
DTSTAMP:20260419T140909
CREATED:20230203T184737Z
LAST-MODIFIED:20230203T184737Z
UID:10001110-1688907600-1688922000@afk.games
SUMMARY:Sunday Pauper
DESCRIPTION:Interested in the format but want to test it out? Loaner decks are available to anyone who would like to play on\, a first come first serve. The format is exciting\, and most of all\, affordable! \nOur first Pauper tournament will be on January 29th\, at 1 pm! Come and play legacy lite with us! \nEvent information:\nEntry: $5 \nPrize out: entry gets you a standard-legal draft booster as well as additional prizing for the top players \nStart time: 1:00 pm \nResources:\nhttps://mtgdecks.net/Pauper \nhttps://www.mtggoldfish.com/metagame/pauper#paper \nhttps://magic.wizards.com/en/banned-restricted-list \nhttps://scryfall.com/search?as=grid&order=name&q=legal%3Apauper \nor use “legal:pauper” in your search strings
URL:https://afk.games/event/sunday-pauper/2023-07-09/
LOCATION:AFK Games\, 2495 Cedar Street STE 14-B\, Holt\, MI\, 48842\, United States
CATEGORIES:Events,Magic: The Gathering,Pauper
ORGANIZER;CN="AFK Games":MAILTO:support@afk-games.com
END:VEVENT
BEGIN:VEVENT
DTSTART;TZID=America/Detroit:20230625T130000
DTEND;TZID=America/Detroit:20230625T170000
DTSTAMP:20260419T140909
CREATED:20230203T184737Z
LAST-MODIFIED:20230203T184737Z
UID:10001109-1687698000-1687712400@afk.games
SUMMARY:Sunday Pauper
DESCRIPTION:Interested in the format but want to test it out? Loaner decks are available to anyone who would like to play on\, a first come first serve. The format is exciting\, and most of all\, affordable! \nOur first Pauper tournament will be on January 29th\, at 1 pm! Come and play legacy lite with us! \nEvent information:\nEntry: $5 \nPrize out: entry gets you a standard-legal draft booster as well as additional prizing for the top players \nStart time: 1:00 pm \nResources:\nhttps://mtgdecks.net/Pauper \nhttps://www.mtggoldfish.com/metagame/pauper#paper \nhttps://magic.wizards.com/en/banned-restricted-list \nhttps://scryfall.com/search?as=grid&order=name&q=legal%3Apauper \nor use “legal:pauper” in your search strings
URL:https://afk.games/event/sunday-pauper/2023-06-25/
LOCATION:AFK Games\, 2495 Cedar Street STE 14-B\, Holt\, MI\, 48842\, United States
CATEGORIES:Events,Magic: The Gathering,Pauper
ORGANIZER;CN="AFK Games":MAILTO:support@afk-games.com
END:VEVENT
BEGIN:VEVENT
DTSTART;TZID=America/Detroit:20230611T130000
DTEND;TZID=America/Detroit:20230611T170000
DTSTAMP:20260419T140909
CREATED:20230203T184737Z
LAST-MODIFIED:20230203T184737Z
UID:10001108-1686488400-1686502800@afk.games
SUMMARY:Sunday Pauper
DESCRIPTION:Interested in the format but want to test it out? Loaner decks are available to anyone who would like to play on\, a first come first serve. The format is exciting\, and most of all\, affordable! \nOur first Pauper tournament will be on January 29th\, at 1 pm! Come and play legacy lite with us! \nEvent information:\nEntry: $5 \nPrize out: entry gets you a standard-legal draft booster as well as additional prizing for the top players \nStart time: 1:00 pm \nResources:\nhttps://mtgdecks.net/Pauper \nhttps://www.mtggoldfish.com/metagame/pauper#paper \nhttps://magic.wizards.com/en/banned-restricted-list \nhttps://scryfall.com/search?as=grid&order=name&q=legal%3Apauper \nor use “legal:pauper” in your search strings
URL:https://afk.games/event/sunday-pauper/2023-06-11/
LOCATION:AFK Games\, 2495 Cedar Street STE 14-B\, Holt\, MI\, 48842\, United States
CATEGORIES:Events,Magic: The Gathering,Pauper
ORGANIZER;CN="AFK Games":MAILTO:support@afk-games.com
END:VEVENT
BEGIN:VEVENT
DTSTART;TZID=America/Detroit:20230528T130000
DTEND;TZID=America/Detroit:20230528T170000
DTSTAMP:20260419T140909
CREATED:20230203T184737Z
LAST-MODIFIED:20230203T184737Z
UID:10001107-1685278800-1685293200@afk.games
SUMMARY:Sunday Pauper
DESCRIPTION:Interested in the format but want to test it out? Loaner decks are available to anyone who would like to play on\, a first come first serve. The format is exciting\, and most of all\, affordable! \nOur first Pauper tournament will be on January 29th\, at 1 pm! Come and play legacy lite with us! \nEvent information:\nEntry: $5 \nPrize out: entry gets you a standard-legal draft booster as well as additional prizing for the top players \nStart time: 1:00 pm \nResources:\nhttps://mtgdecks.net/Pauper \nhttps://www.mtggoldfish.com/metagame/pauper#paper \nhttps://magic.wizards.com/en/banned-restricted-list \nhttps://scryfall.com/search?as=grid&order=name&q=legal%3Apauper \nor use “legal:pauper” in your search strings
URL:https://afk.games/event/sunday-pauper/2023-05-28/
LOCATION:AFK Games\, 2495 Cedar Street STE 14-B\, Holt\, MI\, 48842\, United States
CATEGORIES:Events,Magic: The Gathering,Pauper
ORGANIZER;CN="AFK Games":MAILTO:support@afk-games.com
END:VEVENT
BEGIN:VEVENT
DTSTART;TZID=America/Detroit:20230514T130000
DTEND;TZID=America/Detroit:20230514T170000
DTSTAMP:20260419T140909
CREATED:20230203T184737Z
LAST-MODIFIED:20230203T184737Z
UID:10001106-1684069200-1684083600@afk.games
SUMMARY:Sunday Pauper
DESCRIPTION:Interested in the format but want to test it out? Loaner decks are available to anyone who would like to play on\, a first come first serve. The format is exciting\, and most of all\, affordable! \nOur first Pauper tournament will be on January 29th\, at 1 pm! Come and play legacy lite with us! \nEvent information:\nEntry: $5 \nPrize out: entry gets you a standard-legal draft booster as well as additional prizing for the top players \nStart time: 1:00 pm \nResources:\nhttps://mtgdecks.net/Pauper \nhttps://www.mtggoldfish.com/metagame/pauper#paper \nhttps://magic.wizards.com/en/banned-restricted-list \nhttps://scryfall.com/search?as=grid&order=name&q=legal%3Apauper \nor use “legal:pauper” in your search strings
URL:https://afk.games/event/sunday-pauper/2023-05-14/
LOCATION:AFK Games\, 2495 Cedar Street STE 14-B\, Holt\, MI\, 48842\, United States
CATEGORIES:Events,Magic: The Gathering,Pauper
ORGANIZER;CN="AFK Games":MAILTO:support@afk-games.com
END:VEVENT
BEGIN:VEVENT
DTSTART;TZID=America/Detroit:20230430T130000
DTEND;TZID=America/Detroit:20230430T170000
DTSTAMP:20260419T140909
CREATED:20230203T184737Z
LAST-MODIFIED:20230203T184737Z
UID:10001105-1682859600-1682874000@afk.games
SUMMARY:Sunday Pauper
DESCRIPTION:Interested in the format but want to test it out? Loaner decks are available to anyone who would like to play on\, a first come first serve. The format is exciting\, and most of all\, affordable! \nOur first Pauper tournament will be on January 29th\, at 1 pm! Come and play legacy lite with us! \nEvent information:\nEntry: $5 \nPrize out: entry gets you a standard-legal draft booster as well as additional prizing for the top players \nStart time: 1:00 pm \nResources:\nhttps://mtgdecks.net/Pauper \nhttps://www.mtggoldfish.com/metagame/pauper#paper \nhttps://magic.wizards.com/en/banned-restricted-list \nhttps://scryfall.com/search?as=grid&order=name&q=legal%3Apauper \nor use “legal:pauper” in your search strings
URL:https://afk.games/event/sunday-pauper/2023-04-30/
LOCATION:AFK Games\, 2495 Cedar Street STE 14-B\, Holt\, MI\, 48842\, United States
CATEGORIES:Events,Magic: The Gathering,Pauper
ORGANIZER;CN="AFK Games":MAILTO:support@afk-games.com
END:VEVENT
BEGIN:VEVENT
DTSTART;TZID=America/Detroit:20230402T130000
DTEND;TZID=America/Detroit:20230402T170000
DTSTAMP:20260419T140909
CREATED:20230203T184737Z
LAST-MODIFIED:20230203T184737Z
UID:10001103-1680440400-1680454800@afk.games
SUMMARY:Sunday Pauper
DESCRIPTION:Interested in the format but want to test it out? Loaner decks are available to anyone who would like to play on\, a first come first serve. The format is exciting\, and most of all\, affordable! \nOur first Pauper tournament will be on January 29th\, at 1 pm! Come and play legacy lite with us! \nEvent information:\nEntry: $5 \nPrize out: entry gets you a standard-legal draft booster as well as additional prizing for the top players \nStart time: 1:00 pm \nResources:\nhttps://mtgdecks.net/Pauper \nhttps://www.mtggoldfish.com/metagame/pauper#paper \nhttps://magic.wizards.com/en/banned-restricted-list \nhttps://scryfall.com/search?as=grid&order=name&q=legal%3Apauper \nor use “legal:pauper” in your search strings
URL:https://afk.games/event/sunday-pauper/2023-04-02/
LOCATION:AFK Games\, 2495 Cedar Street STE 14-B\, Holt\, MI\, 48842\, United States
CATEGORIES:Events,Magic: The Gathering,Pauper
ORGANIZER;CN="AFK Games":MAILTO:support@afk-games.com
END:VEVENT
BEGIN:VEVENT
DTSTART;TZID=America/Detroit:20230319T130000
DTEND;TZID=America/Detroit:20230319T170000
DTSTAMP:20260419T140909
CREATED:20230203T184737Z
LAST-MODIFIED:20230203T184737Z
UID:10001102-1679230800-1679245200@afk.games
SUMMARY:Sunday Pauper
DESCRIPTION:Interested in the format but want to test it out? Loaner decks are available to anyone who would like to play on\, a first come first serve. The format is exciting\, and most of all\, affordable! \nOur first Pauper tournament will be on January 29th\, at 1 pm! Come and play legacy lite with us! \nEvent information:\nEntry: $5 \nPrize out: entry gets you a standard-legal draft booster as well as additional prizing for the top players \nStart time: 1:00 pm \nResources:\nhttps://mtgdecks.net/Pauper \nhttps://www.mtggoldfish.com/metagame/pauper#paper \nhttps://magic.wizards.com/en/banned-restricted-list \nhttps://scryfall.com/search?as=grid&order=name&q=legal%3Apauper \nor use “legal:pauper” in your search strings
URL:https://afk.games/event/sunday-pauper/2023-03-19/
LOCATION:AFK Games\, 2495 Cedar Street STE 14-B\, Holt\, MI\, 48842\, United States
CATEGORIES:Events,Magic: The Gathering,Pauper
ORGANIZER;CN="AFK Games":MAILTO:support@afk-games.com
END:VEVENT
BEGIN:VEVENT
DTSTART;TZID=America/Detroit:20230305T130000
DTEND;TZID=America/Detroit:20230305T170000
DTSTAMP:20260419T140909
CREATED:20230203T184737Z
LAST-MODIFIED:20230203T184737Z
UID:10001101-1678021200-1678035600@afk.games
SUMMARY:Sunday Pauper
DESCRIPTION:Interested in the format but want to test it out? Loaner decks are available to anyone who would like to play on\, a first come first serve. The format is exciting\, and most of all\, affordable! \nOur first Pauper tournament will be on January 29th\, at 1 pm! Come and play legacy lite with us! \nEvent information:\nEntry: $5 \nPrize out: entry gets you a standard-legal draft booster as well as additional prizing for the top players \nStart time: 1:00 pm \nResources:\nhttps://mtgdecks.net/Pauper \nhttps://www.mtggoldfish.com/metagame/pauper#paper \nhttps://magic.wizards.com/en/banned-restricted-list \nhttps://scryfall.com/search?as=grid&order=name&q=legal%3Apauper \nor use “legal:pauper” in your search strings
URL:https://afk.games/event/sunday-pauper/2023-03-05/
LOCATION:AFK Games\, 2495 Cedar Street STE 14-B\, Holt\, MI\, 48842\, United States
CATEGORIES:Events,Magic: The Gathering,Pauper
ORGANIZER;CN="AFK Games":MAILTO:support@afk-games.com
END:VEVENT
BEGIN:VEVENT
DTSTART;TZID=America/Detroit:20230219T130000
DTEND;TZID=America/Detroit:20230219T170000
DTSTAMP:20260419T140909
CREATED:20230203T184737Z
LAST-MODIFIED:20230203T184737Z
UID:10001100-1676811600-1676826000@afk.games
SUMMARY:Sunday Pauper
DESCRIPTION:Interested in the format but want to test it out? Loaner decks are available to anyone who would like to play on\, a first come first serve. The format is exciting\, and most of all\, affordable! \nOur first Pauper tournament will be on January 29th\, at 1 pm! Come and play legacy lite with us! \nEvent information:\nEntry: $5 \nPrize out: entry gets you a standard-legal draft booster as well as additional prizing for the top players \nStart time: 1:00 pm \nResources:\nhttps://mtgdecks.net/Pauper \nhttps://www.mtggoldfish.com/metagame/pauper#paper \nhttps://magic.wizards.com/en/banned-restricted-list \nhttps://scryfall.com/search?as=grid&order=name&q=legal%3Apauper \nor use “legal:pauper” in your search strings
URL:https://afk.games/event/sunday-pauper/2023-02-19/
LOCATION:AFK Games\, 2495 Cedar Street STE 14-B\, Holt\, MI\, 48842\, United States
CATEGORIES:Events,Magic: The Gathering,Pauper
ORGANIZER;CN="AFK Games":MAILTO:support@afk-games.com
END:VEVENT
BEGIN:VEVENT
DTSTART;TZID=America/Detroit:20230129T130000
DTEND;TZID=America/Detroit:20230129T170000
DTSTAMP:20260419T140909
CREATED:20230203T184459Z
LAST-MODIFIED:20230203T184459Z
UID:10001099-1674997200-1675011600@afk.games
SUMMARY:Sunday Pauper!
DESCRIPTION:Interested in the format but want to test it out? Loaner decks are available to anyone who would like to play\, first come first serve. The format is exciting\, and most of all\, affordable! \nOur first Pauper tournament will be on January 29th\, 1 pm! Come and play legacy lite with us! \nEvent information:\nEntry: $5 \nPrize out: entry gets you a standard-legal draft booster as well as additional prizing for the top players \nStart time: 1:00 pm \nResources:\nhttps://mtgdecks.net/Pauper \nhttps://www.mtggoldfish.com/metagame/pauper#paper \nhttps://magic.wizards.com/en/banned-restricted-list \nhttps://scryfall.com/search?as=grid&order=name&q=legal%3Apauper \nor use “legal:pauper” in your search strings
URL:https://afk.games/event/sunday-pauper-2/
LOCATION:AFK Games\, 2495 Cedar Street STE 14-B\, Holt\, MI\, 48842\, United States
CATEGORIES:Events,Magic: The Gathering,Pauper
ORGANIZER;CN="AFK Games":MAILTO:support@afk-games.com
END:VEVENT
END:VCALENDAR