BEGIN:VCALENDAR
VERSION:2.0
PRODID:-//AFK Games - ECPv6.15.20//NONSGML v1.0//EN
CALSCALE:GREGORIAN
METHOD:PUBLISH
X-WR-CALNAME:AFK Games
X-ORIGINAL-URL:https://afk.games
X-WR-CALDESC:Events for AFK Games
REFRESH-INTERVAL;VALUE=DURATION:PT1H
X-Robots-Tag:noindex
X-PUBLISHED-TTL:PT1H
BEGIN:VTIMEZONE
TZID:America/Detroit
BEGIN:DAYLIGHT
TZOFFSETFROM:-0500
TZOFFSETTO:-0400
TZNAME:EDT
DTSTART:20230312T070000
END:DAYLIGHT
BEGIN:STANDARD
TZOFFSETFROM:-0400
TZOFFSETTO:-0500
TZNAME:EST
DTSTART:20231105T060000
END:STANDARD
BEGIN:DAYLIGHT
TZOFFSETFROM:-0500
TZOFFSETTO:-0400
TZNAME:EDT
DTSTART:20240310T070000
END:DAYLIGHT
BEGIN:STANDARD
TZOFFSETFROM:-0400
TZOFFSETTO:-0500
TZNAME:EST
DTSTART:20241103T060000
END:STANDARD
BEGIN:DAYLIGHT
TZOFFSETFROM:-0500
TZOFFSETTO:-0400
TZNAME:EDT
DTSTART:20250309T070000
END:DAYLIGHT
BEGIN:STANDARD
TZOFFSETFROM:-0400
TZOFFSETTO:-0500
TZNAME:EST
DTSTART:20251102T060000
END:STANDARD
END:VTIMEZONE
BEGIN:VEVENT
DTSTART;TZID=America/Detroit:20240927T183000
DTEND;TZID=America/Detroit:20240927T220000
DTSTAMP:20260422T183312
CREATED:20220728T215755Z
LAST-MODIFIED:20250918T023011Z
UID:10002236-1727461800-1727474400@afk.games
SUMMARY:MTG Modern FNM
DESCRIPTION:AFK Games hosts weekly Modern Friday Night Magic (FNM) tournaments starting at 6:30 pm!\nEntry is $10 \nPrize out is based on record. Capped at 4 rounds. \n4-0-0 = $60\n3-0-1 = $40\n3-1-0 = $20\n2-1-1 = $10 \nEach player will each be able to pick from a pool of promo pack promos in reverse standings order.
URL:https://afk.games/event/mtg-modern-fnm-10/2024-09-27/
LOCATION:AFK Games\, 2495 Cedar Street STE 14-B\, Holt\, MI\, 48842\, United States
CATEGORIES:Events,Magic: The Gathering,Modern
ORGANIZER;CN="AFK Games":MAILTO:support@afk-games.com
END:VEVENT
BEGIN:VEVENT
DTSTART;TZID=America/Detroit:20240927T183000
DTEND;TZID=America/Detroit:20240927T220000
DTSTAMP:20260422T183312
CREATED:20260101T204727Z
LAST-MODIFIED:20260101T204727Z
UID:10005228-1727461800-1727474400@afk.games
SUMMARY:MTG Modern FNM
DESCRIPTION:AFK Games hosts weekly Modern Friday Night Magic (FNM) tournaments starting at 6:30 pm!\nEntry is $10 \nPrize out is based on record. Capped at 4 rounds. \n4-0-0 = $60\n3-0-1 = $40\n3-1-0 = $20\n2-1-1 = $10 \nEach player will each be able to pick from a pool of promo pack promos in reverse standings order.
URL:https://afk.games/event/mtg-modern-fnm-11/2024-09-27/
LOCATION:AFK Games\, 2495 Cedar Street STE 14-B\, Holt\, MI\, 48842\, United States
CATEGORIES:Events,Magic: The Gathering,Modern
ORGANIZER;CN="AFK Games":MAILTO:support@afk-games.com
END:VEVENT
BEGIN:VEVENT
DTSTART;TZID=America/Detroit:20240928T100000
DTEND;TZID=America/Detroit:20240928T190000
DTSTAMP:20260422T183312
CREATED:20240905T193617Z
LAST-MODIFIED:20240905T221823Z
UID:10003045-1727517600-1727550000@afk.games
SUMMARY:Season 3 - Round 2 Modern RCQ (2-Slot)
DESCRIPTION:Tournament Format\nThis event will be a 2-slot RCQ for SCG CON Portland\, OR\, which means 1st and 2nd will receive an RCQ invite.  \nFormat: Modern \nWe will be playing rounds of Swiss as recommended by the tournament rules. Following the Swiss rounds\, the top 8 players overall will play in single-elimination rounds. \nTickets: https://shop.afk.games/products/september-28th-modern-rcq\nMelee: https://melee.gg/Tournament/View/143261\n  \nRegistration: $30 \nTournament Schedule\nDoors will open at 9:30 am \nRegistration ends at 9:55 am.  \nThe player meeting will commence at 10:00 am with our head judge Jacob Butler\, followed by the start of deck registration. \nPrizes:\n1st – 30% of Store Credit pool + Exclusive Promo + Top 8 promo + RCQ Invite \n2nd – 20% of Store Credit pool + Exclusive Promo + Top 8 promo + RCQ Invite \n3/4th – 10% of Store Credit pool + Top 8 promo \n5-8th – 7.5% of Store Credit pool + Top 8 promo \nThe first 64 players will receive an RCQ promo. \n  \nStore credit prizes will be scaled with attendance. Finalized prizing amounts will be announced after the lunch break.
URL:https://afk.games/event/season-3-round-2-modern-rcq-2-slot/
LOCATION:AFK Games\, 2495 Cedar Street STE 14-B\, Holt\, MI\, 48842\, United States
CATEGORIES:Events,Magic: The Gathering,Modern,RCQ
ORGANIZER;CN="AFK Games":MAILTO:support@afk-games.com
END:VEVENT
END:VCALENDAR