BEGIN:VCALENDAR
VERSION:2.0
PRODID:-//AFK Games - ECPv6.15.20//NONSGML v1.0//EN
CALSCALE:GREGORIAN
METHOD:PUBLISH
X-ORIGINAL-URL:https://afk.games
X-WR-CALDESC:Events for AFK Games
REFRESH-INTERVAL;VALUE=DURATION:PT1H
X-Robots-Tag:noindex
X-PUBLISHED-TTL:PT1H
BEGIN:VTIMEZONE
TZID:America/Detroit
BEGIN:DAYLIGHT
TZOFFSETFROM:-0500
TZOFFSETTO:-0400
TZNAME:EDT
DTSTART:20240310T070000
END:DAYLIGHT
BEGIN:STANDARD
TZOFFSETFROM:-0400
TZOFFSETTO:-0500
TZNAME:EST
DTSTART:20241103T060000
END:STANDARD
BEGIN:DAYLIGHT
TZOFFSETFROM:-0500
TZOFFSETTO:-0400
TZNAME:EDT
DTSTART:20250309T070000
END:DAYLIGHT
BEGIN:STANDARD
TZOFFSETFROM:-0400
TZOFFSETTO:-0500
TZNAME:EST
DTSTART:20251102T060000
END:STANDARD
BEGIN:DAYLIGHT
TZOFFSETFROM:-0500
TZOFFSETTO:-0400
TZNAME:EDT
DTSTART:20260308T070000
END:DAYLIGHT
BEGIN:STANDARD
TZOFFSETFROM:-0400
TZOFFSETTO:-0500
TZNAME:EST
DTSTART:20261101T060000
END:STANDARD
END:VTIMEZONE
BEGIN:VEVENT
DTSTART;TZID=America/Detroit:20250517T103000
DTEND;TZID=America/Detroit:20250517T190000
DTSTAMP:20260419T153023
CREATED:20250405T225628Z
LAST-MODIFIED:20250405T225628Z
UID:10003776-1747477800-1747508400@afk.games
SUMMARY:May Modern RCQ - 2025-26 Round 1 (2-Slot)
DESCRIPTION:Tournament Format\nThis event will be a 2-slot RCQ for SCG CON TBA\, which means 1st and 2nd will receive an RCQ invite.  \nFormat: Modern \nWe will be playing rounds of Swiss as recommended by the tournament rules. Following the Swiss rounds\, the top 8 players overall will play in single-elimination rounds. \nTickets: https://shop.afk.games/products/may-modern-rcq-2025-26-round-1\nMelee: https://melee.gg/Tournament/View/284692\nRegistration: $30 \nTournament Schedule\nDoors will open at 9:30 am \nRegistration ends at 10:15 am.  \nThe player meeting will commence at 10:30 am with our head judge Jacob Butler \nPrizes: \n1st – 30% of Store Credit pool + Exclusive Promo + Top 8 promo + RCQ Invite \n2nd – 20% of Store Credit pool + Exclusive Promo + Top 8 promo + RCQ Invite \n3/4th – 10% of Store Credit pool + Top 8 promo \n5-8th – 7.5% of Store Credit pool + Top 8 promo \n \nThe first 64 players will receive an RCQ promo. \nStore credit prizes will be scaled with attendance. Finalized prizing amounts will be announced after the lunch break.
URL:https://afk.games/event/may-modern-rcq-2025-26-round-1-2-slot/
LOCATION:AFK Games\, 2495 Cedar Street STE 14-B\, Holt\, MI\, 48842\, United States
CATEGORIES:Events,Magic: The Gathering,Modern,RCQ
ORGANIZER;CN="AFK Games":MAILTO:support@afk-games.com
END:VEVENT
BEGIN:VEVENT
DTSTART;TZID=America/Detroit:20250516T183000
DTEND;TZID=America/Detroit:20250516T220000
DTSTAMP:20260419T153023
CREATED:20260101T204727Z
LAST-MODIFIED:20260101T204727Z
UID:10005260-1747420200-1747432800@afk.games
SUMMARY:MTG Modern FNM
DESCRIPTION:AFK Games hosts weekly Modern Friday Night Magic (FNM) tournaments starting at 6:30 pm!\nEntry is $10 \nPrize out is based on record. Capped at 4 rounds. \n4-0-0 = $60\n3-0-1 = $40\n3-1-0 = $20\n2-1-1 = $10 \nEach player will each be able to pick from a pool of promo pack promos in reverse standings order.
URL:https://afk.games/event/mtg-modern-fnm-11/2025-05-16/
LOCATION:AFK Games\, 2495 Cedar Street STE 14-B\, Holt\, MI\, 48842\, United States
CATEGORIES:Events,Magic: The Gathering,Modern
ORGANIZER;CN="AFK Games":MAILTO:support@afk-games.com
END:VEVENT
BEGIN:VEVENT
DTSTART;TZID=America/Detroit:20250516T183000
DTEND;TZID=America/Detroit:20250516T220000
DTSTAMP:20260419T153023
CREATED:20220728T215755Z
LAST-MODIFIED:20250918T023011Z
UID:10003939-1747420200-1747432800@afk.games
SUMMARY:MTG Modern FNM
DESCRIPTION:AFK Games hosts weekly Modern Friday Night Magic (FNM) tournaments starting at 6:30 pm!\nEntry is $10 \nPrize out is based on record. Capped at 4 rounds. \n4-0-0 = $60\n3-0-1 = $40\n3-1-0 = $20\n2-1-1 = $10 \nEach player will each be able to pick from a pool of promo pack promos in reverse standings order.
URL:https://afk.games/event/mtg-modern-fnm-10/2025-05-16/
LOCATION:AFK Games\, 2495 Cedar Street STE 14-B\, Holt\, MI\, 48842\, United States
CATEGORIES:Events,Magic: The Gathering,Modern
ORGANIZER;CN="AFK Games":MAILTO:support@afk-games.com
END:VEVENT
BEGIN:VEVENT
DTSTART;TZID=America/Detroit:20250509T183000
DTEND;TZID=America/Detroit:20250509T220000
DTSTAMP:20260419T153023
CREATED:20260101T204727Z
LAST-MODIFIED:20260101T204727Z
UID:10005259-1746815400-1746828000@afk.games
SUMMARY:MTG Modern FNM
DESCRIPTION:AFK Games hosts weekly Modern Friday Night Magic (FNM) tournaments starting at 6:30 pm!\nEntry is $10 \nPrize out is based on record. Capped at 4 rounds. \n4-0-0 = $60\n3-0-1 = $40\n3-1-0 = $20\n2-1-1 = $10 \nEach player will each be able to pick from a pool of promo pack promos in reverse standings order.
URL:https://afk.games/event/mtg-modern-fnm-11/2025-05-09/
LOCATION:AFK Games\, 2495 Cedar Street STE 14-B\, Holt\, MI\, 48842\, United States
CATEGORIES:Events,Magic: The Gathering,Modern
ORGANIZER;CN="AFK Games":MAILTO:support@afk-games.com
END:VEVENT
BEGIN:VEVENT
DTSTART;TZID=America/Detroit:20250509T183000
DTEND;TZID=America/Detroit:20250509T220000
DTSTAMP:20260419T153023
CREATED:20220728T215755Z
LAST-MODIFIED:20250918T023011Z
UID:10003938-1746815400-1746828000@afk.games
SUMMARY:MTG Modern FNM
DESCRIPTION:AFK Games hosts weekly Modern Friday Night Magic (FNM) tournaments starting at 6:30 pm!\nEntry is $10 \nPrize out is based on record. Capped at 4 rounds. \n4-0-0 = $60\n3-0-1 = $40\n3-1-0 = $20\n2-1-1 = $10 \nEach player will each be able to pick from a pool of promo pack promos in reverse standings order.
URL:https://afk.games/event/mtg-modern-fnm-10/2025-05-09/
LOCATION:AFK Games\, 2495 Cedar Street STE 14-B\, Holt\, MI\, 48842\, United States
CATEGORIES:Events,Magic: The Gathering,Modern
ORGANIZER;CN="AFK Games":MAILTO:support@afk-games.com
END:VEVENT
BEGIN:VEVENT
DTSTART;TZID=America/Detroit:20250502T183000
DTEND;TZID=America/Detroit:20250502T220000
DTSTAMP:20260419T153023
CREATED:20260101T204727Z
LAST-MODIFIED:20260101T204727Z
UID:10005258-1746210600-1746223200@afk.games
SUMMARY:MTG Modern FNM
DESCRIPTION:AFK Games hosts weekly Modern Friday Night Magic (FNM) tournaments starting at 6:30 pm!\nEntry is $10 \nPrize out is based on record. Capped at 4 rounds. \n4-0-0 = $60\n3-0-1 = $40\n3-1-0 = $20\n2-1-1 = $10 \nEach player will each be able to pick from a pool of promo pack promos in reverse standings order.
URL:https://afk.games/event/mtg-modern-fnm-11/2025-05-02/
LOCATION:AFK Games\, 2495 Cedar Street STE 14-B\, Holt\, MI\, 48842\, United States
CATEGORIES:Events,Magic: The Gathering,Modern
ORGANIZER;CN="AFK Games":MAILTO:support@afk-games.com
END:VEVENT
BEGIN:VEVENT
DTSTART;TZID=America/Detroit:20250502T183000
DTEND;TZID=America/Detroit:20250502T220000
DTSTAMP:20260419T153023
CREATED:20220728T215755Z
LAST-MODIFIED:20250918T023011Z
UID:10003937-1746210600-1746223200@afk.games
SUMMARY:MTG Modern FNM
DESCRIPTION:AFK Games hosts weekly Modern Friday Night Magic (FNM) tournaments starting at 6:30 pm!\nEntry is $10 \nPrize out is based on record. Capped at 4 rounds. \n4-0-0 = $60\n3-0-1 = $40\n3-1-0 = $20\n2-1-1 = $10 \nEach player will each be able to pick from a pool of promo pack promos in reverse standings order.
URL:https://afk.games/event/mtg-modern-fnm-10/2025-05-02/
LOCATION:AFK Games\, 2495 Cedar Street STE 14-B\, Holt\, MI\, 48842\, United States
CATEGORIES:Events,Magic: The Gathering,Modern
ORGANIZER;CN="AFK Games":MAILTO:support@afk-games.com
END:VEVENT
BEGIN:VEVENT
DTSTART;TZID=America/Detroit:20250426T103000
DTEND;TZID=America/Detroit:20250426T190000
DTSTAMP:20260419T153023
CREATED:20250405T225256Z
LAST-MODIFIED:20250405T225256Z
UID:10003775-1745663400-1745694000@afk.games
SUMMARY:April Modern RCQ - 2025-26 Round 1 (2-Slot)
DESCRIPTION:Tournament Format\nThis event will be a 2-slot RCQ for SCG CON TBA\, which means 1st and 2nd will receive an RCQ invite.  \nFormat: Modern \nWe will be playing rounds of Swiss as recommended by the tournament rules. Following the Swiss rounds\, the top 8 players overall will play in single-elimination rounds. \nTickets: https://shop.afk.games/products/april-modern-rcq-2025-26-round-1\nMelee: https://melee.gg/Tournament/View/284690\nRegistration: $30 \nTournament Schedule\nDoors will open at 9:30 am \nRegistration ends at 10:15 am.  \nThe player meeting will commence at 10:30 am with our head judge Jacob Butler \nPrizes: \n1st – 30% of Store Credit pool + Exclusive Promo + Top 8 promo + RCQ Invite \n2nd – 20% of Store Credit pool + Exclusive Promo + Top 8 promo + RCQ Invite \n3/4th – 10% of Store Credit pool + Top 8 promo \n5-8th – 7.5% of Store Credit pool + Top 8 promo \n \nThe first 64 players will receive an RCQ promo. \nStore credit prizes will be scaled with attendance. Finalized prizing amounts will be announced after the lunch break.
URL:https://afk.games/event/april-modern-rcq-2025-26-round-1-2-slot/
LOCATION:AFK Games\, 2495 Cedar Street STE 14-B\, Holt\, MI\, 48842\, United States
CATEGORIES:Events,Magic: The Gathering,Modern,RCQ
ORGANIZER;CN="AFK Games":MAILTO:support@afk-games.com
END:VEVENT
BEGIN:VEVENT
DTSTART;TZID=America/Detroit:20250425T183000
DTEND;TZID=America/Detroit:20250425T220000
DTSTAMP:20260419T153023
CREATED:20260101T204727Z
LAST-MODIFIED:20260101T204727Z
UID:10005257-1745605800-1745618400@afk.games
SUMMARY:MTG Modern FNM
DESCRIPTION:AFK Games hosts weekly Modern Friday Night Magic (FNM) tournaments starting at 6:30 pm!\nEntry is $10 \nPrize out is based on record. Capped at 4 rounds. \n4-0-0 = $60\n3-0-1 = $40\n3-1-0 = $20\n2-1-1 = $10 \nEach player will each be able to pick from a pool of promo pack promos in reverse standings order.
URL:https://afk.games/event/mtg-modern-fnm-11/2025-04-25/
LOCATION:AFK Games\, 2495 Cedar Street STE 14-B\, Holt\, MI\, 48842\, United States
CATEGORIES:Events,Magic: The Gathering,Modern
ORGANIZER;CN="AFK Games":MAILTO:support@afk-games.com
END:VEVENT
BEGIN:VEVENT
DTSTART;TZID=America/Detroit:20250425T183000
DTEND;TZID=America/Detroit:20250425T220000
DTSTAMP:20260419T153023
CREATED:20220728T215755Z
LAST-MODIFIED:20250918T023011Z
UID:10003936-1745605800-1745618400@afk.games
SUMMARY:MTG Modern FNM
DESCRIPTION:AFK Games hosts weekly Modern Friday Night Magic (FNM) tournaments starting at 6:30 pm!\nEntry is $10 \nPrize out is based on record. Capped at 4 rounds. \n4-0-0 = $60\n3-0-1 = $40\n3-1-0 = $20\n2-1-1 = $10 \nEach player will each be able to pick from a pool of promo pack promos in reverse standings order.
URL:https://afk.games/event/mtg-modern-fnm-10/2025-04-25/
LOCATION:AFK Games\, 2495 Cedar Street STE 14-B\, Holt\, MI\, 48842\, United States
CATEGORIES:Events,Magic: The Gathering,Modern
ORGANIZER;CN="AFK Games":MAILTO:support@afk-games.com
END:VEVENT
BEGIN:VEVENT
DTSTART;TZID=America/Detroit:20250418T183000
DTEND;TZID=America/Detroit:20250418T220000
DTSTAMP:20260419T153023
CREATED:20260101T204727Z
LAST-MODIFIED:20260101T204727Z
UID:10005256-1745001000-1745013600@afk.games
SUMMARY:MTG Modern FNM
DESCRIPTION:AFK Games hosts weekly Modern Friday Night Magic (FNM) tournaments starting at 6:30 pm!\nEntry is $10 \nPrize out is based on record. Capped at 4 rounds. \n4-0-0 = $60\n3-0-1 = $40\n3-1-0 = $20\n2-1-1 = $10 \nEach player will each be able to pick from a pool of promo pack promos in reverse standings order.
URL:https://afk.games/event/mtg-modern-fnm-11/2025-04-18/
LOCATION:AFK Games\, 2495 Cedar Street STE 14-B\, Holt\, MI\, 48842\, United States
CATEGORIES:Events,Magic: The Gathering,Modern
ORGANIZER;CN="AFK Games":MAILTO:support@afk-games.com
END:VEVENT
BEGIN:VEVENT
DTSTART;TZID=America/Detroit:20250418T183000
DTEND;TZID=America/Detroit:20250418T220000
DTSTAMP:20260419T153023
CREATED:20220728T215755Z
LAST-MODIFIED:20250918T023011Z
UID:10003935-1745001000-1745013600@afk.games
SUMMARY:MTG Modern FNM
DESCRIPTION:AFK Games hosts weekly Modern Friday Night Magic (FNM) tournaments starting at 6:30 pm!\nEntry is $10 \nPrize out is based on record. Capped at 4 rounds. \n4-0-0 = $60\n3-0-1 = $40\n3-1-0 = $20\n2-1-1 = $10 \nEach player will each be able to pick from a pool of promo pack promos in reverse standings order.
URL:https://afk.games/event/mtg-modern-fnm-10/2025-04-18/
LOCATION:AFK Games\, 2495 Cedar Street STE 14-B\, Holt\, MI\, 48842\, United States
CATEGORIES:Events,Magic: The Gathering,Modern
ORGANIZER;CN="AFK Games":MAILTO:support@afk-games.com
END:VEVENT
BEGIN:VEVENT
DTSTART;TZID=America/Detroit:20250411T183000
DTEND;TZID=America/Detroit:20250411T220000
DTSTAMP:20260419T153023
CREATED:20260101T204727Z
LAST-MODIFIED:20260101T204727Z
UID:10005255-1744396200-1744408800@afk.games
SUMMARY:MTG Modern FNM
DESCRIPTION:AFK Games hosts weekly Modern Friday Night Magic (FNM) tournaments starting at 6:30 pm!\nEntry is $10 \nPrize out is based on record. Capped at 4 rounds. \n4-0-0 = $60\n3-0-1 = $40\n3-1-0 = $20\n2-1-1 = $10 \nEach player will each be able to pick from a pool of promo pack promos in reverse standings order.
URL:https://afk.games/event/mtg-modern-fnm-11/2025-04-11/
LOCATION:AFK Games\, 2495 Cedar Street STE 14-B\, Holt\, MI\, 48842\, United States
CATEGORIES:Events,Magic: The Gathering,Modern
ORGANIZER;CN="AFK Games":MAILTO:support@afk-games.com
END:VEVENT
BEGIN:VEVENT
DTSTART;TZID=America/Detroit:20250411T183000
DTEND;TZID=America/Detroit:20250411T220000
DTSTAMP:20260419T153023
CREATED:20220728T215755Z
LAST-MODIFIED:20250918T023011Z
UID:10003934-1744396200-1744408800@afk.games
SUMMARY:MTG Modern FNM
DESCRIPTION:AFK Games hosts weekly Modern Friday Night Magic (FNM) tournaments starting at 6:30 pm!\nEntry is $10 \nPrize out is based on record. Capped at 4 rounds. \n4-0-0 = $60\n3-0-1 = $40\n3-1-0 = $20\n2-1-1 = $10 \nEach player will each be able to pick from a pool of promo pack promos in reverse standings order.
URL:https://afk.games/event/mtg-modern-fnm-10/2025-04-11/
LOCATION:AFK Games\, 2495 Cedar Street STE 14-B\, Holt\, MI\, 48842\, United States
CATEGORIES:Events,Magic: The Gathering,Modern
ORGANIZER;CN="AFK Games":MAILTO:support@afk-games.com
END:VEVENT
BEGIN:VEVENT
DTSTART;TZID=America/Detroit:20250404T183000
DTEND;TZID=America/Detroit:20250404T220000
DTSTAMP:20260419T153023
CREATED:20260101T204727Z
LAST-MODIFIED:20260101T204727Z
UID:10005254-1743791400-1743804000@afk.games
SUMMARY:MTG Modern FNM
DESCRIPTION:AFK Games hosts weekly Modern Friday Night Magic (FNM) tournaments starting at 6:30 pm!\nEntry is $10 \nPrize out is based on record. Capped at 4 rounds. \n4-0-0 = $60\n3-0-1 = $40\n3-1-0 = $20\n2-1-1 = $10 \nEach player will each be able to pick from a pool of promo pack promos in reverse standings order.
URL:https://afk.games/event/mtg-modern-fnm-11/2025-04-04/
LOCATION:AFK Games\, 2495 Cedar Street STE 14-B\, Holt\, MI\, 48842\, United States
CATEGORIES:Events,Magic: The Gathering,Modern
ORGANIZER;CN="AFK Games":MAILTO:support@afk-games.com
END:VEVENT
BEGIN:VEVENT
DTSTART;TZID=America/Detroit:20250404T183000
DTEND;TZID=America/Detroit:20250404T220000
DTSTAMP:20260419T153023
CREATED:20220728T215755Z
LAST-MODIFIED:20250918T023011Z
UID:10003933-1743791400-1743804000@afk.games
SUMMARY:MTG Modern FNM
DESCRIPTION:AFK Games hosts weekly Modern Friday Night Magic (FNM) tournaments starting at 6:30 pm!\nEntry is $10 \nPrize out is based on record. Capped at 4 rounds. \n4-0-0 = $60\n3-0-1 = $40\n3-1-0 = $20\n2-1-1 = $10 \nEach player will each be able to pick from a pool of promo pack promos in reverse standings order.
URL:https://afk.games/event/mtg-modern-fnm-10/2025-04-04/
LOCATION:AFK Games\, 2495 Cedar Street STE 14-B\, Holt\, MI\, 48842\, United States
CATEGORIES:Events,Magic: The Gathering,Modern
ORGANIZER;CN="AFK Games":MAILTO:support@afk-games.com
END:VEVENT
BEGIN:VEVENT
DTSTART;TZID=America/Detroit:20250328T183000
DTEND;TZID=America/Detroit:20250328T220000
DTSTAMP:20260419T153023
CREATED:20260101T204727Z
LAST-MODIFIED:20260101T204727Z
UID:10005253-1743186600-1743199200@afk.games
SUMMARY:MTG Modern FNM
DESCRIPTION:AFK Games hosts weekly Modern Friday Night Magic (FNM) tournaments starting at 6:30 pm!\nEntry is $10 \nPrize out is based on record. Capped at 4 rounds. \n4-0-0 = $60\n3-0-1 = $40\n3-1-0 = $20\n2-1-1 = $10 \nEach player will each be able to pick from a pool of promo pack promos in reverse standings order.
URL:https://afk.games/event/mtg-modern-fnm-11/2025-03-28/
LOCATION:AFK Games\, 2495 Cedar Street STE 14-B\, Holt\, MI\, 48842\, United States
CATEGORIES:Events,Magic: The Gathering,Modern
ORGANIZER;CN="AFK Games":MAILTO:support@afk-games.com
END:VEVENT
BEGIN:VEVENT
DTSTART;TZID=America/Detroit:20250328T183000
DTEND;TZID=America/Detroit:20250328T220000
DTSTAMP:20260419T153023
CREATED:20220728T215755Z
LAST-MODIFIED:20250918T023011Z
UID:10003261-1743186600-1743199200@afk.games
SUMMARY:MTG Modern FNM
DESCRIPTION:AFK Games hosts weekly Modern Friday Night Magic (FNM) tournaments starting at 6:30 pm!\nEntry is $10 \nPrize out is based on record. Capped at 4 rounds. \n4-0-0 = $60\n3-0-1 = $40\n3-1-0 = $20\n2-1-1 = $10 \nEach player will each be able to pick from a pool of promo pack promos in reverse standings order.
URL:https://afk.games/event/mtg-modern-fnm-10/2025-03-28/
LOCATION:AFK Games\, 2495 Cedar Street STE 14-B\, Holt\, MI\, 48842\, United States
CATEGORIES:Events,Magic: The Gathering,Modern
ORGANIZER;CN="AFK Games":MAILTO:support@afk-games.com
END:VEVENT
BEGIN:VEVENT
DTSTART;TZID=America/Detroit:20250321T183000
DTEND;TZID=America/Detroit:20250321T220000
DTSTAMP:20260419T153023
CREATED:20260101T204727Z
LAST-MODIFIED:20260101T204727Z
UID:10005252-1742581800-1742594400@afk.games
SUMMARY:MTG Modern FNM
DESCRIPTION:AFK Games hosts weekly Modern Friday Night Magic (FNM) tournaments starting at 6:30 pm!\nEntry is $10 \nPrize out is based on record. Capped at 4 rounds. \n4-0-0 = $60\n3-0-1 = $40\n3-1-0 = $20\n2-1-1 = $10 \nEach player will each be able to pick from a pool of promo pack promos in reverse standings order.
URL:https://afk.games/event/mtg-modern-fnm-11/2025-03-21/
LOCATION:AFK Games\, 2495 Cedar Street STE 14-B\, Holt\, MI\, 48842\, United States
CATEGORIES:Events,Magic: The Gathering,Modern
ORGANIZER;CN="AFK Games":MAILTO:support@afk-games.com
END:VEVENT
BEGIN:VEVENT
DTSTART;TZID=America/Detroit:20250321T183000
DTEND;TZID=America/Detroit:20250321T220000
DTSTAMP:20260419T153023
CREATED:20220728T215755Z
LAST-MODIFIED:20250918T023011Z
UID:10003260-1742581800-1742594400@afk.games
SUMMARY:MTG Modern FNM
DESCRIPTION:AFK Games hosts weekly Modern Friday Night Magic (FNM) tournaments starting at 6:30 pm!\nEntry is $10 \nPrize out is based on record. Capped at 4 rounds. \n4-0-0 = $60\n3-0-1 = $40\n3-1-0 = $20\n2-1-1 = $10 \nEach player will each be able to pick from a pool of promo pack promos in reverse standings order.
URL:https://afk.games/event/mtg-modern-fnm-10/2025-03-21/
LOCATION:AFK Games\, 2495 Cedar Street STE 14-B\, Holt\, MI\, 48842\, United States
CATEGORIES:Events,Magic: The Gathering,Modern
ORGANIZER;CN="AFK Games":MAILTO:support@afk-games.com
END:VEVENT
BEGIN:VEVENT
DTSTART;TZID=America/Detroit:20250314T183000
DTEND;TZID=America/Detroit:20250314T220000
DTSTAMP:20260419T153023
CREATED:20260101T204727Z
LAST-MODIFIED:20260101T204727Z
UID:10005251-1741977000-1741989600@afk.games
SUMMARY:MTG Modern FNM
DESCRIPTION:AFK Games hosts weekly Modern Friday Night Magic (FNM) tournaments starting at 6:30 pm!\nEntry is $10 \nPrize out is based on record. Capped at 4 rounds. \n4-0-0 = $60\n3-0-1 = $40\n3-1-0 = $20\n2-1-1 = $10 \nEach player will each be able to pick from a pool of promo pack promos in reverse standings order.
URL:https://afk.games/event/mtg-modern-fnm-11/2025-03-14/
LOCATION:AFK Games\, 2495 Cedar Street STE 14-B\, Holt\, MI\, 48842\, United States
CATEGORIES:Events,Magic: The Gathering,Modern
ORGANIZER;CN="AFK Games":MAILTO:support@afk-games.com
END:VEVENT
BEGIN:VEVENT
DTSTART;TZID=America/Detroit:20250314T183000
DTEND;TZID=America/Detroit:20250314T220000
DTSTAMP:20260419T153023
CREATED:20220728T215755Z
LAST-MODIFIED:20250918T023011Z
UID:10003259-1741977000-1741989600@afk.games
SUMMARY:MTG Modern FNM
DESCRIPTION:AFK Games hosts weekly Modern Friday Night Magic (FNM) tournaments starting at 6:30 pm!\nEntry is $10 \nPrize out is based on record. Capped at 4 rounds. \n4-0-0 = $60\n3-0-1 = $40\n3-1-0 = $20\n2-1-1 = $10 \nEach player will each be able to pick from a pool of promo pack promos in reverse standings order.
URL:https://afk.games/event/mtg-modern-fnm-10/2025-03-14/
LOCATION:AFK Games\, 2495 Cedar Street STE 14-B\, Holt\, MI\, 48842\, United States
CATEGORIES:Events,Magic: The Gathering,Modern
ORGANIZER;CN="AFK Games":MAILTO:support@afk-games.com
END:VEVENT
BEGIN:VEVENT
DTSTART;TZID=America/Detroit:20250307T183000
DTEND;TZID=America/Detroit:20250307T220000
DTSTAMP:20260419T153023
CREATED:20260101T204727Z
LAST-MODIFIED:20260101T204727Z
UID:10005250-1741372200-1741384800@afk.games
SUMMARY:MTG Modern FNM
DESCRIPTION:AFK Games hosts weekly Modern Friday Night Magic (FNM) tournaments starting at 6:30 pm!\nEntry is $10 \nPrize out is based on record. Capped at 4 rounds. \n4-0-0 = $60\n3-0-1 = $40\n3-1-0 = $20\n2-1-1 = $10 \nEach player will each be able to pick from a pool of promo pack promos in reverse standings order.
URL:https://afk.games/event/mtg-modern-fnm-11/2025-03-07/
LOCATION:AFK Games\, 2495 Cedar Street STE 14-B\, Holt\, MI\, 48842\, United States
CATEGORIES:Events,Magic: The Gathering,Modern
ORGANIZER;CN="AFK Games":MAILTO:support@afk-games.com
END:VEVENT
BEGIN:VEVENT
DTSTART;TZID=America/Detroit:20250307T183000
DTEND;TZID=America/Detroit:20250307T220000
DTSTAMP:20260419T153023
CREATED:20220728T215755Z
LAST-MODIFIED:20250918T023011Z
UID:10003258-1741372200-1741384800@afk.games
SUMMARY:MTG Modern FNM
DESCRIPTION:AFK Games hosts weekly Modern Friday Night Magic (FNM) tournaments starting at 6:30 pm!\nEntry is $10 \nPrize out is based on record. Capped at 4 rounds. \n4-0-0 = $60\n3-0-1 = $40\n3-1-0 = $20\n2-1-1 = $10 \nEach player will each be able to pick from a pool of promo pack promos in reverse standings order.
URL:https://afk.games/event/mtg-modern-fnm-10/2025-03-07/
LOCATION:AFK Games\, 2495 Cedar Street STE 14-B\, Holt\, MI\, 48842\, United States
CATEGORIES:Events,Magic: The Gathering,Modern
ORGANIZER;CN="AFK Games":MAILTO:support@afk-games.com
END:VEVENT
BEGIN:VEVENT
DTSTART;TZID=America/Detroit:20250228T183000
DTEND;TZID=America/Detroit:20250228T220000
DTSTAMP:20260419T153023
CREATED:20260101T204727Z
LAST-MODIFIED:20260101T204727Z
UID:10005249-1740767400-1740780000@afk.games
SUMMARY:MTG Modern FNM
DESCRIPTION:AFK Games hosts weekly Modern Friday Night Magic (FNM) tournaments starting at 6:30 pm!\nEntry is $10 \nPrize out is based on record. Capped at 4 rounds. \n4-0-0 = $60\n3-0-1 = $40\n3-1-0 = $20\n2-1-1 = $10 \nEach player will each be able to pick from a pool of promo pack promos in reverse standings order.
URL:https://afk.games/event/mtg-modern-fnm-11/2025-02-28/
LOCATION:AFK Games\, 2495 Cedar Street STE 14-B\, Holt\, MI\, 48842\, United States
CATEGORIES:Events,Magic: The Gathering,Modern
ORGANIZER;CN="AFK Games":MAILTO:support@afk-games.com
END:VEVENT
BEGIN:VEVENT
DTSTART;TZID=America/Detroit:20250228T183000
DTEND;TZID=America/Detroit:20250228T220000
DTSTAMP:20260419T153023
CREATED:20220728T215755Z
LAST-MODIFIED:20250918T023011Z
UID:10003257-1740767400-1740780000@afk.games
SUMMARY:MTG Modern FNM
DESCRIPTION:AFK Games hosts weekly Modern Friday Night Magic (FNM) tournaments starting at 6:30 pm!\nEntry is $10 \nPrize out is based on record. Capped at 4 rounds. \n4-0-0 = $60\n3-0-1 = $40\n3-1-0 = $20\n2-1-1 = $10 \nEach player will each be able to pick from a pool of promo pack promos in reverse standings order.
URL:https://afk.games/event/mtg-modern-fnm-10/2025-02-28/
LOCATION:AFK Games\, 2495 Cedar Street STE 14-B\, Holt\, MI\, 48842\, United States
CATEGORIES:Events,Magic: The Gathering,Modern
ORGANIZER;CN="AFK Games":MAILTO:support@afk-games.com
END:VEVENT
BEGIN:VEVENT
DTSTART;TZID=America/Detroit:20250221T183000
DTEND;TZID=America/Detroit:20250221T220000
DTSTAMP:20260419T153023
CREATED:20260101T204727Z
LAST-MODIFIED:20260101T204727Z
UID:10005248-1740162600-1740175200@afk.games
SUMMARY:MTG Modern FNM
DESCRIPTION:AFK Games hosts weekly Modern Friday Night Magic (FNM) tournaments starting at 6:30 pm!\nEntry is $10 \nPrize out is based on record. Capped at 4 rounds. \n4-0-0 = $60\n3-0-1 = $40\n3-1-0 = $20\n2-1-1 = $10 \nEach player will each be able to pick from a pool of promo pack promos in reverse standings order.
URL:https://afk.games/event/mtg-modern-fnm-11/2025-02-21/
LOCATION:AFK Games\, 2495 Cedar Street STE 14-B\, Holt\, MI\, 48842\, United States
CATEGORIES:Events,Magic: The Gathering,Modern
ORGANIZER;CN="AFK Games":MAILTO:support@afk-games.com
END:VEVENT
BEGIN:VEVENT
DTSTART;TZID=America/Detroit:20250221T183000
DTEND;TZID=America/Detroit:20250221T220000
DTSTAMP:20260419T153023
CREATED:20220728T215755Z
LAST-MODIFIED:20250918T023011Z
UID:10003256-1740162600-1740175200@afk.games
SUMMARY:MTG Modern FNM
DESCRIPTION:AFK Games hosts weekly Modern Friday Night Magic (FNM) tournaments starting at 6:30 pm!\nEntry is $10 \nPrize out is based on record. Capped at 4 rounds. \n4-0-0 = $60\n3-0-1 = $40\n3-1-0 = $20\n2-1-1 = $10 \nEach player will each be able to pick from a pool of promo pack promos in reverse standings order.
URL:https://afk.games/event/mtg-modern-fnm-10/2025-02-21/
LOCATION:AFK Games\, 2495 Cedar Street STE 14-B\, Holt\, MI\, 48842\, United States
CATEGORIES:Events,Magic: The Gathering,Modern
ORGANIZER;CN="AFK Games":MAILTO:support@afk-games.com
END:VEVENT
BEGIN:VEVENT
DTSTART;TZID=America/Detroit:20250214T183000
DTEND;TZID=America/Detroit:20250214T220000
DTSTAMP:20260419T153023
CREATED:20260101T204727Z
LAST-MODIFIED:20260101T204727Z
UID:10005247-1739557800-1739570400@afk.games
SUMMARY:MTG Modern FNM
DESCRIPTION:AFK Games hosts weekly Modern Friday Night Magic (FNM) tournaments starting at 6:30 pm!\nEntry is $10 \nPrize out is based on record. Capped at 4 rounds. \n4-0-0 = $60\n3-0-1 = $40\n3-1-0 = $20\n2-1-1 = $10 \nEach player will each be able to pick from a pool of promo pack promos in reverse standings order.
URL:https://afk.games/event/mtg-modern-fnm-11/2025-02-14/
LOCATION:AFK Games\, 2495 Cedar Street STE 14-B\, Holt\, MI\, 48842\, United States
CATEGORIES:Events,Magic: The Gathering,Modern
ORGANIZER;CN="AFK Games":MAILTO:support@afk-games.com
END:VEVENT
BEGIN:VEVENT
DTSTART;TZID=America/Detroit:20250214T183000
DTEND;TZID=America/Detroit:20250214T220000
DTSTAMP:20260419T153023
CREATED:20220728T215755Z
LAST-MODIFIED:20250918T023011Z
UID:10003255-1739557800-1739570400@afk.games
SUMMARY:MTG Modern FNM
DESCRIPTION:AFK Games hosts weekly Modern Friday Night Magic (FNM) tournaments starting at 6:30 pm!\nEntry is $10 \nPrize out is based on record. Capped at 4 rounds. \n4-0-0 = $60\n3-0-1 = $40\n3-1-0 = $20\n2-1-1 = $10 \nEach player will each be able to pick from a pool of promo pack promos in reverse standings order.
URL:https://afk.games/event/mtg-modern-fnm-10/2025-02-14/
LOCATION:AFK Games\, 2495 Cedar Street STE 14-B\, Holt\, MI\, 48842\, United States
CATEGORIES:Events,Magic: The Gathering,Modern
ORGANIZER;CN="AFK Games":MAILTO:support@afk-games.com
END:VEVENT
END:VCALENDAR