BEGIN:VCALENDAR
VERSION:2.0
PRODID:-//AFK Games - ECPv6.15.20//NONSGML v1.0//EN
CALSCALE:GREGORIAN
METHOD:PUBLISH
X-ORIGINAL-URL:https://afk.games
X-WR-CALDESC:Events for AFK Games
REFRESH-INTERVAL;VALUE=DURATION:PT1H
X-Robots-Tag:noindex
X-PUBLISHED-TTL:PT1H
BEGIN:VTIMEZONE
TZID:America/Detroit
BEGIN:DAYLIGHT
TZOFFSETFROM:-0500
TZOFFSETTO:-0400
TZNAME:EDT
DTSTART:20240310T070000
END:DAYLIGHT
BEGIN:STANDARD
TZOFFSETFROM:-0400
TZOFFSETTO:-0500
TZNAME:EST
DTSTART:20241103T060000
END:STANDARD
BEGIN:DAYLIGHT
TZOFFSETFROM:-0500
TZOFFSETTO:-0400
TZNAME:EDT
DTSTART:20250309T070000
END:DAYLIGHT
BEGIN:STANDARD
TZOFFSETFROM:-0400
TZOFFSETTO:-0500
TZNAME:EST
DTSTART:20251102T060000
END:STANDARD
BEGIN:DAYLIGHT
TZOFFSETFROM:-0500
TZOFFSETTO:-0400
TZNAME:EDT
DTSTART:20260308T070000
END:DAYLIGHT
BEGIN:STANDARD
TZOFFSETFROM:-0400
TZOFFSETTO:-0500
TZNAME:EST
DTSTART:20261101T060000
END:STANDARD
END:VTIMEZONE
BEGIN:VEVENT
DTSTART;TZID=America/Detroit:20250829T183000
DTEND;TZID=America/Detroit:20250829T220000
DTSTAMP:20260419T140147
CREATED:20260101T204727Z
LAST-MODIFIED:20260101T204727Z
UID:10005275-1756492200-1756504800@afk.games
SUMMARY:MTG Modern FNM
DESCRIPTION:AFK Games hosts weekly Modern Friday Night Magic (FNM) tournaments starting at 6:30 pm!\nEntry is $10 \nPrize out is based on record. Capped at 4 rounds. \n4-0-0 = $60\n3-0-1 = $40\n3-1-0 = $20\n2-1-1 = $10 \nEach player will each be able to pick from a pool of promo pack promos in reverse standings order.
URL:https://afk.games/event/mtg-modern-fnm-11/2025-08-29/
LOCATION:AFK Games\, 2495 Cedar Street STE 14-B\, Holt\, MI\, 48842\, United States
CATEGORIES:Events,Magic: The Gathering,Modern
ORGANIZER;CN="AFK Games":MAILTO:support@afk-games.com
END:VEVENT
BEGIN:VEVENT
DTSTART;TZID=America/Detroit:20250829T183000
DTEND;TZID=America/Detroit:20250829T220000
DTSTAMP:20260419T140147
CREATED:20220728T215755Z
LAST-MODIFIED:20250918T023011Z
UID:10003954-1756492200-1756504800@afk.games
SUMMARY:MTG Modern FNM
DESCRIPTION:AFK Games hosts weekly Modern Friday Night Magic (FNM) tournaments starting at 6:30 pm!\nEntry is $10 \nPrize out is based on record. Capped at 4 rounds. \n4-0-0 = $60\n3-0-1 = $40\n3-1-0 = $20\n2-1-1 = $10 \nEach player will each be able to pick from a pool of promo pack promos in reverse standings order.
URL:https://afk.games/event/mtg-modern-fnm-10/2025-08-29/
LOCATION:AFK Games\, 2495 Cedar Street STE 14-B\, Holt\, MI\, 48842\, United States
CATEGORIES:Events,Magic: The Gathering,Modern
ORGANIZER;CN="AFK Games":MAILTO:support@afk-games.com
END:VEVENT
BEGIN:VEVENT
DTSTART;TZID=America/Detroit:20250822T183000
DTEND;TZID=America/Detroit:20250822T220000
DTSTAMP:20260419T140147
CREATED:20260101T204727Z
LAST-MODIFIED:20260101T204727Z
UID:10005274-1755887400-1755900000@afk.games
SUMMARY:MTG Modern FNM
DESCRIPTION:AFK Games hosts weekly Modern Friday Night Magic (FNM) tournaments starting at 6:30 pm!\nEntry is $10 \nPrize out is based on record. Capped at 4 rounds. \n4-0-0 = $60\n3-0-1 = $40\n3-1-0 = $20\n2-1-1 = $10 \nEach player will each be able to pick from a pool of promo pack promos in reverse standings order.
URL:https://afk.games/event/mtg-modern-fnm-11/2025-08-22/
LOCATION:AFK Games\, 2495 Cedar Street STE 14-B\, Holt\, MI\, 48842\, United States
CATEGORIES:Events,Magic: The Gathering,Modern
ORGANIZER;CN="AFK Games":MAILTO:support@afk-games.com
END:VEVENT
BEGIN:VEVENT
DTSTART;TZID=America/Detroit:20250822T183000
DTEND;TZID=America/Detroit:20250822T220000
DTSTAMP:20260419T140147
CREATED:20220728T215755Z
LAST-MODIFIED:20250918T023011Z
UID:10003953-1755887400-1755900000@afk.games
SUMMARY:MTG Modern FNM
DESCRIPTION:AFK Games hosts weekly Modern Friday Night Magic (FNM) tournaments starting at 6:30 pm!\nEntry is $10 \nPrize out is based on record. Capped at 4 rounds. \n4-0-0 = $60\n3-0-1 = $40\n3-1-0 = $20\n2-1-1 = $10 \nEach player will each be able to pick from a pool of promo pack promos in reverse standings order.
URL:https://afk.games/event/mtg-modern-fnm-10/2025-08-22/
LOCATION:AFK Games\, 2495 Cedar Street STE 14-B\, Holt\, MI\, 48842\, United States
CATEGORIES:Events,Magic: The Gathering,Modern
ORGANIZER;CN="AFK Games":MAILTO:support@afk-games.com
END:VEVENT
BEGIN:VEVENT
DTSTART;TZID=America/Detroit:20250815T183000
DTEND;TZID=America/Detroit:20250815T220000
DTSTAMP:20260419T140147
CREATED:20260101T204727Z
LAST-MODIFIED:20260101T204727Z
UID:10005273-1755282600-1755295200@afk.games
SUMMARY:MTG Modern FNM
DESCRIPTION:AFK Games hosts weekly Modern Friday Night Magic (FNM) tournaments starting at 6:30 pm!\nEntry is $10 \nPrize out is based on record. Capped at 4 rounds. \n4-0-0 = $60\n3-0-1 = $40\n3-1-0 = $20\n2-1-1 = $10 \nEach player will each be able to pick from a pool of promo pack promos in reverse standings order.
URL:https://afk.games/event/mtg-modern-fnm-11/2025-08-15/
LOCATION:AFK Games\, 2495 Cedar Street STE 14-B\, Holt\, MI\, 48842\, United States
CATEGORIES:Events,Magic: The Gathering,Modern
ORGANIZER;CN="AFK Games":MAILTO:support@afk-games.com
END:VEVENT
BEGIN:VEVENT
DTSTART;TZID=America/Detroit:20250815T183000
DTEND;TZID=America/Detroit:20250815T220000
DTSTAMP:20260419T140147
CREATED:20220728T215755Z
LAST-MODIFIED:20250918T023011Z
UID:10003952-1755282600-1755295200@afk.games
SUMMARY:MTG Modern FNM
DESCRIPTION:AFK Games hosts weekly Modern Friday Night Magic (FNM) tournaments starting at 6:30 pm!\nEntry is $10 \nPrize out is based on record. Capped at 4 rounds. \n4-0-0 = $60\n3-0-1 = $40\n3-1-0 = $20\n2-1-1 = $10 \nEach player will each be able to pick from a pool of promo pack promos in reverse standings order.
URL:https://afk.games/event/mtg-modern-fnm-10/2025-08-15/
LOCATION:AFK Games\, 2495 Cedar Street STE 14-B\, Holt\, MI\, 48842\, United States
CATEGORIES:Events,Magic: The Gathering,Modern
ORGANIZER;CN="AFK Games":MAILTO:support@afk-games.com
END:VEVENT
BEGIN:VEVENT
DTSTART;TZID=America/Detroit:20250808T183000
DTEND;TZID=America/Detroit:20250808T220000
DTSTAMP:20260419T140147
CREATED:20260101T204727Z
LAST-MODIFIED:20260101T204727Z
UID:10005272-1754677800-1754690400@afk.games
SUMMARY:MTG Modern FNM
DESCRIPTION:AFK Games hosts weekly Modern Friday Night Magic (FNM) tournaments starting at 6:30 pm!\nEntry is $10 \nPrize out is based on record. Capped at 4 rounds. \n4-0-0 = $60\n3-0-1 = $40\n3-1-0 = $20\n2-1-1 = $10 \nEach player will each be able to pick from a pool of promo pack promos in reverse standings order.
URL:https://afk.games/event/mtg-modern-fnm-11/2025-08-08/
LOCATION:AFK Games\, 2495 Cedar Street STE 14-B\, Holt\, MI\, 48842\, United States
CATEGORIES:Events,Magic: The Gathering,Modern
ORGANIZER;CN="AFK Games":MAILTO:support@afk-games.com
END:VEVENT
BEGIN:VEVENT
DTSTART;TZID=America/Detroit:20250808T183000
DTEND;TZID=America/Detroit:20250808T220000
DTSTAMP:20260419T140147
CREATED:20220728T215755Z
LAST-MODIFIED:20250918T023011Z
UID:10003951-1754677800-1754690400@afk.games
SUMMARY:MTG Modern FNM
DESCRIPTION:AFK Games hosts weekly Modern Friday Night Magic (FNM) tournaments starting at 6:30 pm!\nEntry is $10 \nPrize out is based on record. Capped at 4 rounds. \n4-0-0 = $60\n3-0-1 = $40\n3-1-0 = $20\n2-1-1 = $10 \nEach player will each be able to pick from a pool of promo pack promos in reverse standings order.
URL:https://afk.games/event/mtg-modern-fnm-10/2025-08-08/
LOCATION:AFK Games\, 2495 Cedar Street STE 14-B\, Holt\, MI\, 48842\, United States
CATEGORIES:Events,Magic: The Gathering,Modern
ORGANIZER;CN="AFK Games":MAILTO:support@afk-games.com
END:VEVENT
BEGIN:VEVENT
DTSTART;TZID=America/Detroit:20250801T183000
DTEND;TZID=America/Detroit:20250801T220000
DTSTAMP:20260419T140147
CREATED:20260101T204727Z
LAST-MODIFIED:20260101T204727Z
UID:10005271-1754073000-1754085600@afk.games
SUMMARY:MTG Modern FNM
DESCRIPTION:AFK Games hosts weekly Modern Friday Night Magic (FNM) tournaments starting at 6:30 pm!\nEntry is $10 \nPrize out is based on record. Capped at 4 rounds. \n4-0-0 = $60\n3-0-1 = $40\n3-1-0 = $20\n2-1-1 = $10 \nEach player will each be able to pick from a pool of promo pack promos in reverse standings order.
URL:https://afk.games/event/mtg-modern-fnm-11/2025-08-01/
LOCATION:AFK Games\, 2495 Cedar Street STE 14-B\, Holt\, MI\, 48842\, United States
CATEGORIES:Events,Magic: The Gathering,Modern
ORGANIZER;CN="AFK Games":MAILTO:support@afk-games.com
END:VEVENT
BEGIN:VEVENT
DTSTART;TZID=America/Detroit:20250801T183000
DTEND;TZID=America/Detroit:20250801T220000
DTSTAMP:20260419T140147
CREATED:20220728T215755Z
LAST-MODIFIED:20250918T023011Z
UID:10003950-1754073000-1754085600@afk.games
SUMMARY:MTG Modern FNM
DESCRIPTION:AFK Games hosts weekly Modern Friday Night Magic (FNM) tournaments starting at 6:30 pm!\nEntry is $10 \nPrize out is based on record. Capped at 4 rounds. \n4-0-0 = $60\n3-0-1 = $40\n3-1-0 = $20\n2-1-1 = $10 \nEach player will each be able to pick from a pool of promo pack promos in reverse standings order.
URL:https://afk.games/event/mtg-modern-fnm-10/2025-08-01/
LOCATION:AFK Games\, 2495 Cedar Street STE 14-B\, Holt\, MI\, 48842\, United States
CATEGORIES:Events,Magic: The Gathering,Modern
ORGANIZER;CN="AFK Games":MAILTO:support@afk-games.com
END:VEVENT
BEGIN:VEVENT
DTSTART;TZID=America/Detroit:20250725T183000
DTEND;TZID=America/Detroit:20250725T220000
DTSTAMP:20260419T140147
CREATED:20260101T204727Z
LAST-MODIFIED:20260101T204727Z
UID:10005270-1753468200-1753480800@afk.games
SUMMARY:MTG Modern FNM
DESCRIPTION:AFK Games hosts weekly Modern Friday Night Magic (FNM) tournaments starting at 6:30 pm!\nEntry is $10 \nPrize out is based on record. Capped at 4 rounds. \n4-0-0 = $60\n3-0-1 = $40\n3-1-0 = $20\n2-1-1 = $10 \nEach player will each be able to pick from a pool of promo pack promos in reverse standings order.
URL:https://afk.games/event/mtg-modern-fnm-11/2025-07-25/
LOCATION:AFK Games\, 2495 Cedar Street STE 14-B\, Holt\, MI\, 48842\, United States
CATEGORIES:Events,Magic: The Gathering,Modern
ORGANIZER;CN="AFK Games":MAILTO:support@afk-games.com
END:VEVENT
BEGIN:VEVENT
DTSTART;TZID=America/Detroit:20250725T183000
DTEND;TZID=America/Detroit:20250725T220000
DTSTAMP:20260419T140147
CREATED:20220728T215755Z
LAST-MODIFIED:20250918T023011Z
UID:10003949-1753468200-1753480800@afk.games
SUMMARY:MTG Modern FNM
DESCRIPTION:AFK Games hosts weekly Modern Friday Night Magic (FNM) tournaments starting at 6:30 pm!\nEntry is $10 \nPrize out is based on record. Capped at 4 rounds. \n4-0-0 = $60\n3-0-1 = $40\n3-1-0 = $20\n2-1-1 = $10 \nEach player will each be able to pick from a pool of promo pack promos in reverse standings order.
URL:https://afk.games/event/mtg-modern-fnm-10/2025-07-25/
LOCATION:AFK Games\, 2495 Cedar Street STE 14-B\, Holt\, MI\, 48842\, United States
CATEGORIES:Events,Magic: The Gathering,Modern
ORGANIZER;CN="AFK Games":MAILTO:support@afk-games.com
END:VEVENT
BEGIN:VEVENT
DTSTART;TZID=America/Detroit:20250718T183000
DTEND;TZID=America/Detroit:20250718T220000
DTSTAMP:20260419T140147
CREATED:20260101T204727Z
LAST-MODIFIED:20260101T204727Z
UID:10005269-1752863400-1752876000@afk.games
SUMMARY:MTG Modern FNM
DESCRIPTION:AFK Games hosts weekly Modern Friday Night Magic (FNM) tournaments starting at 6:30 pm!\nEntry is $10 \nPrize out is based on record. Capped at 4 rounds. \n4-0-0 = $60\n3-0-1 = $40\n3-1-0 = $20\n2-1-1 = $10 \nEach player will each be able to pick from a pool of promo pack promos in reverse standings order.
URL:https://afk.games/event/mtg-modern-fnm-11/2025-07-18/
LOCATION:AFK Games\, 2495 Cedar Street STE 14-B\, Holt\, MI\, 48842\, United States
CATEGORIES:Events,Magic: The Gathering,Modern
ORGANIZER;CN="AFK Games":MAILTO:support@afk-games.com
END:VEVENT
BEGIN:VEVENT
DTSTART;TZID=America/Detroit:20250718T183000
DTEND;TZID=America/Detroit:20250718T220000
DTSTAMP:20260419T140147
CREATED:20220728T215755Z
LAST-MODIFIED:20250918T023011Z
UID:10003948-1752863400-1752876000@afk.games
SUMMARY:MTG Modern FNM
DESCRIPTION:AFK Games hosts weekly Modern Friday Night Magic (FNM) tournaments starting at 6:30 pm!\nEntry is $10 \nPrize out is based on record. Capped at 4 rounds. \n4-0-0 = $60\n3-0-1 = $40\n3-1-0 = $20\n2-1-1 = $10 \nEach player will each be able to pick from a pool of promo pack promos in reverse standings order.
URL:https://afk.games/event/mtg-modern-fnm-10/2025-07-18/
LOCATION:AFK Games\, 2495 Cedar Street STE 14-B\, Holt\, MI\, 48842\, United States
CATEGORIES:Events,Magic: The Gathering,Modern
ORGANIZER;CN="AFK Games":MAILTO:support@afk-games.com
END:VEVENT
BEGIN:VEVENT
DTSTART;TZID=America/Detroit:20250711T183000
DTEND;TZID=America/Detroit:20250711T220000
DTSTAMP:20260419T140147
CREATED:20260101T204727Z
LAST-MODIFIED:20260101T204727Z
UID:10005268-1752258600-1752271200@afk.games
SUMMARY:MTG Modern FNM
DESCRIPTION:AFK Games hosts weekly Modern Friday Night Magic (FNM) tournaments starting at 6:30 pm!\nEntry is $10 \nPrize out is based on record. Capped at 4 rounds. \n4-0-0 = $60\n3-0-1 = $40\n3-1-0 = $20\n2-1-1 = $10 \nEach player will each be able to pick from a pool of promo pack promos in reverse standings order.
URL:https://afk.games/event/mtg-modern-fnm-11/2025-07-11/
LOCATION:AFK Games\, 2495 Cedar Street STE 14-B\, Holt\, MI\, 48842\, United States
CATEGORIES:Events,Magic: The Gathering,Modern
ORGANIZER;CN="AFK Games":MAILTO:support@afk-games.com
END:VEVENT
BEGIN:VEVENT
DTSTART;TZID=America/Detroit:20250711T183000
DTEND;TZID=America/Detroit:20250711T220000
DTSTAMP:20260419T140147
CREATED:20220728T215755Z
LAST-MODIFIED:20250918T023011Z
UID:10003947-1752258600-1752271200@afk.games
SUMMARY:MTG Modern FNM
DESCRIPTION:AFK Games hosts weekly Modern Friday Night Magic (FNM) tournaments starting at 6:30 pm!\nEntry is $10 \nPrize out is based on record. Capped at 4 rounds. \n4-0-0 = $60\n3-0-1 = $40\n3-1-0 = $20\n2-1-1 = $10 \nEach player will each be able to pick from a pool of promo pack promos in reverse standings order.
URL:https://afk.games/event/mtg-modern-fnm-10/2025-07-11/
LOCATION:AFK Games\, 2495 Cedar Street STE 14-B\, Holt\, MI\, 48842\, United States
CATEGORIES:Events,Magic: The Gathering,Modern
ORGANIZER;CN="AFK Games":MAILTO:support@afk-games.com
END:VEVENT
BEGIN:VEVENT
DTSTART;TZID=America/Detroit:20250704T183000
DTEND;TZID=America/Detroit:20250704T220000
DTSTAMP:20260419T140147
CREATED:20260101T204727Z
LAST-MODIFIED:20260101T204727Z
UID:10005267-1751653800-1751666400@afk.games
SUMMARY:MTG Modern FNM
DESCRIPTION:AFK Games hosts weekly Modern Friday Night Magic (FNM) tournaments starting at 6:30 pm!\nEntry is $10 \nPrize out is based on record. Capped at 4 rounds. \n4-0-0 = $60\n3-0-1 = $40\n3-1-0 = $20\n2-1-1 = $10 \nEach player will each be able to pick from a pool of promo pack promos in reverse standings order.
URL:https://afk.games/event/mtg-modern-fnm-11/2025-07-04/
LOCATION:AFK Games\, 2495 Cedar Street STE 14-B\, Holt\, MI\, 48842\, United States
CATEGORIES:Events,Magic: The Gathering,Modern
ORGANIZER;CN="AFK Games":MAILTO:support@afk-games.com
END:VEVENT
BEGIN:VEVENT
DTSTART;TZID=America/Detroit:20250704T183000
DTEND;TZID=America/Detroit:20250704T220000
DTSTAMP:20260419T140147
CREATED:20220728T215755Z
LAST-MODIFIED:20250918T023011Z
UID:10003946-1751653800-1751666400@afk.games
SUMMARY:MTG Modern FNM
DESCRIPTION:AFK Games hosts weekly Modern Friday Night Magic (FNM) tournaments starting at 6:30 pm!\nEntry is $10 \nPrize out is based on record. Capped at 4 rounds. \n4-0-0 = $60\n3-0-1 = $40\n3-1-0 = $20\n2-1-1 = $10 \nEach player will each be able to pick from a pool of promo pack promos in reverse standings order.
URL:https://afk.games/event/mtg-modern-fnm-10/2025-07-04/
LOCATION:AFK Games\, 2495 Cedar Street STE 14-B\, Holt\, MI\, 48842\, United States
CATEGORIES:Events,Magic: The Gathering,Modern
ORGANIZER;CN="AFK Games":MAILTO:support@afk-games.com
END:VEVENT
BEGIN:VEVENT
DTSTART;TZID=America/Detroit:20250627T183000
DTEND;TZID=America/Detroit:20250627T220000
DTSTAMP:20260419T140147
CREATED:20260101T204727Z
LAST-MODIFIED:20260101T204727Z
UID:10005266-1751049000-1751061600@afk.games
SUMMARY:MTG Modern FNM
DESCRIPTION:AFK Games hosts weekly Modern Friday Night Magic (FNM) tournaments starting at 6:30 pm!\nEntry is $10 \nPrize out is based on record. Capped at 4 rounds. \n4-0-0 = $60\n3-0-1 = $40\n3-1-0 = $20\n2-1-1 = $10 \nEach player will each be able to pick from a pool of promo pack promos in reverse standings order.
URL:https://afk.games/event/mtg-modern-fnm-11/2025-06-27/
LOCATION:AFK Games\, 2495 Cedar Street STE 14-B\, Holt\, MI\, 48842\, United States
CATEGORIES:Events,Magic: The Gathering,Modern
ORGANIZER;CN="AFK Games":MAILTO:support@afk-games.com
END:VEVENT
BEGIN:VEVENT
DTSTART;TZID=America/Detroit:20250627T183000
DTEND;TZID=America/Detroit:20250627T220000
DTSTAMP:20260419T140147
CREATED:20220728T215755Z
LAST-MODIFIED:20250918T023011Z
UID:10003945-1751049000-1751061600@afk.games
SUMMARY:MTG Modern FNM
DESCRIPTION:AFK Games hosts weekly Modern Friday Night Magic (FNM) tournaments starting at 6:30 pm!\nEntry is $10 \nPrize out is based on record. Capped at 4 rounds. \n4-0-0 = $60\n3-0-1 = $40\n3-1-0 = $20\n2-1-1 = $10 \nEach player will each be able to pick from a pool of promo pack promos in reverse standings order.
URL:https://afk.games/event/mtg-modern-fnm-10/2025-06-27/
LOCATION:AFK Games\, 2495 Cedar Street STE 14-B\, Holt\, MI\, 48842\, United States
CATEGORIES:Events,Magic: The Gathering,Modern
ORGANIZER;CN="AFK Games":MAILTO:support@afk-games.com
END:VEVENT
BEGIN:VEVENT
DTSTART;TZID=America/Detroit:20250620T183000
DTEND;TZID=America/Detroit:20250620T220000
DTSTAMP:20260419T140147
CREATED:20260101T204727Z
LAST-MODIFIED:20260101T204727Z
UID:10005265-1750444200-1750456800@afk.games
SUMMARY:MTG Modern FNM
DESCRIPTION:AFK Games hosts weekly Modern Friday Night Magic (FNM) tournaments starting at 6:30 pm!\nEntry is $10 \nPrize out is based on record. Capped at 4 rounds. \n4-0-0 = $60\n3-0-1 = $40\n3-1-0 = $20\n2-1-1 = $10 \nEach player will each be able to pick from a pool of promo pack promos in reverse standings order.
URL:https://afk.games/event/mtg-modern-fnm-11/2025-06-20/
LOCATION:AFK Games\, 2495 Cedar Street STE 14-B\, Holt\, MI\, 48842\, United States
CATEGORIES:Events,Magic: The Gathering,Modern
ORGANIZER;CN="AFK Games":MAILTO:support@afk-games.com
END:VEVENT
BEGIN:VEVENT
DTSTART;TZID=America/Detroit:20250620T183000
DTEND;TZID=America/Detroit:20250620T220000
DTSTAMP:20260419T140147
CREATED:20220728T215755Z
LAST-MODIFIED:20250918T023011Z
UID:10003944-1750444200-1750456800@afk.games
SUMMARY:MTG Modern FNM
DESCRIPTION:AFK Games hosts weekly Modern Friday Night Magic (FNM) tournaments starting at 6:30 pm!\nEntry is $10 \nPrize out is based on record. Capped at 4 rounds. \n4-0-0 = $60\n3-0-1 = $40\n3-1-0 = $20\n2-1-1 = $10 \nEach player will each be able to pick from a pool of promo pack promos in reverse standings order.
URL:https://afk.games/event/mtg-modern-fnm-10/2025-06-20/
LOCATION:AFK Games\, 2495 Cedar Street STE 14-B\, Holt\, MI\, 48842\, United States
CATEGORIES:Events,Magic: The Gathering,Modern
ORGANIZER;CN="AFK Games":MAILTO:support@afk-games.com
END:VEVENT
BEGIN:VEVENT
DTSTART;TZID=America/Detroit:20250613T183000
DTEND;TZID=America/Detroit:20250613T220000
DTSTAMP:20260419T140147
CREATED:20260101T204727Z
LAST-MODIFIED:20260101T204727Z
UID:10005264-1749839400-1749852000@afk.games
SUMMARY:MTG Modern FNM
DESCRIPTION:AFK Games hosts weekly Modern Friday Night Magic (FNM) tournaments starting at 6:30 pm!\nEntry is $10 \nPrize out is based on record. Capped at 4 rounds. \n4-0-0 = $60\n3-0-1 = $40\n3-1-0 = $20\n2-1-1 = $10 \nEach player will each be able to pick from a pool of promo pack promos in reverse standings order.
URL:https://afk.games/event/mtg-modern-fnm-11/2025-06-13/
LOCATION:AFK Games\, 2495 Cedar Street STE 14-B\, Holt\, MI\, 48842\, United States
CATEGORIES:Events,Magic: The Gathering,Modern
ORGANIZER;CN="AFK Games":MAILTO:support@afk-games.com
END:VEVENT
BEGIN:VEVENT
DTSTART;TZID=America/Detroit:20250613T183000
DTEND;TZID=America/Detroit:20250613T220000
DTSTAMP:20260419T140147
CREATED:20220728T215755Z
LAST-MODIFIED:20250918T023011Z
UID:10003943-1749839400-1749852000@afk.games
SUMMARY:MTG Modern FNM
DESCRIPTION:AFK Games hosts weekly Modern Friday Night Magic (FNM) tournaments starting at 6:30 pm!\nEntry is $10 \nPrize out is based on record. Capped at 4 rounds. \n4-0-0 = $60\n3-0-1 = $40\n3-1-0 = $20\n2-1-1 = $10 \nEach player will each be able to pick from a pool of promo pack promos in reverse standings order.
URL:https://afk.games/event/mtg-modern-fnm-10/2025-06-13/
LOCATION:AFK Games\, 2495 Cedar Street STE 14-B\, Holt\, MI\, 48842\, United States
CATEGORIES:Events,Magic: The Gathering,Modern
ORGANIZER;CN="AFK Games":MAILTO:support@afk-games.com
END:VEVENT
BEGIN:VEVENT
DTSTART;TZID=America/Detroit:20250606T183000
DTEND;TZID=America/Detroit:20250606T220000
DTSTAMP:20260419T140147
CREATED:20260101T204727Z
LAST-MODIFIED:20260101T204727Z
UID:10005263-1749234600-1749247200@afk.games
SUMMARY:MTG Modern FNM
DESCRIPTION:AFK Games hosts weekly Modern Friday Night Magic (FNM) tournaments starting at 6:30 pm!\nEntry is $10 \nPrize out is based on record. Capped at 4 rounds. \n4-0-0 = $60\n3-0-1 = $40\n3-1-0 = $20\n2-1-1 = $10 \nEach player will each be able to pick from a pool of promo pack promos in reverse standings order.
URL:https://afk.games/event/mtg-modern-fnm-11/2025-06-06/
LOCATION:AFK Games\, 2495 Cedar Street STE 14-B\, Holt\, MI\, 48842\, United States
CATEGORIES:Events,Magic: The Gathering,Modern
ORGANIZER;CN="AFK Games":MAILTO:support@afk-games.com
END:VEVENT
BEGIN:VEVENT
DTSTART;TZID=America/Detroit:20250606T183000
DTEND;TZID=America/Detroit:20250606T220000
DTSTAMP:20260419T140147
CREATED:20220728T215755Z
LAST-MODIFIED:20250918T023011Z
UID:10003942-1749234600-1749247200@afk.games
SUMMARY:MTG Modern FNM
DESCRIPTION:AFK Games hosts weekly Modern Friday Night Magic (FNM) tournaments starting at 6:30 pm!\nEntry is $10 \nPrize out is based on record. Capped at 4 rounds. \n4-0-0 = $60\n3-0-1 = $40\n3-1-0 = $20\n2-1-1 = $10 \nEach player will each be able to pick from a pool of promo pack promos in reverse standings order.
URL:https://afk.games/event/mtg-modern-fnm-10/2025-06-06/
LOCATION:AFK Games\, 2495 Cedar Street STE 14-B\, Holt\, MI\, 48842\, United States
CATEGORIES:Events,Magic: The Gathering,Modern
ORGANIZER;CN="AFK Games":MAILTO:support@afk-games.com
END:VEVENT
BEGIN:VEVENT
DTSTART;TZID=America/Detroit:20250530T183000
DTEND;TZID=America/Detroit:20250530T220000
DTSTAMP:20260419T140147
CREATED:20260101T204727Z
LAST-MODIFIED:20260101T204727Z
UID:10005262-1748629800-1748642400@afk.games
SUMMARY:MTG Modern FNM
DESCRIPTION:AFK Games hosts weekly Modern Friday Night Magic (FNM) tournaments starting at 6:30 pm!\nEntry is $10 \nPrize out is based on record. Capped at 4 rounds. \n4-0-0 = $60\n3-0-1 = $40\n3-1-0 = $20\n2-1-1 = $10 \nEach player will each be able to pick from a pool of promo pack promos in reverse standings order.
URL:https://afk.games/event/mtg-modern-fnm-11/2025-05-30/
LOCATION:AFK Games\, 2495 Cedar Street STE 14-B\, Holt\, MI\, 48842\, United States
CATEGORIES:Events,Magic: The Gathering,Modern
ORGANIZER;CN="AFK Games":MAILTO:support@afk-games.com
END:VEVENT
BEGIN:VEVENT
DTSTART;TZID=America/Detroit:20250530T183000
DTEND;TZID=America/Detroit:20250530T220000
DTSTAMP:20260419T140147
CREATED:20220728T215755Z
LAST-MODIFIED:20250918T023011Z
UID:10003941-1748629800-1748642400@afk.games
SUMMARY:MTG Modern FNM
DESCRIPTION:AFK Games hosts weekly Modern Friday Night Magic (FNM) tournaments starting at 6:30 pm!\nEntry is $10 \nPrize out is based on record. Capped at 4 rounds. \n4-0-0 = $60\n3-0-1 = $40\n3-1-0 = $20\n2-1-1 = $10 \nEach player will each be able to pick from a pool of promo pack promos in reverse standings order.
URL:https://afk.games/event/mtg-modern-fnm-10/2025-05-30/
LOCATION:AFK Games\, 2495 Cedar Street STE 14-B\, Holt\, MI\, 48842\, United States
CATEGORIES:Events,Magic: The Gathering,Modern
ORGANIZER;CN="AFK Games":MAILTO:support@afk-games.com
END:VEVENT
BEGIN:VEVENT
DTSTART;TZID=America/Detroit:20250523T183000
DTEND;TZID=America/Detroit:20250523T220000
DTSTAMP:20260419T140147
CREATED:20260101T204727Z
LAST-MODIFIED:20260101T204727Z
UID:10005261-1748025000-1748037600@afk.games
SUMMARY:MTG Modern FNM
DESCRIPTION:AFK Games hosts weekly Modern Friday Night Magic (FNM) tournaments starting at 6:30 pm!\nEntry is $10 \nPrize out is based on record. Capped at 4 rounds. \n4-0-0 = $60\n3-0-1 = $40\n3-1-0 = $20\n2-1-1 = $10 \nEach player will each be able to pick from a pool of promo pack promos in reverse standings order.
URL:https://afk.games/event/mtg-modern-fnm-11/2025-05-23/
LOCATION:AFK Games\, 2495 Cedar Street STE 14-B\, Holt\, MI\, 48842\, United States
CATEGORIES:Events,Magic: The Gathering,Modern
ORGANIZER;CN="AFK Games":MAILTO:support@afk-games.com
END:VEVENT
BEGIN:VEVENT
DTSTART;TZID=America/Detroit:20250523T183000
DTEND;TZID=America/Detroit:20250523T220000
DTSTAMP:20260419T140147
CREATED:20220728T215755Z
LAST-MODIFIED:20250918T023011Z
UID:10003940-1748025000-1748037600@afk.games
SUMMARY:MTG Modern FNM
DESCRIPTION:AFK Games hosts weekly Modern Friday Night Magic (FNM) tournaments starting at 6:30 pm!\nEntry is $10 \nPrize out is based on record. Capped at 4 rounds. \n4-0-0 = $60\n3-0-1 = $40\n3-1-0 = $20\n2-1-1 = $10 \nEach player will each be able to pick from a pool of promo pack promos in reverse standings order.
URL:https://afk.games/event/mtg-modern-fnm-10/2025-05-23/
LOCATION:AFK Games\, 2495 Cedar Street STE 14-B\, Holt\, MI\, 48842\, United States
CATEGORIES:Events,Magic: The Gathering,Modern
ORGANIZER;CN="AFK Games":MAILTO:support@afk-games.com
END:VEVENT
END:VCALENDAR