BEGIN:VCALENDAR
VERSION:2.0
PRODID:-//AFK Games - ECPv6.15.20//NONSGML v1.0//EN
CALSCALE:GREGORIAN
METHOD:PUBLISH
X-WR-CALNAME:AFK Games
X-ORIGINAL-URL:https://afk.games
X-WR-CALDESC:Events for AFK Games
REFRESH-INTERVAL;VALUE=DURATION:PT1H
X-Robots-Tag:noindex
X-PUBLISHED-TTL:PT1H
BEGIN:VTIMEZONE
TZID:America/Detroit
BEGIN:DAYLIGHT
TZOFFSETFROM:-0500
TZOFFSETTO:-0400
TZNAME:EDT
DTSTART:20230312T070000
END:DAYLIGHT
BEGIN:STANDARD
TZOFFSETFROM:-0400
TZOFFSETTO:-0500
TZNAME:EST
DTSTART:20231105T060000
END:STANDARD
BEGIN:DAYLIGHT
TZOFFSETFROM:-0500
TZOFFSETTO:-0400
TZNAME:EDT
DTSTART:20240310T070000
END:DAYLIGHT
BEGIN:STANDARD
TZOFFSETFROM:-0400
TZOFFSETTO:-0500
TZNAME:EST
DTSTART:20241103T060000
END:STANDARD
BEGIN:DAYLIGHT
TZOFFSETFROM:-0500
TZOFFSETTO:-0400
TZNAME:EDT
DTSTART:20250309T070000
END:DAYLIGHT
BEGIN:STANDARD
TZOFFSETFROM:-0400
TZOFFSETTO:-0500
TZNAME:EST
DTSTART:20251102T060000
END:STANDARD
BEGIN:DAYLIGHT
TZOFFSETFROM:-0500
TZOFFSETTO:-0400
TZNAME:EDT
DTSTART:20260308T070000
END:DAYLIGHT
BEGIN:STANDARD
TZOFFSETFROM:-0400
TZOFFSETTO:-0500
TZNAME:EST
DTSTART:20261101T060000
END:STANDARD
END:VTIMEZONE
BEGIN:VEVENT
DTSTART;TZID=America/Detroit:20250314T183000
DTEND;TZID=America/Detroit:20250314T220000
DTSTAMP:20260419T183617
CREATED:20260101T204727Z
LAST-MODIFIED:20260101T204727Z
UID:10005251-1741977000-1741989600@afk.games
SUMMARY:MTG Modern FNM
DESCRIPTION:AFK Games hosts weekly Modern Friday Night Magic (FNM) tournaments starting at 6:30 pm!\nEntry is $10 \nPrize out is based on record. Capped at 4 rounds. \n4-0-0 = $60\n3-0-1 = $40\n3-1-0 = $20\n2-1-1 = $10 \nEach player will each be able to pick from a pool of promo pack promos in reverse standings order.
URL:https://afk.games/event/mtg-modern-fnm-11/2025-03-14/
LOCATION:AFK Games\, 2495 Cedar Street STE 14-B\, Holt\, MI\, 48842\, United States
CATEGORIES:Events,Magic: The Gathering,Modern
ORGANIZER;CN="AFK Games":MAILTO:support@afk-games.com
END:VEVENT
BEGIN:VEVENT
DTSTART;TZID=America/Detroit:20250314T183000
DTEND;TZID=America/Detroit:20250314T220000
DTSTAMP:20260419T183617
CREATED:20220728T215755Z
LAST-MODIFIED:20250918T023011Z
UID:10003259-1741977000-1741989600@afk.games
SUMMARY:MTG Modern FNM
DESCRIPTION:AFK Games hosts weekly Modern Friday Night Magic (FNM) tournaments starting at 6:30 pm!\nEntry is $10 \nPrize out is based on record. Capped at 4 rounds. \n4-0-0 = $60\n3-0-1 = $40\n3-1-0 = $20\n2-1-1 = $10 \nEach player will each be able to pick from a pool of promo pack promos in reverse standings order.
URL:https://afk.games/event/mtg-modern-fnm-10/2025-03-14/
LOCATION:AFK Games\, 2495 Cedar Street STE 14-B\, Holt\, MI\, 48842\, United States
CATEGORIES:Events,Magic: The Gathering,Modern
ORGANIZER;CN="AFK Games":MAILTO:support@afk-games.com
END:VEVENT
BEGIN:VEVENT
DTSTART;TZID=America/Detroit:20250307T183000
DTEND;TZID=America/Detroit:20250307T220000
DTSTAMP:20260419T183617
CREATED:20260101T204727Z
LAST-MODIFIED:20260101T204727Z
UID:10005250-1741372200-1741384800@afk.games
SUMMARY:MTG Modern FNM
DESCRIPTION:AFK Games hosts weekly Modern Friday Night Magic (FNM) tournaments starting at 6:30 pm!\nEntry is $10 \nPrize out is based on record. Capped at 4 rounds. \n4-0-0 = $60\n3-0-1 = $40\n3-1-0 = $20\n2-1-1 = $10 \nEach player will each be able to pick from a pool of promo pack promos in reverse standings order.
URL:https://afk.games/event/mtg-modern-fnm-11/2025-03-07/
LOCATION:AFK Games\, 2495 Cedar Street STE 14-B\, Holt\, MI\, 48842\, United States
CATEGORIES:Events,Magic: The Gathering,Modern
ORGANIZER;CN="AFK Games":MAILTO:support@afk-games.com
END:VEVENT
BEGIN:VEVENT
DTSTART;TZID=America/Detroit:20250307T183000
DTEND;TZID=America/Detroit:20250307T220000
DTSTAMP:20260419T183617
CREATED:20220728T215755Z
LAST-MODIFIED:20250918T023011Z
UID:10003258-1741372200-1741384800@afk.games
SUMMARY:MTG Modern FNM
DESCRIPTION:AFK Games hosts weekly Modern Friday Night Magic (FNM) tournaments starting at 6:30 pm!\nEntry is $10 \nPrize out is based on record. Capped at 4 rounds. \n4-0-0 = $60\n3-0-1 = $40\n3-1-0 = $20\n2-1-1 = $10 \nEach player will each be able to pick from a pool of promo pack promos in reverse standings order.
URL:https://afk.games/event/mtg-modern-fnm-10/2025-03-07/
LOCATION:AFK Games\, 2495 Cedar Street STE 14-B\, Holt\, MI\, 48842\, United States
CATEGORIES:Events,Magic: The Gathering,Modern
ORGANIZER;CN="AFK Games":MAILTO:support@afk-games.com
END:VEVENT
BEGIN:VEVENT
DTSTART;TZID=America/Detroit:20250228T183000
DTEND;TZID=America/Detroit:20250228T220000
DTSTAMP:20260419T183617
CREATED:20260101T204727Z
LAST-MODIFIED:20260101T204727Z
UID:10005249-1740767400-1740780000@afk.games
SUMMARY:MTG Modern FNM
DESCRIPTION:AFK Games hosts weekly Modern Friday Night Magic (FNM) tournaments starting at 6:30 pm!\nEntry is $10 \nPrize out is based on record. Capped at 4 rounds. \n4-0-0 = $60\n3-0-1 = $40\n3-1-0 = $20\n2-1-1 = $10 \nEach player will each be able to pick from a pool of promo pack promos in reverse standings order.
URL:https://afk.games/event/mtg-modern-fnm-11/2025-02-28/
LOCATION:AFK Games\, 2495 Cedar Street STE 14-B\, Holt\, MI\, 48842\, United States
CATEGORIES:Events,Magic: The Gathering,Modern
ORGANIZER;CN="AFK Games":MAILTO:support@afk-games.com
END:VEVENT
BEGIN:VEVENT
DTSTART;TZID=America/Detroit:20250228T183000
DTEND;TZID=America/Detroit:20250228T220000
DTSTAMP:20260419T183617
CREATED:20220728T215755Z
LAST-MODIFIED:20250918T023011Z
UID:10003257-1740767400-1740780000@afk.games
SUMMARY:MTG Modern FNM
DESCRIPTION:AFK Games hosts weekly Modern Friday Night Magic (FNM) tournaments starting at 6:30 pm!\nEntry is $10 \nPrize out is based on record. Capped at 4 rounds. \n4-0-0 = $60\n3-0-1 = $40\n3-1-0 = $20\n2-1-1 = $10 \nEach player will each be able to pick from a pool of promo pack promos in reverse standings order.
URL:https://afk.games/event/mtg-modern-fnm-10/2025-02-28/
LOCATION:AFK Games\, 2495 Cedar Street STE 14-B\, Holt\, MI\, 48842\, United States
CATEGORIES:Events,Magic: The Gathering,Modern
ORGANIZER;CN="AFK Games":MAILTO:support@afk-games.com
END:VEVENT
BEGIN:VEVENT
DTSTART;TZID=America/Detroit:20250221T183000
DTEND;TZID=America/Detroit:20250221T220000
DTSTAMP:20260419T183617
CREATED:20260101T204727Z
LAST-MODIFIED:20260101T204727Z
UID:10005248-1740162600-1740175200@afk.games
SUMMARY:MTG Modern FNM
DESCRIPTION:AFK Games hosts weekly Modern Friday Night Magic (FNM) tournaments starting at 6:30 pm!\nEntry is $10 \nPrize out is based on record. Capped at 4 rounds. \n4-0-0 = $60\n3-0-1 = $40\n3-1-0 = $20\n2-1-1 = $10 \nEach player will each be able to pick from a pool of promo pack promos in reverse standings order.
URL:https://afk.games/event/mtg-modern-fnm-11/2025-02-21/
LOCATION:AFK Games\, 2495 Cedar Street STE 14-B\, Holt\, MI\, 48842\, United States
CATEGORIES:Events,Magic: The Gathering,Modern
ORGANIZER;CN="AFK Games":MAILTO:support@afk-games.com
END:VEVENT
BEGIN:VEVENT
DTSTART;TZID=America/Detroit:20250221T183000
DTEND;TZID=America/Detroit:20250221T220000
DTSTAMP:20260419T183617
CREATED:20220728T215755Z
LAST-MODIFIED:20250918T023011Z
UID:10003256-1740162600-1740175200@afk.games
SUMMARY:MTG Modern FNM
DESCRIPTION:AFK Games hosts weekly Modern Friday Night Magic (FNM) tournaments starting at 6:30 pm!\nEntry is $10 \nPrize out is based on record. Capped at 4 rounds. \n4-0-0 = $60\n3-0-1 = $40\n3-1-0 = $20\n2-1-1 = $10 \nEach player will each be able to pick from a pool of promo pack promos in reverse standings order.
URL:https://afk.games/event/mtg-modern-fnm-10/2025-02-21/
LOCATION:AFK Games\, 2495 Cedar Street STE 14-B\, Holt\, MI\, 48842\, United States
CATEGORIES:Events,Magic: The Gathering,Modern
ORGANIZER;CN="AFK Games":MAILTO:support@afk-games.com
END:VEVENT
BEGIN:VEVENT
DTSTART;TZID=America/Detroit:20250214T183000
DTEND;TZID=America/Detroit:20250214T220000
DTSTAMP:20260419T183617
CREATED:20260101T204727Z
LAST-MODIFIED:20260101T204727Z
UID:10005247-1739557800-1739570400@afk.games
SUMMARY:MTG Modern FNM
DESCRIPTION:AFK Games hosts weekly Modern Friday Night Magic (FNM) tournaments starting at 6:30 pm!\nEntry is $10 \nPrize out is based on record. Capped at 4 rounds. \n4-0-0 = $60\n3-0-1 = $40\n3-1-0 = $20\n2-1-1 = $10 \nEach player will each be able to pick from a pool of promo pack promos in reverse standings order.
URL:https://afk.games/event/mtg-modern-fnm-11/2025-02-14/
LOCATION:AFK Games\, 2495 Cedar Street STE 14-B\, Holt\, MI\, 48842\, United States
CATEGORIES:Events,Magic: The Gathering,Modern
ORGANIZER;CN="AFK Games":MAILTO:support@afk-games.com
END:VEVENT
BEGIN:VEVENT
DTSTART;TZID=America/Detroit:20250214T183000
DTEND;TZID=America/Detroit:20250214T220000
DTSTAMP:20260419T183617
CREATED:20220728T215755Z
LAST-MODIFIED:20250918T023011Z
UID:10003255-1739557800-1739570400@afk.games
SUMMARY:MTG Modern FNM
DESCRIPTION:AFK Games hosts weekly Modern Friday Night Magic (FNM) tournaments starting at 6:30 pm!\nEntry is $10 \nPrize out is based on record. Capped at 4 rounds. \n4-0-0 = $60\n3-0-1 = $40\n3-1-0 = $20\n2-1-1 = $10 \nEach player will each be able to pick from a pool of promo pack promos in reverse standings order.
URL:https://afk.games/event/mtg-modern-fnm-10/2025-02-14/
LOCATION:AFK Games\, 2495 Cedar Street STE 14-B\, Holt\, MI\, 48842\, United States
CATEGORIES:Events,Magic: The Gathering,Modern
ORGANIZER;CN="AFK Games":MAILTO:support@afk-games.com
END:VEVENT
BEGIN:VEVENT
DTSTART;TZID=America/Detroit:20250207T183000
DTEND;TZID=America/Detroit:20250207T220000
DTSTAMP:20260419T183617
CREATED:20260101T204727Z
LAST-MODIFIED:20260101T204727Z
UID:10005246-1738953000-1738965600@afk.games
SUMMARY:MTG Modern FNM
DESCRIPTION:AFK Games hosts weekly Modern Friday Night Magic (FNM) tournaments starting at 6:30 pm!\nEntry is $10 \nPrize out is based on record. Capped at 4 rounds. \n4-0-0 = $60\n3-0-1 = $40\n3-1-0 = $20\n2-1-1 = $10 \nEach player will each be able to pick from a pool of promo pack promos in reverse standings order.
URL:https://afk.games/event/mtg-modern-fnm-11/2025-02-07/
LOCATION:AFK Games\, 2495 Cedar Street STE 14-B\, Holt\, MI\, 48842\, United States
CATEGORIES:Events,Magic: The Gathering,Modern
ORGANIZER;CN="AFK Games":MAILTO:support@afk-games.com
END:VEVENT
BEGIN:VEVENT
DTSTART;TZID=America/Detroit:20250207T183000
DTEND;TZID=America/Detroit:20250207T220000
DTSTAMP:20260419T183617
CREATED:20220728T215755Z
LAST-MODIFIED:20250918T023011Z
UID:10003254-1738953000-1738965600@afk.games
SUMMARY:MTG Modern FNM
DESCRIPTION:AFK Games hosts weekly Modern Friday Night Magic (FNM) tournaments starting at 6:30 pm!\nEntry is $10 \nPrize out is based on record. Capped at 4 rounds. \n4-0-0 = $60\n3-0-1 = $40\n3-1-0 = $20\n2-1-1 = $10 \nEach player will each be able to pick from a pool of promo pack promos in reverse standings order.
URL:https://afk.games/event/mtg-modern-fnm-10/2025-02-07/
LOCATION:AFK Games\, 2495 Cedar Street STE 14-B\, Holt\, MI\, 48842\, United States
CATEGORIES:Events,Magic: The Gathering,Modern
ORGANIZER;CN="AFK Games":MAILTO:support@afk-games.com
END:VEVENT
BEGIN:VEVENT
DTSTART;TZID=America/Detroit:20250131T183000
DTEND;TZID=America/Detroit:20250131T220000
DTSTAMP:20260419T183617
CREATED:20260101T204727Z
LAST-MODIFIED:20260101T204727Z
UID:10005245-1738348200-1738360800@afk.games
SUMMARY:MTG Modern FNM
DESCRIPTION:AFK Games hosts weekly Modern Friday Night Magic (FNM) tournaments starting at 6:30 pm!\nEntry is $10 \nPrize out is based on record. Capped at 4 rounds. \n4-0-0 = $60\n3-0-1 = $40\n3-1-0 = $20\n2-1-1 = $10 \nEach player will each be able to pick from a pool of promo pack promos in reverse standings order.
URL:https://afk.games/event/mtg-modern-fnm-11/2025-01-31/
LOCATION:AFK Games\, 2495 Cedar Street STE 14-B\, Holt\, MI\, 48842\, United States
CATEGORIES:Events,Magic: The Gathering,Modern
ORGANIZER;CN="AFK Games":MAILTO:support@afk-games.com
END:VEVENT
BEGIN:VEVENT
DTSTART;TZID=America/Detroit:20250131T183000
DTEND;TZID=America/Detroit:20250131T220000
DTSTAMP:20260419T183617
CREATED:20220728T215755Z
LAST-MODIFIED:20250918T023011Z
UID:10003253-1738348200-1738360800@afk.games
SUMMARY:MTG Modern FNM
DESCRIPTION:AFK Games hosts weekly Modern Friday Night Magic (FNM) tournaments starting at 6:30 pm!\nEntry is $10 \nPrize out is based on record. Capped at 4 rounds. \n4-0-0 = $60\n3-0-1 = $40\n3-1-0 = $20\n2-1-1 = $10 \nEach player will each be able to pick from a pool of promo pack promos in reverse standings order.
URL:https://afk.games/event/mtg-modern-fnm-10/2025-01-31/
LOCATION:AFK Games\, 2495 Cedar Street STE 14-B\, Holt\, MI\, 48842\, United States
CATEGORIES:Events,Magic: The Gathering,Modern
ORGANIZER;CN="AFK Games":MAILTO:support@afk-games.com
END:VEVENT
BEGIN:VEVENT
DTSTART;TZID=America/Detroit:20250124T183000
DTEND;TZID=America/Detroit:20250124T220000
DTSTAMP:20260419T183617
CREATED:20260101T204727Z
LAST-MODIFIED:20260101T204727Z
UID:10005244-1737743400-1737756000@afk.games
SUMMARY:MTG Modern FNM
DESCRIPTION:AFK Games hosts weekly Modern Friday Night Magic (FNM) tournaments starting at 6:30 pm!\nEntry is $10 \nPrize out is based on record. Capped at 4 rounds. \n4-0-0 = $60\n3-0-1 = $40\n3-1-0 = $20\n2-1-1 = $10 \nEach player will each be able to pick from a pool of promo pack promos in reverse standings order.
URL:https://afk.games/event/mtg-modern-fnm-11/2025-01-24/
LOCATION:AFK Games\, 2495 Cedar Street STE 14-B\, Holt\, MI\, 48842\, United States
CATEGORIES:Events,Magic: The Gathering,Modern
ORGANIZER;CN="AFK Games":MAILTO:support@afk-games.com
END:VEVENT
BEGIN:VEVENT
DTSTART;TZID=America/Detroit:20250124T183000
DTEND;TZID=America/Detroit:20250124T220000
DTSTAMP:20260419T183617
CREATED:20220728T215755Z
LAST-MODIFIED:20250918T023011Z
UID:10003252-1737743400-1737756000@afk.games
SUMMARY:MTG Modern FNM
DESCRIPTION:AFK Games hosts weekly Modern Friday Night Magic (FNM) tournaments starting at 6:30 pm!\nEntry is $10 \nPrize out is based on record. Capped at 4 rounds. \n4-0-0 = $60\n3-0-1 = $40\n3-1-0 = $20\n2-1-1 = $10 \nEach player will each be able to pick from a pool of promo pack promos in reverse standings order.
URL:https://afk.games/event/mtg-modern-fnm-10/2025-01-24/
LOCATION:AFK Games\, 2495 Cedar Street STE 14-B\, Holt\, MI\, 48842\, United States
CATEGORIES:Events,Magic: The Gathering,Modern
ORGANIZER;CN="AFK Games":MAILTO:support@afk-games.com
END:VEVENT
BEGIN:VEVENT
DTSTART;TZID=America/Detroit:20250117T183000
DTEND;TZID=America/Detroit:20250117T220000
DTSTAMP:20260419T183617
CREATED:20260101T204727Z
LAST-MODIFIED:20260101T204727Z
UID:10005243-1737138600-1737151200@afk.games
SUMMARY:MTG Modern FNM
DESCRIPTION:AFK Games hosts weekly Modern Friday Night Magic (FNM) tournaments starting at 6:30 pm!\nEntry is $10 \nPrize out is based on record. Capped at 4 rounds. \n4-0-0 = $60\n3-0-1 = $40\n3-1-0 = $20\n2-1-1 = $10 \nEach player will each be able to pick from a pool of promo pack promos in reverse standings order.
URL:https://afk.games/event/mtg-modern-fnm-11/2025-01-17/
LOCATION:AFK Games\, 2495 Cedar Street STE 14-B\, Holt\, MI\, 48842\, United States
CATEGORIES:Events,Magic: The Gathering,Modern
ORGANIZER;CN="AFK Games":MAILTO:support@afk-games.com
END:VEVENT
BEGIN:VEVENT
DTSTART;TZID=America/Detroit:20250117T183000
DTEND;TZID=America/Detroit:20250117T220000
DTSTAMP:20260419T183617
CREATED:20220728T215755Z
LAST-MODIFIED:20250918T023011Z
UID:10003251-1737138600-1737151200@afk.games
SUMMARY:MTG Modern FNM
DESCRIPTION:AFK Games hosts weekly Modern Friday Night Magic (FNM) tournaments starting at 6:30 pm!\nEntry is $10 \nPrize out is based on record. Capped at 4 rounds. \n4-0-0 = $60\n3-0-1 = $40\n3-1-0 = $20\n2-1-1 = $10 \nEach player will each be able to pick from a pool of promo pack promos in reverse standings order.
URL:https://afk.games/event/mtg-modern-fnm-10/2025-01-17/
LOCATION:AFK Games\, 2495 Cedar Street STE 14-B\, Holt\, MI\, 48842\, United States
CATEGORIES:Events,Magic: The Gathering,Modern
ORGANIZER;CN="AFK Games":MAILTO:support@afk-games.com
END:VEVENT
BEGIN:VEVENT
DTSTART;TZID=America/Detroit:20250110T183000
DTEND;TZID=America/Detroit:20250110T220000
DTSTAMP:20260419T183617
CREATED:20260101T204727Z
LAST-MODIFIED:20260101T204727Z
UID:10005242-1736533800-1736546400@afk.games
SUMMARY:MTG Modern FNM
DESCRIPTION:AFK Games hosts weekly Modern Friday Night Magic (FNM) tournaments starting at 6:30 pm!\nEntry is $10 \nPrize out is based on record. Capped at 4 rounds. \n4-0-0 = $60\n3-0-1 = $40\n3-1-0 = $20\n2-1-1 = $10 \nEach player will each be able to pick from a pool of promo pack promos in reverse standings order.
URL:https://afk.games/event/mtg-modern-fnm-11/2025-01-10/
LOCATION:AFK Games\, 2495 Cedar Street STE 14-B\, Holt\, MI\, 48842\, United States
CATEGORIES:Events,Magic: The Gathering,Modern
ORGANIZER;CN="AFK Games":MAILTO:support@afk-games.com
END:VEVENT
BEGIN:VEVENT
DTSTART;TZID=America/Detroit:20250110T183000
DTEND;TZID=America/Detroit:20250110T220000
DTSTAMP:20260419T183617
CREATED:20220728T215755Z
LAST-MODIFIED:20250918T023011Z
UID:10003250-1736533800-1736546400@afk.games
SUMMARY:MTG Modern FNM
DESCRIPTION:AFK Games hosts weekly Modern Friday Night Magic (FNM) tournaments starting at 6:30 pm!\nEntry is $10 \nPrize out is based on record. Capped at 4 rounds. \n4-0-0 = $60\n3-0-1 = $40\n3-1-0 = $20\n2-1-1 = $10 \nEach player will each be able to pick from a pool of promo pack promos in reverse standings order.
URL:https://afk.games/event/mtg-modern-fnm-10/2025-01-10/
LOCATION:AFK Games\, 2495 Cedar Street STE 14-B\, Holt\, MI\, 48842\, United States
CATEGORIES:Events,Magic: The Gathering,Modern
ORGANIZER;CN="AFK Games":MAILTO:support@afk-games.com
END:VEVENT
BEGIN:VEVENT
DTSTART;TZID=America/Detroit:20250103T183000
DTEND;TZID=America/Detroit:20250103T220000
DTSTAMP:20260419T183617
CREATED:20260101T204727Z
LAST-MODIFIED:20260101T204727Z
UID:10005241-1735929000-1735941600@afk.games
SUMMARY:MTG Modern FNM
DESCRIPTION:AFK Games hosts weekly Modern Friday Night Magic (FNM) tournaments starting at 6:30 pm!\nEntry is $10 \nPrize out is based on record. Capped at 4 rounds. \n4-0-0 = $60\n3-0-1 = $40\n3-1-0 = $20\n2-1-1 = $10 \nEach player will each be able to pick from a pool of promo pack promos in reverse standings order.
URL:https://afk.games/event/mtg-modern-fnm-11/2025-01-03/
LOCATION:AFK Games\, 2495 Cedar Street STE 14-B\, Holt\, MI\, 48842\, United States
CATEGORIES:Events,Magic: The Gathering,Modern
ORGANIZER;CN="AFK Games":MAILTO:support@afk-games.com
END:VEVENT
BEGIN:VEVENT
DTSTART;TZID=America/Detroit:20250103T183000
DTEND;TZID=America/Detroit:20250103T220000
DTSTAMP:20260419T183617
CREATED:20220728T215755Z
LAST-MODIFIED:20250918T023011Z
UID:10003249-1735929000-1735941600@afk.games
SUMMARY:MTG Modern FNM
DESCRIPTION:AFK Games hosts weekly Modern Friday Night Magic (FNM) tournaments starting at 6:30 pm!\nEntry is $10 \nPrize out is based on record. Capped at 4 rounds. \n4-0-0 = $60\n3-0-1 = $40\n3-1-0 = $20\n2-1-1 = $10 \nEach player will each be able to pick from a pool of promo pack promos in reverse standings order.
URL:https://afk.games/event/mtg-modern-fnm-10/2025-01-03/
LOCATION:AFK Games\, 2495 Cedar Street STE 14-B\, Holt\, MI\, 48842\, United States
CATEGORIES:Events,Magic: The Gathering,Modern
ORGANIZER;CN="AFK Games":MAILTO:support@afk-games.com
END:VEVENT
BEGIN:VEVENT
DTSTART;TZID=America/Detroit:20241227T183000
DTEND;TZID=America/Detroit:20241227T220000
DTSTAMP:20260419T183617
CREATED:20260101T204727Z
LAST-MODIFIED:20260101T204727Z
UID:10005240-1735324200-1735336800@afk.games
SUMMARY:MTG Modern FNM
DESCRIPTION:AFK Games hosts weekly Modern Friday Night Magic (FNM) tournaments starting at 6:30 pm!\nEntry is $10 \nPrize out is based on record. Capped at 4 rounds. \n4-0-0 = $60\n3-0-1 = $40\n3-1-0 = $20\n2-1-1 = $10 \nEach player will each be able to pick from a pool of promo pack promos in reverse standings order.
URL:https://afk.games/event/mtg-modern-fnm-11/2024-12-27/
LOCATION:AFK Games\, 2495 Cedar Street STE 14-B\, Holt\, MI\, 48842\, United States
CATEGORIES:Events,Magic: The Gathering,Modern
ORGANIZER;CN="AFK Games":MAILTO:support@afk-games.com
END:VEVENT
BEGIN:VEVENT
DTSTART;TZID=America/Detroit:20241227T183000
DTEND;TZID=America/Detroit:20241227T220000
DTSTAMP:20260419T183617
CREATED:20220728T215755Z
LAST-MODIFIED:20250918T023011Z
UID:10002249-1735324200-1735336800@afk.games
SUMMARY:MTG Modern FNM
DESCRIPTION:AFK Games hosts weekly Modern Friday Night Magic (FNM) tournaments starting at 6:30 pm!\nEntry is $10 \nPrize out is based on record. Capped at 4 rounds. \n4-0-0 = $60\n3-0-1 = $40\n3-1-0 = $20\n2-1-1 = $10 \nEach player will each be able to pick from a pool of promo pack promos in reverse standings order.
URL:https://afk.games/event/mtg-modern-fnm-10/2024-12-27/
LOCATION:AFK Games\, 2495 Cedar Street STE 14-B\, Holt\, MI\, 48842\, United States
CATEGORIES:Events,Magic: The Gathering,Modern
ORGANIZER;CN="AFK Games":MAILTO:support@afk-games.com
END:VEVENT
BEGIN:VEVENT
DTSTART;TZID=America/Detroit:20241220T183000
DTEND;TZID=America/Detroit:20241220T220000
DTSTAMP:20260419T183617
CREATED:20260101T204727Z
LAST-MODIFIED:20260101T204727Z
UID:10005239-1734719400-1734732000@afk.games
SUMMARY:MTG Modern FNM
DESCRIPTION:AFK Games hosts weekly Modern Friday Night Magic (FNM) tournaments starting at 6:30 pm!\nEntry is $10 \nPrize out is based on record. Capped at 4 rounds. \n4-0-0 = $60\n3-0-1 = $40\n3-1-0 = $20\n2-1-1 = $10 \nEach player will each be able to pick from a pool of promo pack promos in reverse standings order.
URL:https://afk.games/event/mtg-modern-fnm-11/2024-12-20/
LOCATION:AFK Games\, 2495 Cedar Street STE 14-B\, Holt\, MI\, 48842\, United States
CATEGORIES:Events,Magic: The Gathering,Modern
ORGANIZER;CN="AFK Games":MAILTO:support@afk-games.com
END:VEVENT
BEGIN:VEVENT
DTSTART;TZID=America/Detroit:20241220T183000
DTEND;TZID=America/Detroit:20241220T220000
DTSTAMP:20260419T183617
CREATED:20220728T215755Z
LAST-MODIFIED:20250918T023011Z
UID:10002248-1734719400-1734732000@afk.games
SUMMARY:MTG Modern FNM
DESCRIPTION:AFK Games hosts weekly Modern Friday Night Magic (FNM) tournaments starting at 6:30 pm!\nEntry is $10 \nPrize out is based on record. Capped at 4 rounds. \n4-0-0 = $60\n3-0-1 = $40\n3-1-0 = $20\n2-1-1 = $10 \nEach player will each be able to pick from a pool of promo pack promos in reverse standings order.
URL:https://afk.games/event/mtg-modern-fnm-10/2024-12-20/
LOCATION:AFK Games\, 2495 Cedar Street STE 14-B\, Holt\, MI\, 48842\, United States
CATEGORIES:Events,Magic: The Gathering,Modern
ORGANIZER;CN="AFK Games":MAILTO:support@afk-games.com
END:VEVENT
BEGIN:VEVENT
DTSTART;TZID=America/Detroit:20241213T183000
DTEND;TZID=America/Detroit:20241213T220000
DTSTAMP:20260419T183617
CREATED:20260101T204727Z
LAST-MODIFIED:20260101T204727Z
UID:10005238-1734114600-1734127200@afk.games
SUMMARY:MTG Modern FNM
DESCRIPTION:AFK Games hosts weekly Modern Friday Night Magic (FNM) tournaments starting at 6:30 pm!\nEntry is $10 \nPrize out is based on record. Capped at 4 rounds. \n4-0-0 = $60\n3-0-1 = $40\n3-1-0 = $20\n2-1-1 = $10 \nEach player will each be able to pick from a pool of promo pack promos in reverse standings order.
URL:https://afk.games/event/mtg-modern-fnm-11/2024-12-13/
LOCATION:AFK Games\, 2495 Cedar Street STE 14-B\, Holt\, MI\, 48842\, United States
CATEGORIES:Events,Magic: The Gathering,Modern
ORGANIZER;CN="AFK Games":MAILTO:support@afk-games.com
END:VEVENT
BEGIN:VEVENT
DTSTART;TZID=America/Detroit:20241213T183000
DTEND;TZID=America/Detroit:20241213T220000
DTSTAMP:20260419T183617
CREATED:20220728T215755Z
LAST-MODIFIED:20250918T023011Z
UID:10002247-1734114600-1734127200@afk.games
SUMMARY:MTG Modern FNM
DESCRIPTION:AFK Games hosts weekly Modern Friday Night Magic (FNM) tournaments starting at 6:30 pm!\nEntry is $10 \nPrize out is based on record. Capped at 4 rounds. \n4-0-0 = $60\n3-0-1 = $40\n3-1-0 = $20\n2-1-1 = $10 \nEach player will each be able to pick from a pool of promo pack promos in reverse standings order.
URL:https://afk.games/event/mtg-modern-fnm-10/2024-12-13/
LOCATION:AFK Games\, 2495 Cedar Street STE 14-B\, Holt\, MI\, 48842\, United States
CATEGORIES:Events,Magic: The Gathering,Modern
ORGANIZER;CN="AFK Games":MAILTO:support@afk-games.com
END:VEVENT
BEGIN:VEVENT
DTSTART;TZID=America/Detroit:20241206T183000
DTEND;TZID=America/Detroit:20241206T220000
DTSTAMP:20260419T183617
CREATED:20260101T204727Z
LAST-MODIFIED:20260101T204727Z
UID:10005237-1733509800-1733522400@afk.games
SUMMARY:MTG Modern FNM
DESCRIPTION:AFK Games hosts weekly Modern Friday Night Magic (FNM) tournaments starting at 6:30 pm!\nEntry is $10 \nPrize out is based on record. Capped at 4 rounds. \n4-0-0 = $60\n3-0-1 = $40\n3-1-0 = $20\n2-1-1 = $10 \nEach player will each be able to pick from a pool of promo pack promos in reverse standings order.
URL:https://afk.games/event/mtg-modern-fnm-11/2024-12-06/
LOCATION:AFK Games\, 2495 Cedar Street STE 14-B\, Holt\, MI\, 48842\, United States
CATEGORIES:Events,Magic: The Gathering,Modern
ORGANIZER;CN="AFK Games":MAILTO:support@afk-games.com
END:VEVENT
BEGIN:VEVENT
DTSTART;TZID=America/Detroit:20241206T183000
DTEND;TZID=America/Detroit:20241206T220000
DTSTAMP:20260419T183617
CREATED:20220728T215755Z
LAST-MODIFIED:20250918T023011Z
UID:10002246-1733509800-1733522400@afk.games
SUMMARY:MTG Modern FNM
DESCRIPTION:AFK Games hosts weekly Modern Friday Night Magic (FNM) tournaments starting at 6:30 pm!\nEntry is $10 \nPrize out is based on record. Capped at 4 rounds. \n4-0-0 = $60\n3-0-1 = $40\n3-1-0 = $20\n2-1-1 = $10 \nEach player will each be able to pick from a pool of promo pack promos in reverse standings order.
URL:https://afk.games/event/mtg-modern-fnm-10/2024-12-06/
LOCATION:AFK Games\, 2495 Cedar Street STE 14-B\, Holt\, MI\, 48842\, United States
CATEGORIES:Events,Magic: The Gathering,Modern
ORGANIZER;CN="AFK Games":MAILTO:support@afk-games.com
END:VEVENT
END:VCALENDAR