BEGIN:VCALENDAR
VERSION:2.0
PRODID:-//AFK Games - ECPv6.15.20//NONSGML v1.0//EN
CALSCALE:GREGORIAN
METHOD:PUBLISH
X-ORIGINAL-URL:https://afk.games
X-WR-CALDESC:Events for AFK Games
REFRESH-INTERVAL;VALUE=DURATION:PT1H
X-Robots-Tag:noindex
X-PUBLISHED-TTL:PT1H
BEGIN:VTIMEZONE
TZID:America/Detroit
BEGIN:DAYLIGHT
TZOFFSETFROM:-0500
TZOFFSETTO:-0400
TZNAME:EDT
DTSTART:20220313T070000
END:DAYLIGHT
BEGIN:STANDARD
TZOFFSETFROM:-0400
TZOFFSETTO:-0500
TZNAME:EST
DTSTART:20221106T060000
END:STANDARD
BEGIN:DAYLIGHT
TZOFFSETFROM:-0500
TZOFFSETTO:-0400
TZNAME:EDT
DTSTART:20230312T070000
END:DAYLIGHT
BEGIN:STANDARD
TZOFFSETFROM:-0400
TZOFFSETTO:-0500
TZNAME:EST
DTSTART:20231105T060000
END:STANDARD
BEGIN:DAYLIGHT
TZOFFSETFROM:-0500
TZOFFSETTO:-0400
TZNAME:EDT
DTSTART:20240310T070000
END:DAYLIGHT
BEGIN:STANDARD
TZOFFSETFROM:-0400
TZOFFSETTO:-0500
TZNAME:EST
DTSTART:20241103T060000
END:STANDARD
END:VTIMEZONE
BEGIN:VEVENT
DTSTART;TZID=America/Detroit:20230804T183000
DTEND;TZID=America/Detroit:20230804T220000
DTSTAMP:20260424T134637
CREATED:20220728T215755Z
LAST-MODIFIED:20250918T023011Z
UID:10000976-1691173800-1691186400@afk.games
SUMMARY:MTG Modern FNM
DESCRIPTION:AFK Games hosts weekly Modern Friday Night Magic (FNM) tournaments starting at 6:30 pm!\nEntry is $10 \nPrize out is based on record. Capped at 4 rounds. \n4-0-0 = $60\n3-0-1 = $40\n3-1-0 = $20\n2-1-1 = $10 \nEach player will each be able to pick from a pool of promo pack promos in reverse standings order.
URL:https://afk.games/event/mtg-modern-fnm-10/2023-08-04/
LOCATION:AFK Games\, 2495 Cedar Street STE 14-B\, Holt\, MI\, 48842\, United States
CATEGORIES:Events,Magic: The Gathering,Modern
ORGANIZER;CN="AFK Games":MAILTO:support@afk-games.com
END:VEVENT
BEGIN:VEVENT
DTSTART;TZID=America/Detroit:20230804T183000
DTEND;TZID=America/Detroit:20230804T220000
DTSTAMP:20260424T134637
CREATED:20260101T204727Z
LAST-MODIFIED:20260101T204727Z
UID:10005168-1691173800-1691186400@afk.games
SUMMARY:MTG Modern FNM
DESCRIPTION:AFK Games hosts weekly Modern Friday Night Magic (FNM) tournaments starting at 6:30 pm!\nEntry is $10 \nPrize out is based on record. Capped at 4 rounds. \n4-0-0 = $60\n3-0-1 = $40\n3-1-0 = $20\n2-1-1 = $10 \nEach player will each be able to pick from a pool of promo pack promos in reverse standings order.
URL:https://afk.games/event/mtg-modern-fnm-11/2023-08-04/
LOCATION:AFK Games\, 2495 Cedar Street STE 14-B\, Holt\, MI\, 48842\, United States
CATEGORIES:Events,Magic: The Gathering,Modern
ORGANIZER;CN="AFK Games":MAILTO:support@afk-games.com
END:VEVENT
BEGIN:VEVENT
DTSTART;TZID=America/Detroit:20230805T130000
DTEND;TZID=America/Detroit:20230805T180000
DTSTAMP:20260424T134637
CREATED:20230721T174529Z
LAST-MODIFIED:20230721T174529Z
UID:10001365-1691240400-1691258400@afk.games
SUMMARY:Modern LoTR Store Championship
DESCRIPTION:120% Store credit prize out to top players\nStore Championship promos\nEntry: $10
URL:https://afk.games/event/modern-lotr-store-championship/
LOCATION:AFK Games\, 2495 Cedar Street STE 14-B\, Holt\, MI\, 48842\, United States
CATEGORIES:Events,Magic: The Gathering,Modern
ORGANIZER;CN="AFK Games":MAILTO:support@afk-games.com
END:VEVENT
BEGIN:VEVENT
DTSTART;TZID=America/Detroit:20230811T183000
DTEND;TZID=America/Detroit:20230811T220000
DTSTAMP:20260424T134637
CREATED:20220728T215755Z
LAST-MODIFIED:20250918T023011Z
UID:10000977-1691778600-1691791200@afk.games
SUMMARY:MTG Modern FNM
DESCRIPTION:AFK Games hosts weekly Modern Friday Night Magic (FNM) tournaments starting at 6:30 pm!\nEntry is $10 \nPrize out is based on record. Capped at 4 rounds. \n4-0-0 = $60\n3-0-1 = $40\n3-1-0 = $20\n2-1-1 = $10 \nEach player will each be able to pick from a pool of promo pack promos in reverse standings order.
URL:https://afk.games/event/mtg-modern-fnm-10/2023-08-11/
LOCATION:AFK Games\, 2495 Cedar Street STE 14-B\, Holt\, MI\, 48842\, United States
CATEGORIES:Events,Magic: The Gathering,Modern
ORGANIZER;CN="AFK Games":MAILTO:support@afk-games.com
END:VEVENT
BEGIN:VEVENT
DTSTART;TZID=America/Detroit:20230811T183000
DTEND;TZID=America/Detroit:20230811T220000
DTSTAMP:20260424T134637
CREATED:20260101T204727Z
LAST-MODIFIED:20260101T204727Z
UID:10005169-1691778600-1691791200@afk.games
SUMMARY:MTG Modern FNM
DESCRIPTION:AFK Games hosts weekly Modern Friday Night Magic (FNM) tournaments starting at 6:30 pm!\nEntry is $10 \nPrize out is based on record. Capped at 4 rounds. \n4-0-0 = $60\n3-0-1 = $40\n3-1-0 = $20\n2-1-1 = $10 \nEach player will each be able to pick from a pool of promo pack promos in reverse standings order.
URL:https://afk.games/event/mtg-modern-fnm-11/2023-08-11/
LOCATION:AFK Games\, 2495 Cedar Street STE 14-B\, Holt\, MI\, 48842\, United States
CATEGORIES:Events,Magic: The Gathering,Modern
ORGANIZER;CN="AFK Games":MAILTO:support@afk-games.com
END:VEVENT
BEGIN:VEVENT
DTSTART;TZID=America/Detroit:20230818T183000
DTEND;TZID=America/Detroit:20230818T220000
DTSTAMP:20260424T134637
CREATED:20220728T215755Z
LAST-MODIFIED:20250918T023011Z
UID:10000978-1692383400-1692396000@afk.games
SUMMARY:MTG Modern FNM
DESCRIPTION:AFK Games hosts weekly Modern Friday Night Magic (FNM) tournaments starting at 6:30 pm!\nEntry is $10 \nPrize out is based on record. Capped at 4 rounds. \n4-0-0 = $60\n3-0-1 = $40\n3-1-0 = $20\n2-1-1 = $10 \nEach player will each be able to pick from a pool of promo pack promos in reverse standings order.
URL:https://afk.games/event/mtg-modern-fnm-10/2023-08-18/
LOCATION:AFK Games\, 2495 Cedar Street STE 14-B\, Holt\, MI\, 48842\, United States
CATEGORIES:Events,Magic: The Gathering,Modern
ORGANIZER;CN="AFK Games":MAILTO:support@afk-games.com
END:VEVENT
BEGIN:VEVENT
DTSTART;TZID=America/Detroit:20230818T183000
DTEND;TZID=America/Detroit:20230818T220000
DTSTAMP:20260424T134637
CREATED:20260101T204727Z
LAST-MODIFIED:20260101T204727Z
UID:10005170-1692383400-1692396000@afk.games
SUMMARY:MTG Modern FNM
DESCRIPTION:AFK Games hosts weekly Modern Friday Night Magic (FNM) tournaments starting at 6:30 pm!\nEntry is $10 \nPrize out is based on record. Capped at 4 rounds. \n4-0-0 = $60\n3-0-1 = $40\n3-1-0 = $20\n2-1-1 = $10 \nEach player will each be able to pick from a pool of promo pack promos in reverse standings order.
URL:https://afk.games/event/mtg-modern-fnm-11/2023-08-18/
LOCATION:AFK Games\, 2495 Cedar Street STE 14-B\, Holt\, MI\, 48842\, United States
CATEGORIES:Events,Magic: The Gathering,Modern
ORGANIZER;CN="AFK Games":MAILTO:support@afk-games.com
END:VEVENT
BEGIN:VEVENT
DTSTART;TZID=America/Detroit:20230825T183000
DTEND;TZID=America/Detroit:20230825T220000
DTSTAMP:20260424T134637
CREATED:20220728T215755Z
LAST-MODIFIED:20250918T023011Z
UID:10000979-1692988200-1693000800@afk.games
SUMMARY:MTG Modern FNM
DESCRIPTION:AFK Games hosts weekly Modern Friday Night Magic (FNM) tournaments starting at 6:30 pm!\nEntry is $10 \nPrize out is based on record. Capped at 4 rounds. \n4-0-0 = $60\n3-0-1 = $40\n3-1-0 = $20\n2-1-1 = $10 \nEach player will each be able to pick from a pool of promo pack promos in reverse standings order.
URL:https://afk.games/event/mtg-modern-fnm-10/2023-08-25/
LOCATION:AFK Games\, 2495 Cedar Street STE 14-B\, Holt\, MI\, 48842\, United States
CATEGORIES:Events,Magic: The Gathering,Modern
ORGANIZER;CN="AFK Games":MAILTO:support@afk-games.com
END:VEVENT
BEGIN:VEVENT
DTSTART;TZID=America/Detroit:20230825T183000
DTEND;TZID=America/Detroit:20230825T220000
DTSTAMP:20260424T134637
CREATED:20260101T204727Z
LAST-MODIFIED:20260101T204727Z
UID:10005171-1692988200-1693000800@afk.games
SUMMARY:MTG Modern FNM
DESCRIPTION:AFK Games hosts weekly Modern Friday Night Magic (FNM) tournaments starting at 6:30 pm!\nEntry is $10 \nPrize out is based on record. Capped at 4 rounds. \n4-0-0 = $60\n3-0-1 = $40\n3-1-0 = $20\n2-1-1 = $10 \nEach player will each be able to pick from a pool of promo pack promos in reverse standings order.
URL:https://afk.games/event/mtg-modern-fnm-11/2023-08-25/
LOCATION:AFK Games\, 2495 Cedar Street STE 14-B\, Holt\, MI\, 48842\, United States
CATEGORIES:Events,Magic: The Gathering,Modern
ORGANIZER;CN="AFK Games":MAILTO:support@afk-games.com
END:VEVENT
END:VCALENDAR