BEGIN:VCALENDAR
VERSION:2.0
PRODID:-//AFK Games - ECPv6.15.20//NONSGML v1.0//EN
CALSCALE:GREGORIAN
METHOD:PUBLISH
X-ORIGINAL-URL:https://afk.games
X-WR-CALDESC:Events for AFK Games
REFRESH-INTERVAL;VALUE=DURATION:PT1H
X-Robots-Tag:noindex
X-PUBLISHED-TTL:PT1H
BEGIN:VTIMEZONE
TZID:America/Detroit
BEGIN:DAYLIGHT
TZOFFSETFROM:-0500
TZOFFSETTO:-0400
TZNAME:EDT
DTSTART:20250309T070000
END:DAYLIGHT
BEGIN:STANDARD
TZOFFSETFROM:-0400
TZOFFSETTO:-0500
TZNAME:EST
DTSTART:20251102T060000
END:STANDARD
BEGIN:DAYLIGHT
TZOFFSETFROM:-0500
TZOFFSETTO:-0400
TZNAME:EDT
DTSTART:20260308T070000
END:DAYLIGHT
BEGIN:STANDARD
TZOFFSETFROM:-0400
TZOFFSETTO:-0500
TZNAME:EST
DTSTART:20261101T060000
END:STANDARD
BEGIN:DAYLIGHT
TZOFFSETFROM:-0500
TZOFFSETTO:-0400
TZNAME:EDT
DTSTART:20270314T070000
END:DAYLIGHT
BEGIN:STANDARD
TZOFFSETFROM:-0400
TZOFFSETTO:-0500
TZNAME:EST
DTSTART:20271107T060000
END:STANDARD
END:VTIMEZONE
BEGIN:VEVENT
DTSTART;TZID=America/Detroit:20260705T120000
DTEND;TZID=America/Detroit:20260705T180000
DTSTAMP:20260423T021727
CREATED:20251119T225615Z
LAST-MODIFIED:20251119T225615Z
UID:10004304-1783252800-1783274400@afk.games
SUMMARY:MTG Commander
DESCRIPTION:Join us every Sunday for open Commander play! No entry fee\, just relaxed games\, good company\, and big plays. Bring a deck (or a few!)\, grab a pod\, and enjoy a fun\, welcoming environment for all skill levels.
URL:https://afk.games/event/mtg-commander/2026-07-05/
LOCATION:AFK Games\, 2495 Cedar Street STE 14-B\, Holt\, MI\, 48842\, United States
CATEGORIES:Commander,Events,Magic: The Gathering
ORGANIZER;CN="AFK Games":MAILTO:support@afk-games.com
END:VEVENT
BEGIN:VEVENT
DTSTART;TZID=America/Detroit:20260706T170000
DTEND;TZID=America/Detroit:20260706T220000
DTSTAMP:20260423T021727
CREATED:20260101T204539Z
LAST-MODIFIED:20260101T204539Z
UID:10005098-1783357200-1783375200@afk.games
SUMMARY:Monday Night Commander
DESCRIPTION:Every Monday night AFK Games hosts open MTG Commander play!\nNo entry to play\, and each week you enter into your Eventlink event you get entered into a monthly raffle for cool prizes! Such as collector packs\, deck boxes\, sleeves\, old marketing material\, etc..
URL:https://afk.games/event/monday-night-commander-13/2026-07-06/
LOCATION:AFK Games\, 2495 Cedar Street STE 14-B\, Holt\, MI\, 48842\, United States
CATEGORIES:Commander,Events,Magic: The Gathering
ORGANIZER;CN="AFK Games":MAILTO:support@afk-games.com
END:VEVENT
BEGIN:VEVENT
DTSTART;TZID=America/Detroit:20260712T120000
DTEND;TZID=America/Detroit:20260712T180000
DTSTAMP:20260423T021727
CREATED:20251119T225615Z
LAST-MODIFIED:20251119T225615Z
UID:10004305-1783857600-1783879200@afk.games
SUMMARY:MTG Commander
DESCRIPTION:Join us every Sunday for open Commander play! No entry fee\, just relaxed games\, good company\, and big plays. Bring a deck (or a few!)\, grab a pod\, and enjoy a fun\, welcoming environment for all skill levels.
URL:https://afk.games/event/mtg-commander/2026-07-12/
LOCATION:AFK Games\, 2495 Cedar Street STE 14-B\, Holt\, MI\, 48842\, United States
CATEGORIES:Commander,Events,Magic: The Gathering
ORGANIZER;CN="AFK Games":MAILTO:support@afk-games.com
END:VEVENT
BEGIN:VEVENT
DTSTART;TZID=America/Detroit:20260713T170000
DTEND;TZID=America/Detroit:20260713T220000
DTSTAMP:20260423T021727
CREATED:20260101T204539Z
LAST-MODIFIED:20260101T204539Z
UID:10005099-1783962000-1783980000@afk.games
SUMMARY:Monday Night Commander
DESCRIPTION:Every Monday night AFK Games hosts open MTG Commander play!\nNo entry to play\, and each week you enter into your Eventlink event you get entered into a monthly raffle for cool prizes! Such as collector packs\, deck boxes\, sleeves\, old marketing material\, etc..
URL:https://afk.games/event/monday-night-commander-13/2026-07-13/
LOCATION:AFK Games\, 2495 Cedar Street STE 14-B\, Holt\, MI\, 48842\, United States
CATEGORIES:Commander,Events,Magic: The Gathering
ORGANIZER;CN="AFK Games":MAILTO:support@afk-games.com
END:VEVENT
BEGIN:VEVENT
DTSTART;TZID=America/Detroit:20260719T120000
DTEND;TZID=America/Detroit:20260719T180000
DTSTAMP:20260423T021727
CREATED:20251119T225615Z
LAST-MODIFIED:20251119T225615Z
UID:10004306-1784462400-1784484000@afk.games
SUMMARY:MTG Commander
DESCRIPTION:Join us every Sunday for open Commander play! No entry fee\, just relaxed games\, good company\, and big plays. Bring a deck (or a few!)\, grab a pod\, and enjoy a fun\, welcoming environment for all skill levels.
URL:https://afk.games/event/mtg-commander/2026-07-19/
LOCATION:AFK Games\, 2495 Cedar Street STE 14-B\, Holt\, MI\, 48842\, United States
CATEGORIES:Commander,Events,Magic: The Gathering
ORGANIZER;CN="AFK Games":MAILTO:support@afk-games.com
END:VEVENT
BEGIN:VEVENT
DTSTART;TZID=America/Detroit:20260720T170000
DTEND;TZID=America/Detroit:20260720T220000
DTSTAMP:20260423T021727
CREATED:20260101T204539Z
LAST-MODIFIED:20260101T204539Z
UID:10005100-1784566800-1784584800@afk.games
SUMMARY:Monday Night Commander
DESCRIPTION:Every Monday night AFK Games hosts open MTG Commander play!\nNo entry to play\, and each week you enter into your Eventlink event you get entered into a monthly raffle for cool prizes! Such as collector packs\, deck boxes\, sleeves\, old marketing material\, etc..
URL:https://afk.games/event/monday-night-commander-13/2026-07-20/
LOCATION:AFK Games\, 2495 Cedar Street STE 14-B\, Holt\, MI\, 48842\, United States
CATEGORIES:Commander,Events,Magic: The Gathering
ORGANIZER;CN="AFK Games":MAILTO:support@afk-games.com
END:VEVENT
BEGIN:VEVENT
DTSTART;TZID=America/Detroit:20260726T120000
DTEND;TZID=America/Detroit:20260726T180000
DTSTAMP:20260423T021727
CREATED:20251119T225615Z
LAST-MODIFIED:20251119T225615Z
UID:10004307-1785067200-1785088800@afk.games
SUMMARY:MTG Commander
DESCRIPTION:Join us every Sunday for open Commander play! No entry fee\, just relaxed games\, good company\, and big plays. Bring a deck (or a few!)\, grab a pod\, and enjoy a fun\, welcoming environment for all skill levels.
URL:https://afk.games/event/mtg-commander/2026-07-26/
LOCATION:AFK Games\, 2495 Cedar Street STE 14-B\, Holt\, MI\, 48842\, United States
CATEGORIES:Commander,Events,Magic: The Gathering
ORGANIZER;CN="AFK Games":MAILTO:support@afk-games.com
END:VEVENT
BEGIN:VEVENT
DTSTART;TZID=America/Detroit:20260727T170000
DTEND;TZID=America/Detroit:20260727T220000
DTSTAMP:20260423T021727
CREATED:20260101T204539Z
LAST-MODIFIED:20260101T204539Z
UID:10005101-1785171600-1785189600@afk.games
SUMMARY:Monday Night Commander
DESCRIPTION:Every Monday night AFK Games hosts open MTG Commander play!\nNo entry to play\, and each week you enter into your Eventlink event you get entered into a monthly raffle for cool prizes! Such as collector packs\, deck boxes\, sleeves\, old marketing material\, etc..
URL:https://afk.games/event/monday-night-commander-13/2026-07-27/
LOCATION:AFK Games\, 2495 Cedar Street STE 14-B\, Holt\, MI\, 48842\, United States
CATEGORIES:Commander,Events,Magic: The Gathering
ORGANIZER;CN="AFK Games":MAILTO:support@afk-games.com
END:VEVENT
END:VCALENDAR