BEGIN:VCALENDAR
VERSION:2.0
PRODID:-//AFK Games - ECPv6.15.20//NONSGML v1.0//EN
CALSCALE:GREGORIAN
METHOD:PUBLISH
X-ORIGINAL-URL:https://afk.games
X-WR-CALDESC:Events for AFK Games
REFRESH-INTERVAL;VALUE=DURATION:PT1H
X-Robots-Tag:noindex
X-PUBLISHED-TTL:PT1H
BEGIN:VTIMEZONE
TZID:America/Detroit
BEGIN:DAYLIGHT
TZOFFSETFROM:-0500
TZOFFSETTO:-0400
TZNAME:EDT
DTSTART:20220313T070000
END:DAYLIGHT
BEGIN:STANDARD
TZOFFSETFROM:-0400
TZOFFSETTO:-0500
TZNAME:EST
DTSTART:20221106T060000
END:STANDARD
BEGIN:DAYLIGHT
TZOFFSETFROM:-0500
TZOFFSETTO:-0400
TZNAME:EDT
DTSTART:20230312T070000
END:DAYLIGHT
BEGIN:STANDARD
TZOFFSETFROM:-0400
TZOFFSETTO:-0500
TZNAME:EST
DTSTART:20231105T060000
END:STANDARD
BEGIN:DAYLIGHT
TZOFFSETFROM:-0500
TZOFFSETTO:-0400
TZNAME:EDT
DTSTART:20240310T070000
END:DAYLIGHT
BEGIN:STANDARD
TZOFFSETFROM:-0400
TZOFFSETTO:-0500
TZNAME:EST
DTSTART:20241103T060000
END:STANDARD
END:VTIMEZONE
BEGIN:VEVENT
DTSTART;TZID=America/Detroit:20230731T180000
DTEND;TZID=America/Detroit:20230731T220000
DTSTAMP:20260420T101550
CREATED:20230617T204819Z
LAST-MODIFIED:20230617T204819Z
UID:10001357-1690826400-1690840800@afk.games
SUMMARY:Commander Masters Preview event
DESCRIPTION:Format: Draft\nEntry: $60 \n1.5 booster packs per player into the prize pool.\nPrize packs will be given out at release. \nExclusive to WPN Premium stores\, the WPN Premium Preview event takes place the week before release. The Preview Event is all about celebrating Commander Masters with Commander Draft play. \nGet Draft Boosters to draft and play in epic\, multiplayer battles; just grab 3 Draft Boosters each\, pass them and pick 2 cards at a time\, add some lands to build a 60-card deck\, and let the fun begin
URL:https://afk.games/event/commander-masters-preview-event-3/
LOCATION:AFK Games\, 2495 Cedar Street STE 14-B\, Holt\, MI\, 48842\, United States
CATEGORIES:Commander,Draft,Events,Magic: The Gathering
ORGANIZER;CN="AFK Games":MAILTO:support@afk-games.com
END:VEVENT
BEGIN:VEVENT
DTSTART;TZID=America/Detroit:20230729T140000
DTEND;TZID=America/Detroit:20230729T190000
DTSTAMP:20260420T101550
CREATED:20230617T204642Z
LAST-MODIFIED:20230617T204642Z
UID:10001356-1690639200-1690657200@afk.games
SUMMARY:Commander Masters Preview event
DESCRIPTION:Format: Draft\nEntry: $60 \n1.5 booster packs per player into the prize pool.\nPrize packs will be given out at release. \nExclusive to WPN Premium stores\, the WPN Premium Preview event takes place the week before release. The Preview Event is all about celebrating Commander Masters with Commander Draft play. \nGet Draft Boosters to draft and play in epic\, multiplayer battles; just grab 3 Draft Boosters each\, pass them and pick 2 cards at a time\, add some lands to build a 60-card deck\, and let the fun begin
URL:https://afk.games/event/commander-masters-preview-event-2/
LOCATION:AFK Games\, 2495 Cedar Street STE 14-B\, Holt\, MI\, 48842\, United States
CATEGORIES:Commander,Draft,Events,Magic: The Gathering
ORGANIZER;CN="AFK Games":MAILTO:support@afk-games.com
END:VEVENT
BEGIN:VEVENT
DTSTART;TZID=America/Detroit:20230728T183000
DTEND;TZID=America/Detroit:20230728T220000
DTSTAMP:20260420T101550
CREATED:20230617T204503Z
LAST-MODIFIED:20230617T204503Z
UID:10001355-1690569000-1690581600@afk.games
SUMMARY:Commander Masters Preview event
DESCRIPTION:Format: Draft\nEntry: $60 \n1.5 booster packs per player into the prize pool.\nPrize packs will be given out at release. \nExclusive to WPN Premium stores\, the WPN Premium Preview event takes place the week before release. The Preview Event is all about celebrating Commander Masters with Commander Draft play. \nGet Draft Boosters to draft and play in epic\, multiplayer battles; just grab 3 Draft Boosters each\, pass them and pick 2 cards at a time\, add some lands to build a 60-card deck\, and let the fun begin
URL:https://afk.games/event/commander-masters-preview-event/
LOCATION:AFK Games\, 2495 Cedar Street STE 14-B\, Holt\, MI\, 48842\, United States
CATEGORIES:Commander,Draft,Events,Magic: The Gathering
ORGANIZER;CN="AFK Games":MAILTO:support@afk-games.com
END:VEVENT
BEGIN:VEVENT
DTSTART;TZID=America/Detroit:20230603T100000
DTEND;TZID=America/Detroit:20230603T183000
DTSTAMP:20260420T101550
CREATED:20230421T171107Z
LAST-MODIFIED:20230505T215122Z
UID:10001321-1685786400-1685817000@afk.games
SUMMARY:Dreamhack RCQ - Sealed - (2-Slot)
DESCRIPTION:Rules packet: https://docs.google.com/document/d/1q8dWQaG9n0DSxH9OSXzntB4ZLtvjNcfZMhlCJhkCkNw \nThis event will be a 2-slot Dreamhack RCQ\, which means 1st and 2nd will receive an RCQ invite.  \nWe will be playing Sealed March of the Machine Swiss rounds\, and then a cut to top-8 draft that will be timed. \nWe will be playing rounds of Swiss as recommended by the tournament rules. Following the Swiss rounds\, the top 8 players overall will draft in single-elimination rounds. \nParticipants must register their sealed pools as written in the Magic: the Gathering tournament rules section 7.5.  \nParticipants will have 20 minutes for deck registration and 30 minutes for deck construction. \nTournament Schedule\nDoors will open at 9:00 am \nRegistration ends at 9:55 am.  \nThe player meeting will commence at 10:00 am with our head judge Nick Babcock\, followed by the start of deck registration. \nPrizes:\n1st – Store Credit + Exclusive Promo + Top 8 promo + RCQ Invite\n2nd – Store Credit + Exclusive Promo + Top 8 promo + RCQ Invite\n3/4th – Store Credit + Top 8 promo\n5-8th – Store Credit + Top 8 promo \nStore credit prizes will be scaled with attendance. But the major milestones will be: \n32 players: $750 store credit pool\n40 players: $1000 store credit pool\n64 players: $1600 store credit pool \nThe first 64 players to register will receive an RCQ participation promo.
URL:https://afk.games/event/dreamhack-rcq-draft-2-slot/
LOCATION:AFK Games\, 2495 Cedar Street STE 14-B\, Holt\, MI\, 48842\, United States
CATEGORIES:Draft,Events,Magic: The Gathering,RCQ
ORGANIZER;CN="AFK Games":MAILTO:support@afk-games.com
END:VEVENT
BEGIN:VEVENT
DTSTART;TZID=America/Detroit:20230304T130000
DTEND;TZID=America/Detroit:20230304T203000
DTSTAMP:20260420T101550
CREATED:20230203T195905Z
LAST-MODIFIED:20230203T195905Z
UID:10001231-1677934800-1677961800@afk.games
SUMMARY:Phyrexia: All Will Be One Store Championship
DESCRIPTION:Draft Magic the Gathering’s latest set\, Phyrexia: All Will Be One at this competitive Store Championship event! Play for your chance at some awesome Store Championship promos!. \nFORMAT \nDuring these draft events\, each participant will receive 3 Phyrexia: All Will Be One draft boosters. They will draft these boosters in a “pod” of other players\, picking 1 card from each pack as they pass them around the table. Players will use these cards to build a 40-card limited deck (borrowing basic lands from the store or using lands they brought from home). All participants will then play 3 best-of-three matches\, being paired up against opponents with a similar record. Read more about the draft format here. \nPRIZES \nTwo draft packs of Phyrexia: All Will Be One per player will be entered into the prize pool. At the conclusion of the event\, all players will receive a prize\, with participants who went undefeated receiving twice as many packs as those who went X-1\, and with all players leaving with at least one pack. Additional prizes may be added to the pool and/or randomly distributed based on attendance and availability. \nBEFORE THE EVENT \nPlease show up 15 minutes before the scheduled start time to have time to check in. Participants will need an official Wizards account to participate. If you do not have an account\, you can create one for free here. Participants should download the Magic Companion app for the event. This app will be used for pairings and reporting. You can download that app here. \nCONTACT US \nIf you have any questions\, please reach out to fairgamestore@gmail.com. We also invite you to sign up for our #mtg Discord Channel here. You can also sign-up for Magic the Gathering email updates here.
URL:https://afk.games/event/phyrexia-all-will-be-one-store-championship/
LOCATION:AFK Games\, 2495 Cedar Street STE 14-B\, Holt\, MI\, 48842\, United States
CATEGORIES:Draft,Events,Magic: The Gathering
ORGANIZER;CN="AFK Games":MAILTO:support@afk-games.com
END:VEVENT
BEGIN:VEVENT
DTSTART;TZID=America/Detroit:20230212T130000
DTEND;TZID=America/Detroit:20230212T170000
DTSTAMP:20260420T101550
CREATED:20230203T191452Z
LAST-MODIFIED:20230203T191452Z
UID:10001230-1676206800-1676221200@afk.games
SUMMARY:Phyrexia: All Will Be One Launch Party
DESCRIPTION:Draft Magic the Gathering’s latest set\, Phyrexia: All Will Be One at this Launch Party Event.  \nFORMAT\nDuring these draft events\, each participant will receive 3 Phyrexia: All Will Be One draft boosters. They will draft these boosters in a “pod” of other players\, picking 1 card from each pack as they pass them around the table. Players will use these cards to build a 40-card limited deck (borrowing basic lands from the store or using lands they brought from home). All participants will then play 3 best-of-three matches\, being paired up against opponents with a similar record. Read more about the draft format here. \nPRIZES\n1.5 draft packs of Phyrexia: All Will Be One per player will be entered into the prize pool. At the conclusion of the event\, all players will receive a prize\, with participants who went undefeated receiving twice as many packs as those who went X-1\, and with all players leaving with at least one pack. Additional prizes may be added to the pool and/or randomly distributed based on attendance and availability. \n1st – 4 packs \n2nd – 2 packs \n3-8th – 1 pack \nBEFORE THE EVENT\nPlease show up 15 minutes before the scheduled start time to have time to check in. Participants will need an official Wizards account to participate. If you do not have an account\, you can create one for free here. Participants should download the Magic Companion app for the event. This app will be used for pairings and reporting. You can download that app here. \nCONTACT US\nIf you have any questions\, please reach out to support@afk-games.com. We also invite you to our Discord. You can also give us a call at (517) 694-7328.
URL:https://afk.games/event/phyrexia-all-will-be-one-launch-party/
LOCATION:AFK Games\, 2495 Cedar Street STE 14-B\, Holt\, MI\, 48842\, United States
CATEGORIES:Draft,Events,Magic: The Gathering,Sealed
ORGANIZER;CN="AFK Games":MAILTO:support@afk-games.com
END:VEVENT
BEGIN:VEVENT
DTSTART;TZID=America/Detroit:20230113T180000
DTEND;TZID=America/Detroit:20230115T173000
DTSTAMP:20260420T101550
CREATED:20221226T040802Z
LAST-MODIFIED:20221226T040802Z
UID:10001060-1673632800-1673803800@afk.games
SUMMARY:Dominaria Remastered Draft Launch Party
DESCRIPTION:Join us for the release of Dominaria Remastered. With this set players will have the opportunity to experience the multitude of stories set in the plane of Dominaria. This set features reprints from 27 different sets throughout Dominaria’s history. \nFriday – 6:00 pm\nSaturday – 1:00 pm\nSunday – 1:00 pm \nEach player will be given 3 packs each to draft with. \nPrizes are 1.5 packs per player into the prize pool. \nFor 8 players prize out will be the following:\n1st – 6 pack\n2nd – 4 pack\n3/4th – 1 pack
URL:https://afk.games/event/dominaria-remastered-draft-launch-party/
LOCATION:AFK Games\, 2495 Cedar Street STE 14-B\, Holt\, MI\, 48842\, United States
CATEGORIES:Draft,Events,Magic: The Gathering
ORGANIZER;CN="AFK Games":MAILTO:support@afk-games.com
END:VEVENT
END:VCALENDAR