BEGIN:VCALENDAR
VERSION:2.0
PRODID:-//AFK Games - ECPv6.15.20//NONSGML v1.0//EN
CALSCALE:GREGORIAN
METHOD:PUBLISH
X-ORIGINAL-URL:https://afk.games
X-WR-CALDESC:Events for AFK Games
REFRESH-INTERVAL;VALUE=DURATION:PT1H
X-Robots-Tag:noindex
X-PUBLISHED-TTL:PT1H
BEGIN:VTIMEZONE
TZID:America/Detroit
BEGIN:DAYLIGHT
TZOFFSETFROM:-0500
TZOFFSETTO:-0400
TZNAME:EDT
DTSTART:20210314T070000
END:DAYLIGHT
BEGIN:STANDARD
TZOFFSETFROM:-0400
TZOFFSETTO:-0500
TZNAME:EST
DTSTART:20211107T060000
END:STANDARD
BEGIN:DAYLIGHT
TZOFFSETFROM:-0500
TZOFFSETTO:-0400
TZNAME:EDT
DTSTART:20220313T070000
END:DAYLIGHT
BEGIN:STANDARD
TZOFFSETFROM:-0400
TZOFFSETTO:-0500
TZNAME:EST
DTSTART:20221106T060000
END:STANDARD
BEGIN:DAYLIGHT
TZOFFSETFROM:-0500
TZOFFSETTO:-0400
TZNAME:EDT
DTSTART:20230312T070000
END:DAYLIGHT
BEGIN:STANDARD
TZOFFSETFROM:-0400
TZOFFSETTO:-0500
TZNAME:EST
DTSTART:20231105T060000
END:STANDARD
BEGIN:DAYLIGHT
TZOFFSETFROM:-0500
TZOFFSETTO:-0400
TZNAME:EDT
DTSTART:20240310T070000
END:DAYLIGHT
BEGIN:STANDARD
TZOFFSETFROM:-0400
TZOFFSETTO:-0500
TZNAME:EST
DTSTART:20241103T060000
END:STANDARD
BEGIN:DAYLIGHT
TZOFFSETFROM:-0500
TZOFFSETTO:-0400
TZNAME:EDT
DTSTART:20250309T070000
END:DAYLIGHT
BEGIN:STANDARD
TZOFFSETFROM:-0400
TZOFFSETTO:-0500
TZNAME:EST
DTSTART:20251102T060000
END:STANDARD
BEGIN:DAYLIGHT
TZOFFSETFROM:-0500
TZOFFSETTO:-0400
TZNAME:EDT
DTSTART:20260308T070000
END:DAYLIGHT
BEGIN:STANDARD
TZOFFSETFROM:-0400
TZOFFSETTO:-0500
TZNAME:EST
DTSTART:20261101T060000
END:STANDARD
END:VTIMEZONE
BEGIN:VEVENT
DTSTART;TZID=America/Detroit:20250208T123000
DTEND;TZID=America/Detroit:20250208T190000
DTSTAMP:20260420T071047
CREATED:20250103T002802Z
LAST-MODIFIED:20250103T002802Z
UID:10003481-1739017800-1739041200@afk.games
SUMMARY:Malifaux Tournament
DESCRIPTION:Tournament Format\n\nRounds – 2\nRound time – 3 hours\nTable Size – 3×3\nFormat – Swiss\nSoftware – Longshanks\nDoors – 12:00 PM\nStart – 12:30 PM\nEntry – $10\n\n  \nThis tournament will follow the rules presented in: \n  \n\nMalifaux 3E Rulebook\nMalifaux Burns\nMadness of Malifaux\nAshes of Malifaux\nGaining Grounds\nMost recent Eratta & FAQ\n\nCrew Selection\n\nSingles (When hiring\, Masters not sharing a Keyword with the Crew’s Leader cannot be hired)\nDead Man’s Hand models will not be allowed\n50SS Crew\nGaining Grounds 4\n\n  \nSchedule\nRegistration – 12:00 PM – 12:30 PM \nRound 1 – 12:30 PM – 3:30 PM \nRound 2 – 3:45 PM – 6:45 PM \n\nPlayer Responsibilities\n\nModels\nStat cards or Crew Builder app\nA Fate deck\nSomething to measure with\nWound/Token tracking\nScheme markers and any other markers you may need (Terrain\, blast\, scrap\, corpse\, etc…)\nToken used to display Soulstones\n\nPlayers are also responsible for conducting themselves in an appropriate\, sportsmanlike manner. \nRaffle Prizes\nFor this event we will be giving away a random Core box each round to a random player. \n  \nExample prizes such as: \n\nModel kits\nStore Credit\nHobby Supplies\n\nBrushes\nPaints\nEtc\n\n\n\nPlayers can only win a total of 1 raffle prize during the event.  \nRaffle Tickets\nWin a Game – 1 Ticket \nPlay a Game – 1 Ticket \nFully painted crew – 1 Ticket  \nBe ready 15 minutes before the start of round 1 – 1 Ticket
URL:https://afk.games/event/malifaux-tournament-3/
LOCATION:AFK Games\, 2495 Cedar Street STE 14-B\, Holt\, MI\, 48842\, United States
CATEGORIES:Events,Malifaux,Miniature Games
ORGANIZER;CN="AFK Games":MAILTO:support@afk-games.com
END:VEVENT
BEGIN:VEVENT
DTSTART;TZID=America/Detroit:20241109T120000
DTEND;TZID=America/Detroit:20241109T210000
DTSTAMP:20260420T071047
CREATED:20240929T004145Z
LAST-MODIFIED:20240929T004145Z
UID:10003057-1731153600-1731186000@afk.games
SUMMARY:Malifaux - Game Day
DESCRIPTION:Join us for a casual\, open-ended Malifaux 3rd Edition event\, perfect for both new players and seasoned veterans looking to share their knowledge. The event will feature three separate games\, each starting at different times. Feel free to drop in or leave as you wish between rounds. After each game\, we’ll hold a raffle for prizes before the next one begins. It’s a great opportunity to play\, learn\, and have fun! \nTournament Format\n\nRounds/Games – 3\nRound time – 3 hours + 15 minutes for setup\nTable Size – 3×3\nFormat – Swiss\nSoftware – Longshanks\nEntry – $5/Game\nThis tournament will follow the rules presented in: \n\n \n\nMalifaux 3E Rulebook\nMalifaux Burns\nMadness of Malifaux\nAshes of Malifaux\nGaining Grounds\nMost recent Eratta & FAQ\n\nCrew Selection\n\nFixed Master – declared at registration \nSingles (When hiring\, Masters not sharing a Keyword with the Crew’s Leader cannot be hired)\nDead Man’s Hand models will not be allowed\n50SS Crew\nGaining Grounds 4\nBans will be allowed\n\nPlayer Responsibilities\n\nModels\nStat cards or Crew Builder app\nA Fate deck\nSomething to measure with\nWound/Token tracking\nScheme markers and any other markers you may need (Terrain\, blast\, scrap\, corpse\, etc…)\nToken used to display Soulstones\n\nPlayers are also responsible for conducting themselves in an appropriate\, sportsmanlike manner. \nSchedule\n\n11:30 AM: Doors Open & Registration\n12:00 PM: Game 1 start\n3:00 PM: Game 2 start\n6:00 PM: Game 3 start\n\nRaffle Prizes\nPlayers will earn a raffle ticket for each game for the following. \n\nYou will receive a ticket for participating in a game. \nPlayers will earn an additional ticket for having a fully painted crew\n\n\nTickets will be handed out before the start of the rounds. \nYou will have until the end of the round to write your name on the tickets and place them in a cup for raffle prizes. \n\nExample prizes such as: \n\nModel kits\nStore Credit\nHobby Supplies\n\nBrushes\nPaints\nEtc
URL:https://afk.games/event/malifaux-game-day/
LOCATION:AFK Games\, 2495 Cedar Street STE 14-B\, Holt\, MI\, 48842\, United States
CATEGORIES:Events,Malifaux,Miniature Games
ORGANIZER;CN="AFK Games":MAILTO:support@afk-games.com
END:VEVENT
BEGIN:VEVENT
DTSTART;TZID=America/Detroit:20240831T123000
DTEND;TZID=America/Detroit:20240831T190000
DTSTAMP:20260420T071047
CREATED:20240713T195631Z
LAST-MODIFIED:20240713T195631Z
UID:10003019-1725107400-1725130800@afk.games
SUMMARY:Malifaux Tournament
DESCRIPTION:Tournament Format\n\nRounds – 2\nRound time – 3 hours + 15 minutes for setup\nTable Size – 3×3\nFormat – Swiss\nSoftware – Longshanks\nDoors – 12:00 PM\nStart – 12:30 PM\nEntry – $10\n\n  \nThis tournament will follow the rules presented in: \n\nMalifaux 3E Rulebook\nMalifaux Burns\nMadness of Malifaux\nAshes of Malifaux\nGaining Grounds\nMost recent Eratta & FAQ\n\nCrew Selection\n\nFixed Master – declared at registration \nSingles (When hiring\, Masters not sharing a Keyword with the Crew’s Leader cannot be hired)\nDead Man’s Hand models will not be allowed\n50SS Crew\nGaining Grounds 4\nBans will be allowed\n\nPlayer Responsibilities\n\nModels\nStat cards or Crew Builder app\nA Fate deck\nSomething to measure with\nWound/Token tracking\nScheme markers and any other markers you may need (Terrain\, blast\, scrap\, corpse\, etc…)\nToken used to display Soulstones\n\nPlayers are also responsible for conducting themselves in an appropriate\, sportsmanlike manner. \nSchedule\nRegistration – 12:00 PM – 12:30 PM\nRound 1 – 12:30 PM – 3:45 PM\nLunch – 3:45 PM – 4:15 PM\nRound 2 – 4:15 PM – 7:30 PM \n  \nRaffle Prizes\nPlayers will earn tickets for the conditions in the section below.  \n\nPlayers will receive a Ticket for showing up to registration 15 minutes before the start time\nYou will receive your tickets once your game is finished. \nPlayers will earn an additional ticket for each win\nYou will have until the beginning of the next round to write your name on the tickets and place them in the appropriate cups for prizing.\n\nExample prizes such as: \n\nModel kits\nStore Credit\nHobby Supplies\n\nBrushes\nPaints\nEtc\n\n\n\nRaffle Tickets\nWin a Game – 1 Ticket\nPlay a Game – 1 Ticket\nFully painted crew – 1 Ticket\nBe ready 15 minutes before the start of round 1 – 1 Ticket
URL:https://afk.games/event/malifaux-tournament-2/
LOCATION:AFK Games\, 2495 Cedar Street STE 14-B\, Holt\, MI\, 48842\, United States
CATEGORIES:Events,Malifaux,Miniature Games
ORGANIZER;CN="AFK Games":MAILTO:support@afk-games.com
END:VEVENT
BEGIN:VEVENT
DTSTART;TZID=America/Detroit:20240615T123000
DTEND;TZID=America/Detroit:20240615T193000
DTSTAMP:20260420T071047
CREATED:20240523T221308Z
LAST-MODIFIED:20240523T221323Z
UID:10002808-1718454600-1718479800@afk.games
SUMMARY:Malifaux 3e Tournament
DESCRIPTION:Tournament Format\n\nRounds – 2\nRound time – 3 hours + 15 minutes for setup\nTable Size – 3×3\nFormat – Swiss\nSoftware – Longshanks\nDoors – 12:00 PM\nStart – 12:00 AM\nEntry – $10\n\n  \nThis tournament will follow the rules presented in: \n  \n\nMalifaux 3E Rulebook\nMalifaux Burns\nMadness of Malifaux\nAshes of Malifaux\nGaining Grounds\nMost recent Eratta & FAQ\n\nCrew Selection\n\nFixed Master – declared at registration \nSingles (When hiring\, Masters not sharing a Keyword with the Crew’s Leader cannot be hired)\nDead Man’s Hand models will not be allowed\n50SS Crew\nGaining Grounds 4\nBans will be allowed\n\nPlayer Responsibilities\n\nModels\nStat cards or Crew Builder app\nA Fate deck\nSomething to measure with\nWound/Token tracking\nScheme markers and any other markers you may need (Terrain\, blast\, scrap\, corpse\, etc…)\nToken used to display Soulstones\n\nPlayers are also responsible for conducting themselves in an appropriate\, sportsmanlike manner. \nSchedule\nRegistration – 12:00 PM – 12:30 PM\nRound 1 – 12:30 PM – 3:45 PM\nLunch – 3:45 PM – 4:15 PM\nRound 2 – 4:15 PM – 7:30 PM \n  \nRaffle Prizes\nPlayers will earn tickets for the conditions in the section below.  \n\nPlayers will receive a Ticket for showing up to registration 15 minutes before the start time\nYou will receive your tickets once your game is finished. \nPlayers will earn an additional ticket for each win\nYou will have until the beginning of the next round to write your name on the tickets and place them in the appropriate cups for prizing.\n\n  \nExample prizes such as: \n\nModel kits\nStore Credit\nHobby Supplies\n\nBrushes\nPaints\nEtc\n\n\n\nRaffle Tickets\nWin a Game – 1 Ticket\nPlay a Game – 1 Ticket\nFully painted crew – 1 Ticket\nBe ready 15 minutes before the start of round 1 – 1 Ticket
URL:https://afk.games/event/malifaux-3e-tournament/
LOCATION:AFK Games\, 2495 Cedar Street STE 14-B\, Holt\, MI\, 48842\, United States
CATEGORIES:Events,Malifaux,Miniature Games
ORGANIZER;CN="AFK Games":MAILTO:support@afk-games.com
END:VEVENT
BEGIN:VEVENT
DTSTART;TZID=America/Detroit:20240406T120000
DTEND;TZID=America/Detroit:20240406T180000
DTSTAMP:20260420T071047
CREATED:20240225T020435Z
LAST-MODIFIED:20240225T020435Z
UID:10002391-1712404800-1712426400@afk.games
SUMMARY:Malifaux Tournament
DESCRIPTION:Tournament Format\n\nRounds – 2\nRound time – 3 hours + 15 minutes for setup\nTable Size – 3×3\nFormat – Swiss\nSoftware – Longshanks\nDoors – 11:30 AM\nStart – 12:00 PM\nEntry – $10\n\nThis tournament will follow the rules presented in: \n\nMalifaux 3E Rulebook\nMalifaux Burns\nMadness of Malifaux\nAshes of Malifaux\nGaining Grounds\nMost recent Eratta & FAQ\n\nCrew Selection\n\nFixed Master – declared at registration (Edited\nSingles (When hiring\, Masters not sharing a Keyword with the Crew’s Leader cannot be hired)\nDead Man’s Hand models will not be allowed\n50SS Crew\nGaining Grounds 4\n\nFull rules packet: \nhttps://docs.google.com/document/d/1CGSOYByMiM7XRKpXTrnCtHkpsM1FWfNvsvEQyhYLRUI
URL:https://afk.games/event/malifaux-tournament/
LOCATION:AFK Games\, 2495 Cedar Street STE 14-B\, Holt\, MI\, 48842\, United States
CATEGORIES:Events,Malifaux,Miniature Games
ORGANIZER;CN="AFK Games":MAILTO:support@afk-games.com
END:VEVENT
BEGIN:VEVENT
DTSTART;TZID=America/Detroit:20221009T123000
DTEND;TZID=America/Detroit:20221009T163000
DTSTAMP:20260420T071047
CREATED:20220930T003509Z
LAST-MODIFIED:20220930T005305Z
UID:10000307-1665318600-1665333000@afk.games
SUMMARY:Malifaux - Henchmen Hardcore - 30SS
DESCRIPTION:• All Crews must be led by a Henchman\, not a Master.\n• The game size is 30 Soulstones.\n• All Crews must contain exactly 4 models\, no more\, no less.\n• Upgrades may be purchased\, as allowed by the standard rules of Malifaux.\n• Any Actions\, Abilities\, or Triggers which summon models are considered to be “blank” (they may not be used and have no effect on the game\, as if they were not printed on the model).\n• The same Crew must be used in each round of the event. \nSet Up\n• This Tournament will consist of three 45 minute rounds\n• All rounds use the following set up:\nDeployment: Wedge\nStrategy: Plant Explosives\nScheme Pool: Assassinate\, Vendetta \nAwards\n1st place\n2nd place\nBest Painted (decided by vote after tournament)
URL:https://afk.games/event/malifaux-henchmen-hardcore-30ss/
LOCATION:AFK Games\, 2495 Cedar Street STE 14-B\, Holt\, MI\, 48842\, United States
CATEGORIES:Events,Malifaux,Miniature Games
ORGANIZER;CN="AFK Games":MAILTO:support@afk-games.com
END:VEVENT
END:VCALENDAR