BEGIN:VCALENDAR
VERSION:2.0
PRODID:-//AFK Games - ECPv6.15.20//NONSGML v1.0//EN
CALSCALE:GREGORIAN
METHOD:PUBLISH
X-WR-CALNAME:AFK Games
X-ORIGINAL-URL:https://afk.games
X-WR-CALDESC:Events for AFK Games
REFRESH-INTERVAL;VALUE=DURATION:PT1H
X-Robots-Tag:noindex
X-PUBLISHED-TTL:PT1H
BEGIN:VTIMEZONE
TZID:America/Detroit
BEGIN:DAYLIGHT
TZOFFSETFROM:-0500
TZOFFSETTO:-0400
TZNAME:EDT
DTSTART:20230312T070000
END:DAYLIGHT
BEGIN:STANDARD
TZOFFSETFROM:-0400
TZOFFSETTO:-0500
TZNAME:EST
DTSTART:20231105T060000
END:STANDARD
BEGIN:DAYLIGHT
TZOFFSETFROM:-0500
TZOFFSETTO:-0400
TZNAME:EDT
DTSTART:20240310T070000
END:DAYLIGHT
BEGIN:STANDARD
TZOFFSETFROM:-0400
TZOFFSETTO:-0500
TZNAME:EST
DTSTART:20241103T060000
END:STANDARD
BEGIN:DAYLIGHT
TZOFFSETFROM:-0500
TZOFFSETTO:-0400
TZNAME:EDT
DTSTART:20250309T070000
END:DAYLIGHT
BEGIN:STANDARD
TZOFFSETFROM:-0400
TZOFFSETTO:-0500
TZNAME:EST
DTSTART:20251102T060000
END:STANDARD
BEGIN:DAYLIGHT
TZOFFSETFROM:-0500
TZOFFSETTO:-0400
TZNAME:EDT
DTSTART:20260308T070000
END:DAYLIGHT
BEGIN:STANDARD
TZOFFSETFROM:-0400
TZOFFSETTO:-0500
TZNAME:EST
DTSTART:20261101T060000
END:STANDARD
END:VTIMEZONE
BEGIN:VEVENT
DTSTART;TZID=America/Detroit:20250226T180000
DTEND;TZID=America/Detroit:20250226T210000
DTSTAMP:20260422T225811
CREATED:20221119T010216Z
LAST-MODIFIED:20260122T224620Z
UID:10005718-1740592800-1740603600@afk.games
SUMMARY:Open Skirmish Games
DESCRIPTION:Have an itch to play some skirmish games like Warhammer 40K: Kill Team\, Necromunda\, Warcry\, etc? Well on Tuesday nights we got you covered! Come on down and play some of your favorite small scale miniature games\, or even try out a new one!
URL:https://afk.games/event/open-skirmish-games/2025-02-26/
LOCATION:AFK Games\, 2495 Cedar Street STE 14-B\, Holt\, MI\, 48842\, United States
CATEGORIES:Events,Games Workshop,Kill Team,Killwager,Warhammer 40K
ORGANIZER;CN="AFK Games":MAILTO:support@afk-games.com
END:VEVENT
BEGIN:VEVENT
DTSTART;TZID=America/Detroit:20250219T180000
DTEND;TZID=America/Detroit:20250219T210000
DTSTAMP:20260422T225811
CREATED:20221119T010216Z
LAST-MODIFIED:20260122T224620Z
UID:10005717-1739988000-1739998800@afk.games
SUMMARY:Open Skirmish Games
DESCRIPTION:Have an itch to play some skirmish games like Warhammer 40K: Kill Team\, Necromunda\, Warcry\, etc? Well on Tuesday nights we got you covered! Come on down and play some of your favorite small scale miniature games\, or even try out a new one!
URL:https://afk.games/event/open-skirmish-games/2025-02-19/
LOCATION:AFK Games\, 2495 Cedar Street STE 14-B\, Holt\, MI\, 48842\, United States
CATEGORIES:Events,Games Workshop,Kill Team,Killwager,Warhammer 40K
ORGANIZER;CN="AFK Games":MAILTO:support@afk-games.com
END:VEVENT
BEGIN:VEVENT
DTSTART;TZID=America/Detroit:20250212T180000
DTEND;TZID=America/Detroit:20250212T210000
DTSTAMP:20260422T225811
CREATED:20221119T010216Z
LAST-MODIFIED:20260122T224620Z
UID:10005716-1739383200-1739394000@afk.games
SUMMARY:Open Skirmish Games
DESCRIPTION:Have an itch to play some skirmish games like Warhammer 40K: Kill Team\, Necromunda\, Warcry\, etc? Well on Tuesday nights we got you covered! Come on down and play some of your favorite small scale miniature games\, or even try out a new one!
URL:https://afk.games/event/open-skirmish-games/2025-02-12/
LOCATION:AFK Games\, 2495 Cedar Street STE 14-B\, Holt\, MI\, 48842\, United States
CATEGORIES:Events,Games Workshop,Kill Team,Killwager,Warhammer 40K
ORGANIZER;CN="AFK Games":MAILTO:support@afk-games.com
END:VEVENT
BEGIN:VEVENT
DTSTART;TZID=America/Detroit:20250205T180000
DTEND;TZID=America/Detroit:20250205T210000
DTSTAMP:20260422T225811
CREATED:20221119T010216Z
LAST-MODIFIED:20260122T224620Z
UID:10005715-1738778400-1738789200@afk.games
SUMMARY:Open Skirmish Games
DESCRIPTION:Have an itch to play some skirmish games like Warhammer 40K: Kill Team\, Necromunda\, Warcry\, etc? Well on Tuesday nights we got you covered! Come on down and play some of your favorite small scale miniature games\, or even try out a new one!
URL:https://afk.games/event/open-skirmish-games/2025-02-05/
LOCATION:AFK Games\, 2495 Cedar Street STE 14-B\, Holt\, MI\, 48842\, United States
CATEGORIES:Events,Games Workshop,Kill Team,Killwager,Warhammer 40K
ORGANIZER;CN="AFK Games":MAILTO:support@afk-games.com
END:VEVENT
BEGIN:VEVENT
DTSTART;TZID=America/Detroit:20250129T180000
DTEND;TZID=America/Detroit:20250129T210000
DTSTAMP:20260422T225811
CREATED:20221119T010216Z
LAST-MODIFIED:20260122T224620Z
UID:10005714-1738173600-1738184400@afk.games
SUMMARY:Open Skirmish Games
DESCRIPTION:Have an itch to play some skirmish games like Warhammer 40K: Kill Team\, Necromunda\, Warcry\, etc? Well on Tuesday nights we got you covered! Come on down and play some of your favorite small scale miniature games\, or even try out a new one!
URL:https://afk.games/event/open-skirmish-games/2025-01-29/
LOCATION:AFK Games\, 2495 Cedar Street STE 14-B\, Holt\, MI\, 48842\, United States
CATEGORIES:Events,Games Workshop,Kill Team,Killwager,Warhammer 40K
ORGANIZER;CN="AFK Games":MAILTO:support@afk-games.com
END:VEVENT
BEGIN:VEVENT
DTSTART;TZID=America/Detroit:20250122T180000
DTEND;TZID=America/Detroit:20250122T210000
DTSTAMP:20260422T225811
CREATED:20221119T010216Z
LAST-MODIFIED:20260122T224620Z
UID:10005713-1737568800-1737579600@afk.games
SUMMARY:Open Skirmish Games
DESCRIPTION:Have an itch to play some skirmish games like Warhammer 40K: Kill Team\, Necromunda\, Warcry\, etc? Well on Tuesday nights we got you covered! Come on down and play some of your favorite small scale miniature games\, or even try out a new one!
URL:https://afk.games/event/open-skirmish-games/2025-01-22/
LOCATION:AFK Games\, 2495 Cedar Street STE 14-B\, Holt\, MI\, 48842\, United States
CATEGORIES:Events,Games Workshop,Kill Team,Killwager,Warhammer 40K
ORGANIZER;CN="AFK Games":MAILTO:support@afk-games.com
END:VEVENT
BEGIN:VEVENT
DTSTART;TZID=America/Detroit:20250115T180000
DTEND;TZID=America/Detroit:20250115T210000
DTSTAMP:20260422T225811
CREATED:20221119T010216Z
LAST-MODIFIED:20260122T224620Z
UID:10005712-1736964000-1736974800@afk.games
SUMMARY:Open Skirmish Games
DESCRIPTION:Have an itch to play some skirmish games like Warhammer 40K: Kill Team\, Necromunda\, Warcry\, etc? Well on Tuesday nights we got you covered! Come on down and play some of your favorite small scale miniature games\, or even try out a new one!
URL:https://afk.games/event/open-skirmish-games/2025-01-15/
LOCATION:AFK Games\, 2495 Cedar Street STE 14-B\, Holt\, MI\, 48842\, United States
CATEGORIES:Events,Games Workshop,Kill Team,Killwager,Warhammer 40K
ORGANIZER;CN="AFK Games":MAILTO:support@afk-games.com
END:VEVENT
BEGIN:VEVENT
DTSTART;TZID=America/Detroit:20250108T180000
DTEND;TZID=America/Detroit:20250108T210000
DTSTAMP:20260422T225811
CREATED:20221119T010216Z
LAST-MODIFIED:20260122T224620Z
UID:10005711-1736359200-1736370000@afk.games
SUMMARY:Open Skirmish Games
DESCRIPTION:Have an itch to play some skirmish games like Warhammer 40K: Kill Team\, Necromunda\, Warcry\, etc? Well on Tuesday nights we got you covered! Come on down and play some of your favorite small scale miniature games\, or even try out a new one!
URL:https://afk.games/event/open-skirmish-games/2025-01-08/
LOCATION:AFK Games\, 2495 Cedar Street STE 14-B\, Holt\, MI\, 48842\, United States
CATEGORIES:Events,Games Workshop,Kill Team,Killwager,Warhammer 40K
ORGANIZER;CN="AFK Games":MAILTO:support@afk-games.com
END:VEVENT
BEGIN:VEVENT
DTSTART;TZID=America/Detroit:20250101T180000
DTEND;TZID=America/Detroit:20250101T210000
DTSTAMP:20260422T225811
CREATED:20221119T010216Z
LAST-MODIFIED:20260122T224620Z
UID:10005710-1735754400-1735765200@afk.games
SUMMARY:Open Skirmish Games
DESCRIPTION:Have an itch to play some skirmish games like Warhammer 40K: Kill Team\, Necromunda\, Warcry\, etc? Well on Tuesday nights we got you covered! Come on down and play some of your favorite small scale miniature games\, or even try out a new one!
URL:https://afk.games/event/open-skirmish-games/2025-01-01/
LOCATION:AFK Games\, 2495 Cedar Street STE 14-B\, Holt\, MI\, 48842\, United States
CATEGORIES:Events,Games Workshop,Kill Team,Killwager,Warhammer 40K
ORGANIZER;CN="AFK Games":MAILTO:support@afk-games.com
END:VEVENT
BEGIN:VEVENT
DTSTART;TZID=America/Detroit:20241225T180000
DTEND;TZID=America/Detroit:20241225T210000
DTSTAMP:20260422T225811
CREATED:20221119T010216Z
LAST-MODIFIED:20260122T224620Z
UID:10005709-1735149600-1735160400@afk.games
SUMMARY:Open Skirmish Games
DESCRIPTION:Have an itch to play some skirmish games like Warhammer 40K: Kill Team\, Necromunda\, Warcry\, etc? Well on Tuesday nights we got you covered! Come on down and play some of your favorite small scale miniature games\, or even try out a new one!
URL:https://afk.games/event/open-skirmish-games/2024-12-25/
LOCATION:AFK Games\, 2495 Cedar Street STE 14-B\, Holt\, MI\, 48842\, United States
CATEGORIES:Events,Games Workshop,Kill Team,Killwager,Warhammer 40K
ORGANIZER;CN="AFK Games":MAILTO:support@afk-games.com
END:VEVENT
BEGIN:VEVENT
DTSTART;TZID=America/Detroit:20241218T180000
DTEND;TZID=America/Detroit:20241218T210000
DTSTAMP:20260422T225811
CREATED:20221119T010216Z
LAST-MODIFIED:20260122T224620Z
UID:10005708-1734544800-1734555600@afk.games
SUMMARY:Open Skirmish Games
DESCRIPTION:Have an itch to play some skirmish games like Warhammer 40K: Kill Team\, Necromunda\, Warcry\, etc? Well on Tuesday nights we got you covered! Come on down and play some of your favorite small scale miniature games\, or even try out a new one!
URL:https://afk.games/event/open-skirmish-games/2024-12-18/
LOCATION:AFK Games\, 2495 Cedar Street STE 14-B\, Holt\, MI\, 48842\, United States
CATEGORIES:Events,Games Workshop,Kill Team,Killwager,Warhammer 40K
ORGANIZER;CN="AFK Games":MAILTO:support@afk-games.com
END:VEVENT
BEGIN:VEVENT
DTSTART;TZID=America/Detroit:20241211T180000
DTEND;TZID=America/Detroit:20241211T210000
DTSTAMP:20260422T225811
CREATED:20221119T010216Z
LAST-MODIFIED:20260122T224620Z
UID:10005707-1733940000-1733950800@afk.games
SUMMARY:Open Skirmish Games
DESCRIPTION:Have an itch to play some skirmish games like Warhammer 40K: Kill Team\, Necromunda\, Warcry\, etc? Well on Tuesday nights we got you covered! Come on down and play some of your favorite small scale miniature games\, or even try out a new one!
URL:https://afk.games/event/open-skirmish-games/2024-12-11/
LOCATION:AFK Games\, 2495 Cedar Street STE 14-B\, Holt\, MI\, 48842\, United States
CATEGORIES:Events,Games Workshop,Kill Team,Killwager,Warhammer 40K
ORGANIZER;CN="AFK Games":MAILTO:support@afk-games.com
END:VEVENT
BEGIN:VEVENT
DTSTART;TZID=America/Detroit:20241204T180000
DTEND;TZID=America/Detroit:20241204T210000
DTSTAMP:20260422T225811
CREATED:20221119T010216Z
LAST-MODIFIED:20260122T224620Z
UID:10005706-1733335200-1733346000@afk.games
SUMMARY:Open Skirmish Games
DESCRIPTION:Have an itch to play some skirmish games like Warhammer 40K: Kill Team\, Necromunda\, Warcry\, etc? Well on Tuesday nights we got you covered! Come on down and play some of your favorite small scale miniature games\, or even try out a new one!
URL:https://afk.games/event/open-skirmish-games/2024-12-04/
LOCATION:AFK Games\, 2495 Cedar Street STE 14-B\, Holt\, MI\, 48842\, United States
CATEGORIES:Events,Games Workshop,Kill Team,Killwager,Warhammer 40K
ORGANIZER;CN="AFK Games":MAILTO:support@afk-games.com
END:VEVENT
BEGIN:VEVENT
DTSTART;TZID=America/Detroit:20241127T180000
DTEND;TZID=America/Detroit:20241127T210000
DTSTAMP:20260422T225811
CREATED:20221119T010216Z
LAST-MODIFIED:20260122T224620Z
UID:10005705-1732730400-1732741200@afk.games
SUMMARY:Open Skirmish Games
DESCRIPTION:Have an itch to play some skirmish games like Warhammer 40K: Kill Team\, Necromunda\, Warcry\, etc? Well on Tuesday nights we got you covered! Come on down and play some of your favorite small scale miniature games\, or even try out a new one!
URL:https://afk.games/event/open-skirmish-games/2024-11-27/
LOCATION:AFK Games\, 2495 Cedar Street STE 14-B\, Holt\, MI\, 48842\, United States
CATEGORIES:Events,Games Workshop,Kill Team,Killwager,Warhammer 40K
ORGANIZER;CN="AFK Games":MAILTO:support@afk-games.com
END:VEVENT
BEGIN:VEVENT
DTSTART;TZID=America/Detroit:20241120T180000
DTEND;TZID=America/Detroit:20241120T210000
DTSTAMP:20260422T225811
CREATED:20221119T010216Z
LAST-MODIFIED:20260122T224620Z
UID:10005704-1732125600-1732136400@afk.games
SUMMARY:Open Skirmish Games
DESCRIPTION:Have an itch to play some skirmish games like Warhammer 40K: Kill Team\, Necromunda\, Warcry\, etc? Well on Tuesday nights we got you covered! Come on down and play some of your favorite small scale miniature games\, or even try out a new one!
URL:https://afk.games/event/open-skirmish-games/2024-11-20/
LOCATION:AFK Games\, 2495 Cedar Street STE 14-B\, Holt\, MI\, 48842\, United States
CATEGORIES:Events,Games Workshop,Kill Team,Killwager,Warhammer 40K
ORGANIZER;CN="AFK Games":MAILTO:support@afk-games.com
END:VEVENT
BEGIN:VEVENT
DTSTART;TZID=America/Detroit:20241113T180000
DTEND;TZID=America/Detroit:20241113T210000
DTSTAMP:20260422T225811
CREATED:20221119T010216Z
LAST-MODIFIED:20260122T224620Z
UID:10005703-1731520800-1731531600@afk.games
SUMMARY:Open Skirmish Games
DESCRIPTION:Have an itch to play some skirmish games like Warhammer 40K: Kill Team\, Necromunda\, Warcry\, etc? Well on Tuesday nights we got you covered! Come on down and play some of your favorite small scale miniature games\, or even try out a new one!
URL:https://afk.games/event/open-skirmish-games/2024-11-13/
LOCATION:AFK Games\, 2495 Cedar Street STE 14-B\, Holt\, MI\, 48842\, United States
CATEGORIES:Events,Games Workshop,Kill Team,Killwager,Warhammer 40K
ORGANIZER;CN="AFK Games":MAILTO:support@afk-games.com
END:VEVENT
BEGIN:VEVENT
DTSTART;TZID=America/Detroit:20241106T180000
DTEND;TZID=America/Detroit:20241106T210000
DTSTAMP:20260422T225811
CREATED:20221119T010216Z
LAST-MODIFIED:20260122T224620Z
UID:10005702-1730916000-1730926800@afk.games
SUMMARY:Open Skirmish Games
DESCRIPTION:Have an itch to play some skirmish games like Warhammer 40K: Kill Team\, Necromunda\, Warcry\, etc? Well on Tuesday nights we got you covered! Come on down and play some of your favorite small scale miniature games\, or even try out a new one!
URL:https://afk.games/event/open-skirmish-games/2024-11-06/
LOCATION:AFK Games\, 2495 Cedar Street STE 14-B\, Holt\, MI\, 48842\, United States
CATEGORIES:Events,Games Workshop,Kill Team,Killwager,Warhammer 40K
ORGANIZER;CN="AFK Games":MAILTO:support@afk-games.com
END:VEVENT
BEGIN:VEVENT
DTSTART;TZID=America/Detroit:20241030T180000
DTEND;TZID=America/Detroit:20241030T210000
DTSTAMP:20260422T225811
CREATED:20221119T010216Z
LAST-MODIFIED:20260122T224620Z
UID:10005701-1730311200-1730322000@afk.games
SUMMARY:Open Skirmish Games
DESCRIPTION:Have an itch to play some skirmish games like Warhammer 40K: Kill Team\, Necromunda\, Warcry\, etc? Well on Tuesday nights we got you covered! Come on down and play some of your favorite small scale miniature games\, or even try out a new one!
URL:https://afk.games/event/open-skirmish-games/2024-10-30/
LOCATION:AFK Games\, 2495 Cedar Street STE 14-B\, Holt\, MI\, 48842\, United States
CATEGORIES:Events,Games Workshop,Kill Team,Killwager,Warhammer 40K
ORGANIZER;CN="AFK Games":MAILTO:support@afk-games.com
END:VEVENT
BEGIN:VEVENT
DTSTART;TZID=America/Detroit:20241023T180000
DTEND;TZID=America/Detroit:20241023T210000
DTSTAMP:20260422T225811
CREATED:20221119T010216Z
LAST-MODIFIED:20260122T224620Z
UID:10005700-1729706400-1729717200@afk.games
SUMMARY:Open Skirmish Games
DESCRIPTION:Have an itch to play some skirmish games like Warhammer 40K: Kill Team\, Necromunda\, Warcry\, etc? Well on Tuesday nights we got you covered! Come on down and play some of your favorite small scale miniature games\, or even try out a new one!
URL:https://afk.games/event/open-skirmish-games/2024-10-23/
LOCATION:AFK Games\, 2495 Cedar Street STE 14-B\, Holt\, MI\, 48842\, United States
CATEGORIES:Events,Games Workshop,Kill Team,Killwager,Warhammer 40K
ORGANIZER;CN="AFK Games":MAILTO:support@afk-games.com
END:VEVENT
BEGIN:VEVENT
DTSTART;TZID=America/Detroit:20241016T180000
DTEND;TZID=America/Detroit:20241016T210000
DTSTAMP:20260422T225811
CREATED:20221119T010216Z
LAST-MODIFIED:20260122T224620Z
UID:10005699-1729101600-1729112400@afk.games
SUMMARY:Open Skirmish Games
DESCRIPTION:Have an itch to play some skirmish games like Warhammer 40K: Kill Team\, Necromunda\, Warcry\, etc? Well on Tuesday nights we got you covered! Come on down and play some of your favorite small scale miniature games\, or even try out a new one!
URL:https://afk.games/event/open-skirmish-games/2024-10-16/
LOCATION:AFK Games\, 2495 Cedar Street STE 14-B\, Holt\, MI\, 48842\, United States
CATEGORIES:Events,Games Workshop,Kill Team,Killwager,Warhammer 40K
ORGANIZER;CN="AFK Games":MAILTO:support@afk-games.com
END:VEVENT
BEGIN:VEVENT
DTSTART;TZID=America/Detroit:20241009T180000
DTEND;TZID=America/Detroit:20241009T210000
DTSTAMP:20260422T225811
CREATED:20221119T010216Z
LAST-MODIFIED:20260122T224620Z
UID:10005698-1728496800-1728507600@afk.games
SUMMARY:Open Skirmish Games
DESCRIPTION:Have an itch to play some skirmish games like Warhammer 40K: Kill Team\, Necromunda\, Warcry\, etc? Well on Tuesday nights we got you covered! Come on down and play some of your favorite small scale miniature games\, or even try out a new one!
URL:https://afk.games/event/open-skirmish-games/2024-10-09/
LOCATION:AFK Games\, 2495 Cedar Street STE 14-B\, Holt\, MI\, 48842\, United States
CATEGORIES:Events,Games Workshop,Kill Team,Killwager,Warhammer 40K
ORGANIZER;CN="AFK Games":MAILTO:support@afk-games.com
END:VEVENT
BEGIN:VEVENT
DTSTART;TZID=America/Detroit:20241002T180000
DTEND;TZID=America/Detroit:20241002T210000
DTSTAMP:20260422T225811
CREATED:20221119T010216Z
LAST-MODIFIED:20260122T224620Z
UID:10005697-1727892000-1727902800@afk.games
SUMMARY:Open Skirmish Games
DESCRIPTION:Have an itch to play some skirmish games like Warhammer 40K: Kill Team\, Necromunda\, Warcry\, etc? Well on Tuesday nights we got you covered! Come on down and play some of your favorite small scale miniature games\, or even try out a new one!
URL:https://afk.games/event/open-skirmish-games/2024-10-02/
LOCATION:AFK Games\, 2495 Cedar Street STE 14-B\, Holt\, MI\, 48842\, United States
CATEGORIES:Events,Games Workshop,Kill Team,Killwager,Warhammer 40K
ORGANIZER;CN="AFK Games":MAILTO:support@afk-games.com
END:VEVENT
BEGIN:VEVENT
DTSTART;TZID=America/Detroit:20240925T180000
DTEND;TZID=America/Detroit:20240925T210000
DTSTAMP:20260422T225811
CREATED:20221119T010216Z
LAST-MODIFIED:20260122T224620Z
UID:10005696-1727287200-1727298000@afk.games
SUMMARY:Open Skirmish Games
DESCRIPTION:Have an itch to play some skirmish games like Warhammer 40K: Kill Team\, Necromunda\, Warcry\, etc? Well on Tuesday nights we got you covered! Come on down and play some of your favorite small scale miniature games\, or even try out a new one!
URL:https://afk.games/event/open-skirmish-games/2024-09-25/
LOCATION:AFK Games\, 2495 Cedar Street STE 14-B\, Holt\, MI\, 48842\, United States
CATEGORIES:Events,Games Workshop,Kill Team,Killwager,Warhammer 40K
ORGANIZER;CN="AFK Games":MAILTO:support@afk-games.com
END:VEVENT
BEGIN:VEVENT
DTSTART;TZID=America/Detroit:20240918T180000
DTEND;TZID=America/Detroit:20240918T210000
DTSTAMP:20260422T225811
CREATED:20221119T010216Z
LAST-MODIFIED:20260122T224620Z
UID:10005695-1726682400-1726693200@afk.games
SUMMARY:Open Skirmish Games
DESCRIPTION:Have an itch to play some skirmish games like Warhammer 40K: Kill Team\, Necromunda\, Warcry\, etc? Well on Tuesday nights we got you covered! Come on down and play some of your favorite small scale miniature games\, or even try out a new one!
URL:https://afk.games/event/open-skirmish-games/2024-09-18/
LOCATION:AFK Games\, 2495 Cedar Street STE 14-B\, Holt\, MI\, 48842\, United States
CATEGORIES:Events,Games Workshop,Kill Team,Killwager,Warhammer 40K
ORGANIZER;CN="AFK Games":MAILTO:support@afk-games.com
END:VEVENT
BEGIN:VEVENT
DTSTART;TZID=America/Detroit:20240911T180000
DTEND;TZID=America/Detroit:20240911T210000
DTSTAMP:20260422T225811
CREATED:20221119T010216Z
LAST-MODIFIED:20260122T224620Z
UID:10005694-1726077600-1726088400@afk.games
SUMMARY:Open Skirmish Games
DESCRIPTION:Have an itch to play some skirmish games like Warhammer 40K: Kill Team\, Necromunda\, Warcry\, etc? Well on Tuesday nights we got you covered! Come on down and play some of your favorite small scale miniature games\, or even try out a new one!
URL:https://afk.games/event/open-skirmish-games/2024-09-11/
LOCATION:AFK Games\, 2495 Cedar Street STE 14-B\, Holt\, MI\, 48842\, United States
CATEGORIES:Events,Games Workshop,Kill Team,Killwager,Warhammer 40K
ORGANIZER;CN="AFK Games":MAILTO:support@afk-games.com
END:VEVENT
BEGIN:VEVENT
DTSTART;TZID=America/Detroit:20240904T180000
DTEND;TZID=America/Detroit:20240904T210000
DTSTAMP:20260422T225811
CREATED:20221119T010216Z
LAST-MODIFIED:20260122T224620Z
UID:10005693-1725472800-1725483600@afk.games
SUMMARY:Open Skirmish Games
DESCRIPTION:Have an itch to play some skirmish games like Warhammer 40K: Kill Team\, Necromunda\, Warcry\, etc? Well on Tuesday nights we got you covered! Come on down and play some of your favorite small scale miniature games\, or even try out a new one!
URL:https://afk.games/event/open-skirmish-games/2024-09-04/
LOCATION:AFK Games\, 2495 Cedar Street STE 14-B\, Holt\, MI\, 48842\, United States
CATEGORIES:Events,Games Workshop,Kill Team,Killwager,Warhammer 40K
ORGANIZER;CN="AFK Games":MAILTO:support@afk-games.com
END:VEVENT
BEGIN:VEVENT
DTSTART;TZID=America/Detroit:20240828T180000
DTEND;TZID=America/Detroit:20240828T210000
DTSTAMP:20260422T225811
CREATED:20221119T010216Z
LAST-MODIFIED:20260122T224620Z
UID:10005692-1724868000-1724878800@afk.games
SUMMARY:Open Skirmish Games
DESCRIPTION:Have an itch to play some skirmish games like Warhammer 40K: Kill Team\, Necromunda\, Warcry\, etc? Well on Tuesday nights we got you covered! Come on down and play some of your favorite small scale miniature games\, or even try out a new one!
URL:https://afk.games/event/open-skirmish-games/2024-08-28/
LOCATION:AFK Games\, 2495 Cedar Street STE 14-B\, Holt\, MI\, 48842\, United States
CATEGORIES:Events,Games Workshop,Kill Team,Killwager,Warhammer 40K
ORGANIZER;CN="AFK Games":MAILTO:support@afk-games.com
END:VEVENT
BEGIN:VEVENT
DTSTART;TZID=America/Detroit:20240821T180000
DTEND;TZID=America/Detroit:20240821T210000
DTSTAMP:20260422T225811
CREATED:20221119T010216Z
LAST-MODIFIED:20260122T224620Z
UID:10005691-1724263200-1724274000@afk.games
SUMMARY:Open Skirmish Games
DESCRIPTION:Have an itch to play some skirmish games like Warhammer 40K: Kill Team\, Necromunda\, Warcry\, etc? Well on Tuesday nights we got you covered! Come on down and play some of your favorite small scale miniature games\, or even try out a new one!
URL:https://afk.games/event/open-skirmish-games/2024-08-21/
LOCATION:AFK Games\, 2495 Cedar Street STE 14-B\, Holt\, MI\, 48842\, United States
CATEGORIES:Events,Games Workshop,Kill Team,Killwager,Warhammer 40K
ORGANIZER;CN="AFK Games":MAILTO:support@afk-games.com
END:VEVENT
BEGIN:VEVENT
DTSTART;TZID=America/Detroit:20240814T180000
DTEND;TZID=America/Detroit:20240814T210000
DTSTAMP:20260422T225811
CREATED:20221119T010216Z
LAST-MODIFIED:20260122T224620Z
UID:10005690-1723658400-1723669200@afk.games
SUMMARY:Open Skirmish Games
DESCRIPTION:Have an itch to play some skirmish games like Warhammer 40K: Kill Team\, Necromunda\, Warcry\, etc? Well on Tuesday nights we got you covered! Come on down and play some of your favorite small scale miniature games\, or even try out a new one!
URL:https://afk.games/event/open-skirmish-games/2024-08-14/
LOCATION:AFK Games\, 2495 Cedar Street STE 14-B\, Holt\, MI\, 48842\, United States
CATEGORIES:Events,Games Workshop,Kill Team,Killwager,Warhammer 40K
ORGANIZER;CN="AFK Games":MAILTO:support@afk-games.com
END:VEVENT
BEGIN:VEVENT
DTSTART;TZID=America/Detroit:20240807T180000
DTEND;TZID=America/Detroit:20240807T210000
DTSTAMP:20260422T225811
CREATED:20221119T010216Z
LAST-MODIFIED:20260122T224620Z
UID:10005689-1723053600-1723064400@afk.games
SUMMARY:Open Skirmish Games
DESCRIPTION:Have an itch to play some skirmish games like Warhammer 40K: Kill Team\, Necromunda\, Warcry\, etc? Well on Tuesday nights we got you covered! Come on down and play some of your favorite small scale miniature games\, or even try out a new one!
URL:https://afk.games/event/open-skirmish-games/2024-08-07/
LOCATION:AFK Games\, 2495 Cedar Street STE 14-B\, Holt\, MI\, 48842\, United States
CATEGORIES:Events,Games Workshop,Kill Team,Killwager,Warhammer 40K
ORGANIZER;CN="AFK Games":MAILTO:support@afk-games.com
END:VEVENT
END:VCALENDAR