BEGIN:VCALENDAR
VERSION:2.0
PRODID:-//AFK Games - ECPv6.15.20//NONSGML v1.0//EN
CALSCALE:GREGORIAN
METHOD:PUBLISH
X-WR-CALNAME:AFK Games
X-ORIGINAL-URL:https://afk.games
X-WR-CALDESC:Events for AFK Games
REFRESH-INTERVAL;VALUE=DURATION:PT1H
X-Robots-Tag:noindex
X-PUBLISHED-TTL:PT1H
BEGIN:VTIMEZONE
TZID:America/Detroit
BEGIN:DAYLIGHT
TZOFFSETFROM:-0500
TZOFFSETTO:-0400
TZNAME:EDT
DTSTART:20240310T070000
END:DAYLIGHT
BEGIN:STANDARD
TZOFFSETFROM:-0400
TZOFFSETTO:-0500
TZNAME:EST
DTSTART:20241103T060000
END:STANDARD
BEGIN:DAYLIGHT
TZOFFSETFROM:-0500
TZOFFSETTO:-0400
TZNAME:EDT
DTSTART:20250309T070000
END:DAYLIGHT
BEGIN:STANDARD
TZOFFSETFROM:-0400
TZOFFSETTO:-0500
TZNAME:EST
DTSTART:20251102T060000
END:STANDARD
BEGIN:DAYLIGHT
TZOFFSETFROM:-0500
TZOFFSETTO:-0400
TZNAME:EDT
DTSTART:20260308T070000
END:DAYLIGHT
BEGIN:STANDARD
TZOFFSETFROM:-0400
TZOFFSETTO:-0500
TZNAME:EST
DTSTART:20261101T060000
END:STANDARD
END:VTIMEZONE
BEGIN:VEVENT
DTSTART;TZID=America/Detroit:20251126T180000
DTEND;TZID=America/Detroit:20251126T210000
DTSTAMP:20260422T002608
CREATED:20221119T010216Z
LAST-MODIFIED:20260122T224620Z
UID:10005757-1764180000-1764190800@afk.games
SUMMARY:Open Skirmish Games
DESCRIPTION:Have an itch to play some skirmish games like Warhammer 40K: Kill Team\, Necromunda\, Warcry\, etc? Well on Tuesday nights we got you covered! Come on down and play some of your favorite small scale miniature games\, or even try out a new one!
URL:https://afk.games/event/open-skirmish-games/2025-11-26/
LOCATION:AFK Games\, 2495 Cedar Street STE 14-B\, Holt\, MI\, 48842\, United States
CATEGORIES:Events,Games Workshop,Kill Team,Killwager,Warhammer 40K
ORGANIZER;CN="AFK Games":MAILTO:support@afk-games.com
END:VEVENT
BEGIN:VEVENT
DTSTART;TZID=America/Detroit:20251119T180000
DTEND;TZID=America/Detroit:20251119T210000
DTSTAMP:20260422T002608
CREATED:20221119T010216Z
LAST-MODIFIED:20260122T224620Z
UID:10005756-1763575200-1763586000@afk.games
SUMMARY:Open Skirmish Games
DESCRIPTION:Have an itch to play some skirmish games like Warhammer 40K: Kill Team\, Necromunda\, Warcry\, etc? Well on Tuesday nights we got you covered! Come on down and play some of your favorite small scale miniature games\, or even try out a new one!
URL:https://afk.games/event/open-skirmish-games/2025-11-19/
LOCATION:AFK Games\, 2495 Cedar Street STE 14-B\, Holt\, MI\, 48842\, United States
CATEGORIES:Events,Games Workshop,Kill Team,Killwager,Warhammer 40K
ORGANIZER;CN="AFK Games":MAILTO:support@afk-games.com
END:VEVENT
BEGIN:VEVENT
DTSTART;TZID=America/Detroit:20251112T180000
DTEND;TZID=America/Detroit:20251112T210000
DTSTAMP:20260422T002608
CREATED:20221119T010216Z
LAST-MODIFIED:20260122T224620Z
UID:10005755-1762970400-1762981200@afk.games
SUMMARY:Open Skirmish Games
DESCRIPTION:Have an itch to play some skirmish games like Warhammer 40K: Kill Team\, Necromunda\, Warcry\, etc? Well on Tuesday nights we got you covered! Come on down and play some of your favorite small scale miniature games\, or even try out a new one!
URL:https://afk.games/event/open-skirmish-games/2025-11-12/
LOCATION:AFK Games\, 2495 Cedar Street STE 14-B\, Holt\, MI\, 48842\, United States
CATEGORIES:Events,Games Workshop,Kill Team,Killwager,Warhammer 40K
ORGANIZER;CN="AFK Games":MAILTO:support@afk-games.com
END:VEVENT
BEGIN:VEVENT
DTSTART;TZID=America/Detroit:20251105T180000
DTEND;TZID=America/Detroit:20251105T210000
DTSTAMP:20260422T002608
CREATED:20221119T010216Z
LAST-MODIFIED:20260122T224620Z
UID:10005754-1762365600-1762376400@afk.games
SUMMARY:Open Skirmish Games
DESCRIPTION:Have an itch to play some skirmish games like Warhammer 40K: Kill Team\, Necromunda\, Warcry\, etc? Well on Tuesday nights we got you covered! Come on down and play some of your favorite small scale miniature games\, or even try out a new one!
URL:https://afk.games/event/open-skirmish-games/2025-11-05/
LOCATION:AFK Games\, 2495 Cedar Street STE 14-B\, Holt\, MI\, 48842\, United States
CATEGORIES:Events,Games Workshop,Kill Team,Killwager,Warhammer 40K
ORGANIZER;CN="AFK Games":MAILTO:support@afk-games.com
END:VEVENT
BEGIN:VEVENT
DTSTART;TZID=America/Detroit:20251029T180000
DTEND;TZID=America/Detroit:20251029T210000
DTSTAMP:20260422T002608
CREATED:20221119T010216Z
LAST-MODIFIED:20260122T224620Z
UID:10005753-1761760800-1761771600@afk.games
SUMMARY:Open Skirmish Games
DESCRIPTION:Have an itch to play some skirmish games like Warhammer 40K: Kill Team\, Necromunda\, Warcry\, etc? Well on Tuesday nights we got you covered! Come on down and play some of your favorite small scale miniature games\, or even try out a new one!
URL:https://afk.games/event/open-skirmish-games/2025-10-29/
LOCATION:AFK Games\, 2495 Cedar Street STE 14-B\, Holt\, MI\, 48842\, United States
CATEGORIES:Events,Games Workshop,Kill Team,Killwager,Warhammer 40K
ORGANIZER;CN="AFK Games":MAILTO:support@afk-games.com
END:VEVENT
BEGIN:VEVENT
DTSTART;TZID=America/Detroit:20251022T180000
DTEND;TZID=America/Detroit:20251022T210000
DTSTAMP:20260422T002608
CREATED:20221119T010216Z
LAST-MODIFIED:20260122T224620Z
UID:10005752-1761156000-1761166800@afk.games
SUMMARY:Open Skirmish Games
DESCRIPTION:Have an itch to play some skirmish games like Warhammer 40K: Kill Team\, Necromunda\, Warcry\, etc? Well on Tuesday nights we got you covered! Come on down and play some of your favorite small scale miniature games\, or even try out a new one!
URL:https://afk.games/event/open-skirmish-games/2025-10-22/
LOCATION:AFK Games\, 2495 Cedar Street STE 14-B\, Holt\, MI\, 48842\, United States
CATEGORIES:Events,Games Workshop,Kill Team,Killwager,Warhammer 40K
ORGANIZER;CN="AFK Games":MAILTO:support@afk-games.com
END:VEVENT
BEGIN:VEVENT
DTSTART;TZID=America/Detroit:20251015T180000
DTEND;TZID=America/Detroit:20251015T210000
DTSTAMP:20260422T002608
CREATED:20221119T010216Z
LAST-MODIFIED:20260122T224620Z
UID:10005751-1760551200-1760562000@afk.games
SUMMARY:Open Skirmish Games
DESCRIPTION:Have an itch to play some skirmish games like Warhammer 40K: Kill Team\, Necromunda\, Warcry\, etc? Well on Tuesday nights we got you covered! Come on down and play some of your favorite small scale miniature games\, or even try out a new one!
URL:https://afk.games/event/open-skirmish-games/2025-10-15/
LOCATION:AFK Games\, 2495 Cedar Street STE 14-B\, Holt\, MI\, 48842\, United States
CATEGORIES:Events,Games Workshop,Kill Team,Killwager,Warhammer 40K
ORGANIZER;CN="AFK Games":MAILTO:support@afk-games.com
END:VEVENT
BEGIN:VEVENT
DTSTART;TZID=America/Detroit:20251008T180000
DTEND;TZID=America/Detroit:20251008T210000
DTSTAMP:20260422T002608
CREATED:20221119T010216Z
LAST-MODIFIED:20260122T224620Z
UID:10005750-1759946400-1759957200@afk.games
SUMMARY:Open Skirmish Games
DESCRIPTION:Have an itch to play some skirmish games like Warhammer 40K: Kill Team\, Necromunda\, Warcry\, etc? Well on Tuesday nights we got you covered! Come on down and play some of your favorite small scale miniature games\, or even try out a new one!
URL:https://afk.games/event/open-skirmish-games/2025-10-08/
LOCATION:AFK Games\, 2495 Cedar Street STE 14-B\, Holt\, MI\, 48842\, United States
CATEGORIES:Events,Games Workshop,Kill Team,Killwager,Warhammer 40K
ORGANIZER;CN="AFK Games":MAILTO:support@afk-games.com
END:VEVENT
BEGIN:VEVENT
DTSTART;TZID=America/Detroit:20251001T180000
DTEND;TZID=America/Detroit:20251001T210000
DTSTAMP:20260422T002608
CREATED:20221119T010216Z
LAST-MODIFIED:20260122T224620Z
UID:10005749-1759341600-1759352400@afk.games
SUMMARY:Open Skirmish Games
DESCRIPTION:Have an itch to play some skirmish games like Warhammer 40K: Kill Team\, Necromunda\, Warcry\, etc? Well on Tuesday nights we got you covered! Come on down and play some of your favorite small scale miniature games\, or even try out a new one!
URL:https://afk.games/event/open-skirmish-games/2025-10-01/
LOCATION:AFK Games\, 2495 Cedar Street STE 14-B\, Holt\, MI\, 48842\, United States
CATEGORIES:Events,Games Workshop,Kill Team,Killwager,Warhammer 40K
ORGANIZER;CN="AFK Games":MAILTO:support@afk-games.com
END:VEVENT
BEGIN:VEVENT
DTSTART;TZID=America/Detroit:20250924T180000
DTEND;TZID=America/Detroit:20250924T210000
DTSTAMP:20260422T002608
CREATED:20221119T010216Z
LAST-MODIFIED:20260122T224620Z
UID:10005748-1758736800-1758747600@afk.games
SUMMARY:Open Skirmish Games
DESCRIPTION:Have an itch to play some skirmish games like Warhammer 40K: Kill Team\, Necromunda\, Warcry\, etc? Well on Tuesday nights we got you covered! Come on down and play some of your favorite small scale miniature games\, or even try out a new one!
URL:https://afk.games/event/open-skirmish-games/2025-09-24/
LOCATION:AFK Games\, 2495 Cedar Street STE 14-B\, Holt\, MI\, 48842\, United States
CATEGORIES:Events,Games Workshop,Kill Team,Killwager,Warhammer 40K
ORGANIZER;CN="AFK Games":MAILTO:support@afk-games.com
END:VEVENT
BEGIN:VEVENT
DTSTART;TZID=America/Detroit:20250917T180000
DTEND;TZID=America/Detroit:20250917T210000
DTSTAMP:20260422T002608
CREATED:20221119T010216Z
LAST-MODIFIED:20260122T224620Z
UID:10005747-1758132000-1758142800@afk.games
SUMMARY:Open Skirmish Games
DESCRIPTION:Have an itch to play some skirmish games like Warhammer 40K: Kill Team\, Necromunda\, Warcry\, etc? Well on Tuesday nights we got you covered! Come on down and play some of your favorite small scale miniature games\, or even try out a new one!
URL:https://afk.games/event/open-skirmish-games/2025-09-17/
LOCATION:AFK Games\, 2495 Cedar Street STE 14-B\, Holt\, MI\, 48842\, United States
CATEGORIES:Events,Games Workshop,Kill Team,Killwager,Warhammer 40K
ORGANIZER;CN="AFK Games":MAILTO:support@afk-games.com
END:VEVENT
BEGIN:VEVENT
DTSTART;TZID=America/Detroit:20250910T180000
DTEND;TZID=America/Detroit:20250910T210000
DTSTAMP:20260422T002608
CREATED:20221119T010216Z
LAST-MODIFIED:20260122T224620Z
UID:10005746-1757527200-1757538000@afk.games
SUMMARY:Open Skirmish Games
DESCRIPTION:Have an itch to play some skirmish games like Warhammer 40K: Kill Team\, Necromunda\, Warcry\, etc? Well on Tuesday nights we got you covered! Come on down and play some of your favorite small scale miniature games\, or even try out a new one!
URL:https://afk.games/event/open-skirmish-games/2025-09-10/
LOCATION:AFK Games\, 2495 Cedar Street STE 14-B\, Holt\, MI\, 48842\, United States
CATEGORIES:Events,Games Workshop,Kill Team,Killwager,Warhammer 40K
ORGANIZER;CN="AFK Games":MAILTO:support@afk-games.com
END:VEVENT
BEGIN:VEVENT
DTSTART;TZID=America/Detroit:20250903T180000
DTEND;TZID=America/Detroit:20250903T210000
DTSTAMP:20260422T002608
CREATED:20221119T010216Z
LAST-MODIFIED:20260122T224620Z
UID:10005745-1756922400-1756933200@afk.games
SUMMARY:Open Skirmish Games
DESCRIPTION:Have an itch to play some skirmish games like Warhammer 40K: Kill Team\, Necromunda\, Warcry\, etc? Well on Tuesday nights we got you covered! Come on down and play some of your favorite small scale miniature games\, or even try out a new one!
URL:https://afk.games/event/open-skirmish-games/2025-09-03/
LOCATION:AFK Games\, 2495 Cedar Street STE 14-B\, Holt\, MI\, 48842\, United States
CATEGORIES:Events,Games Workshop,Kill Team,Killwager,Warhammer 40K
ORGANIZER;CN="AFK Games":MAILTO:support@afk-games.com
END:VEVENT
BEGIN:VEVENT
DTSTART;TZID=America/Detroit:20250827T180000
DTEND;TZID=America/Detroit:20250827T210000
DTSTAMP:20260422T002608
CREATED:20221119T010216Z
LAST-MODIFIED:20260122T224620Z
UID:10005744-1756317600-1756328400@afk.games
SUMMARY:Open Skirmish Games
DESCRIPTION:Have an itch to play some skirmish games like Warhammer 40K: Kill Team\, Necromunda\, Warcry\, etc? Well on Tuesday nights we got you covered! Come on down and play some of your favorite small scale miniature games\, or even try out a new one!
URL:https://afk.games/event/open-skirmish-games/2025-08-27/
LOCATION:AFK Games\, 2495 Cedar Street STE 14-B\, Holt\, MI\, 48842\, United States
CATEGORIES:Events,Games Workshop,Kill Team,Killwager,Warhammer 40K
ORGANIZER;CN="AFK Games":MAILTO:support@afk-games.com
END:VEVENT
BEGIN:VEVENT
DTSTART;TZID=America/Detroit:20250820T180000
DTEND;TZID=America/Detroit:20250820T210000
DTSTAMP:20260422T002608
CREATED:20221119T010216Z
LAST-MODIFIED:20260122T224620Z
UID:10005743-1755712800-1755723600@afk.games
SUMMARY:Open Skirmish Games
DESCRIPTION:Have an itch to play some skirmish games like Warhammer 40K: Kill Team\, Necromunda\, Warcry\, etc? Well on Tuesday nights we got you covered! Come on down and play some of your favorite small scale miniature games\, or even try out a new one!
URL:https://afk.games/event/open-skirmish-games/2025-08-20/
LOCATION:AFK Games\, 2495 Cedar Street STE 14-B\, Holt\, MI\, 48842\, United States
CATEGORIES:Events,Games Workshop,Kill Team,Killwager,Warhammer 40K
ORGANIZER;CN="AFK Games":MAILTO:support@afk-games.com
END:VEVENT
BEGIN:VEVENT
DTSTART;TZID=America/Detroit:20250813T180000
DTEND;TZID=America/Detroit:20250813T210000
DTSTAMP:20260422T002608
CREATED:20221119T010216Z
LAST-MODIFIED:20260122T224620Z
UID:10005742-1755108000-1755118800@afk.games
SUMMARY:Open Skirmish Games
DESCRIPTION:Have an itch to play some skirmish games like Warhammer 40K: Kill Team\, Necromunda\, Warcry\, etc? Well on Tuesday nights we got you covered! Come on down and play some of your favorite small scale miniature games\, or even try out a new one!
URL:https://afk.games/event/open-skirmish-games/2025-08-13/
LOCATION:AFK Games\, 2495 Cedar Street STE 14-B\, Holt\, MI\, 48842\, United States
CATEGORIES:Events,Games Workshop,Kill Team,Killwager,Warhammer 40K
ORGANIZER;CN="AFK Games":MAILTO:support@afk-games.com
END:VEVENT
BEGIN:VEVENT
DTSTART;TZID=America/Detroit:20250806T180000
DTEND;TZID=America/Detroit:20250806T210000
DTSTAMP:20260422T002608
CREATED:20221119T010216Z
LAST-MODIFIED:20260122T224620Z
UID:10005741-1754503200-1754514000@afk.games
SUMMARY:Open Skirmish Games
DESCRIPTION:Have an itch to play some skirmish games like Warhammer 40K: Kill Team\, Necromunda\, Warcry\, etc? Well on Tuesday nights we got you covered! Come on down and play some of your favorite small scale miniature games\, or even try out a new one!
URL:https://afk.games/event/open-skirmish-games/2025-08-06/
LOCATION:AFK Games\, 2495 Cedar Street STE 14-B\, Holt\, MI\, 48842\, United States
CATEGORIES:Events,Games Workshop,Kill Team,Killwager,Warhammer 40K
ORGANIZER;CN="AFK Games":MAILTO:support@afk-games.com
END:VEVENT
BEGIN:VEVENT
DTSTART;TZID=America/Detroit:20250730T180000
DTEND;TZID=America/Detroit:20250730T210000
DTSTAMP:20260422T002608
CREATED:20221119T010216Z
LAST-MODIFIED:20260122T224620Z
UID:10005740-1753898400-1753909200@afk.games
SUMMARY:Open Skirmish Games
DESCRIPTION:Have an itch to play some skirmish games like Warhammer 40K: Kill Team\, Necromunda\, Warcry\, etc? Well on Tuesday nights we got you covered! Come on down and play some of your favorite small scale miniature games\, or even try out a new one!
URL:https://afk.games/event/open-skirmish-games/2025-07-30/
LOCATION:AFK Games\, 2495 Cedar Street STE 14-B\, Holt\, MI\, 48842\, United States
CATEGORIES:Events,Games Workshop,Kill Team,Killwager,Warhammer 40K
ORGANIZER;CN="AFK Games":MAILTO:support@afk-games.com
END:VEVENT
BEGIN:VEVENT
DTSTART;TZID=America/Detroit:20250723T180000
DTEND;TZID=America/Detroit:20250723T210000
DTSTAMP:20260422T002608
CREATED:20221119T010216Z
LAST-MODIFIED:20260122T224620Z
UID:10005739-1753293600-1753304400@afk.games
SUMMARY:Open Skirmish Games
DESCRIPTION:Have an itch to play some skirmish games like Warhammer 40K: Kill Team\, Necromunda\, Warcry\, etc? Well on Tuesday nights we got you covered! Come on down and play some of your favorite small scale miniature games\, or even try out a new one!
URL:https://afk.games/event/open-skirmish-games/2025-07-23/
LOCATION:AFK Games\, 2495 Cedar Street STE 14-B\, Holt\, MI\, 48842\, United States
CATEGORIES:Events,Games Workshop,Kill Team,Killwager,Warhammer 40K
ORGANIZER;CN="AFK Games":MAILTO:support@afk-games.com
END:VEVENT
BEGIN:VEVENT
DTSTART;TZID=America/Detroit:20250716T180000
DTEND;TZID=America/Detroit:20250716T210000
DTSTAMP:20260422T002608
CREATED:20221119T010216Z
LAST-MODIFIED:20260122T224620Z
UID:10005738-1752688800-1752699600@afk.games
SUMMARY:Open Skirmish Games
DESCRIPTION:Have an itch to play some skirmish games like Warhammer 40K: Kill Team\, Necromunda\, Warcry\, etc? Well on Tuesday nights we got you covered! Come on down and play some of your favorite small scale miniature games\, or even try out a new one!
URL:https://afk.games/event/open-skirmish-games/2025-07-16/
LOCATION:AFK Games\, 2495 Cedar Street STE 14-B\, Holt\, MI\, 48842\, United States
CATEGORIES:Events,Games Workshop,Kill Team,Killwager,Warhammer 40K
ORGANIZER;CN="AFK Games":MAILTO:support@afk-games.com
END:VEVENT
BEGIN:VEVENT
DTSTART;TZID=America/Detroit:20250709T180000
DTEND;TZID=America/Detroit:20250709T210000
DTSTAMP:20260422T002608
CREATED:20221119T010216Z
LAST-MODIFIED:20260122T224620Z
UID:10005737-1752084000-1752094800@afk.games
SUMMARY:Open Skirmish Games
DESCRIPTION:Have an itch to play some skirmish games like Warhammer 40K: Kill Team\, Necromunda\, Warcry\, etc? Well on Tuesday nights we got you covered! Come on down and play some of your favorite small scale miniature games\, or even try out a new one!
URL:https://afk.games/event/open-skirmish-games/2025-07-09/
LOCATION:AFK Games\, 2495 Cedar Street STE 14-B\, Holt\, MI\, 48842\, United States
CATEGORIES:Events,Games Workshop,Kill Team,Killwager,Warhammer 40K
ORGANIZER;CN="AFK Games":MAILTO:support@afk-games.com
END:VEVENT
BEGIN:VEVENT
DTSTART;TZID=America/Detroit:20250702T180000
DTEND;TZID=America/Detroit:20250702T210000
DTSTAMP:20260422T002608
CREATED:20221119T010216Z
LAST-MODIFIED:20260122T224620Z
UID:10005736-1751479200-1751490000@afk.games
SUMMARY:Open Skirmish Games
DESCRIPTION:Have an itch to play some skirmish games like Warhammer 40K: Kill Team\, Necromunda\, Warcry\, etc? Well on Tuesday nights we got you covered! Come on down and play some of your favorite small scale miniature games\, or even try out a new one!
URL:https://afk.games/event/open-skirmish-games/2025-07-02/
LOCATION:AFK Games\, 2495 Cedar Street STE 14-B\, Holt\, MI\, 48842\, United States
CATEGORIES:Events,Games Workshop,Kill Team,Killwager,Warhammer 40K
ORGANIZER;CN="AFK Games":MAILTO:support@afk-games.com
END:VEVENT
BEGIN:VEVENT
DTSTART;TZID=America/Detroit:20250625T180000
DTEND;TZID=America/Detroit:20250625T210000
DTSTAMP:20260422T002608
CREATED:20221119T010216Z
LAST-MODIFIED:20260122T224620Z
UID:10005735-1750874400-1750885200@afk.games
SUMMARY:Open Skirmish Games
DESCRIPTION:Have an itch to play some skirmish games like Warhammer 40K: Kill Team\, Necromunda\, Warcry\, etc? Well on Tuesday nights we got you covered! Come on down and play some of your favorite small scale miniature games\, or even try out a new one!
URL:https://afk.games/event/open-skirmish-games/2025-06-25/
LOCATION:AFK Games\, 2495 Cedar Street STE 14-B\, Holt\, MI\, 48842\, United States
CATEGORIES:Events,Games Workshop,Kill Team,Killwager,Warhammer 40K
ORGANIZER;CN="AFK Games":MAILTO:support@afk-games.com
END:VEVENT
BEGIN:VEVENT
DTSTART;TZID=America/Detroit:20250618T180000
DTEND;TZID=America/Detroit:20250618T210000
DTSTAMP:20260422T002608
CREATED:20221119T010216Z
LAST-MODIFIED:20260122T224620Z
UID:10005734-1750269600-1750280400@afk.games
SUMMARY:Open Skirmish Games
DESCRIPTION:Have an itch to play some skirmish games like Warhammer 40K: Kill Team\, Necromunda\, Warcry\, etc? Well on Tuesday nights we got you covered! Come on down and play some of your favorite small scale miniature games\, or even try out a new one!
URL:https://afk.games/event/open-skirmish-games/2025-06-18/
LOCATION:AFK Games\, 2495 Cedar Street STE 14-B\, Holt\, MI\, 48842\, United States
CATEGORIES:Events,Games Workshop,Kill Team,Killwager,Warhammer 40K
ORGANIZER;CN="AFK Games":MAILTO:support@afk-games.com
END:VEVENT
BEGIN:VEVENT
DTSTART;TZID=America/Detroit:20250611T180000
DTEND;TZID=America/Detroit:20250611T210000
DTSTAMP:20260422T002608
CREATED:20221119T010216Z
LAST-MODIFIED:20260122T224620Z
UID:10005733-1749664800-1749675600@afk.games
SUMMARY:Open Skirmish Games
DESCRIPTION:Have an itch to play some skirmish games like Warhammer 40K: Kill Team\, Necromunda\, Warcry\, etc? Well on Tuesday nights we got you covered! Come on down and play some of your favorite small scale miniature games\, or even try out a new one!
URL:https://afk.games/event/open-skirmish-games/2025-06-11/
LOCATION:AFK Games\, 2495 Cedar Street STE 14-B\, Holt\, MI\, 48842\, United States
CATEGORIES:Events,Games Workshop,Kill Team,Killwager,Warhammer 40K
ORGANIZER;CN="AFK Games":MAILTO:support@afk-games.com
END:VEVENT
BEGIN:VEVENT
DTSTART;TZID=America/Detroit:20250604T180000
DTEND;TZID=America/Detroit:20250604T210000
DTSTAMP:20260422T002608
CREATED:20221119T010216Z
LAST-MODIFIED:20260122T224620Z
UID:10005732-1749060000-1749070800@afk.games
SUMMARY:Open Skirmish Games
DESCRIPTION:Have an itch to play some skirmish games like Warhammer 40K: Kill Team\, Necromunda\, Warcry\, etc? Well on Tuesday nights we got you covered! Come on down and play some of your favorite small scale miniature games\, or even try out a new one!
URL:https://afk.games/event/open-skirmish-games/2025-06-04/
LOCATION:AFK Games\, 2495 Cedar Street STE 14-B\, Holt\, MI\, 48842\, United States
CATEGORIES:Events,Games Workshop,Kill Team,Killwager,Warhammer 40K
ORGANIZER;CN="AFK Games":MAILTO:support@afk-games.com
END:VEVENT
BEGIN:VEVENT
DTSTART;TZID=America/Detroit:20250528T180000
DTEND;TZID=America/Detroit:20250528T210000
DTSTAMP:20260422T002608
CREATED:20221119T010216Z
LAST-MODIFIED:20260122T224620Z
UID:10005731-1748455200-1748466000@afk.games
SUMMARY:Open Skirmish Games
DESCRIPTION:Have an itch to play some skirmish games like Warhammer 40K: Kill Team\, Necromunda\, Warcry\, etc? Well on Tuesday nights we got you covered! Come on down and play some of your favorite small scale miniature games\, or even try out a new one!
URL:https://afk.games/event/open-skirmish-games/2025-05-28/
LOCATION:AFK Games\, 2495 Cedar Street STE 14-B\, Holt\, MI\, 48842\, United States
CATEGORIES:Events,Games Workshop,Kill Team,Killwager,Warhammer 40K
ORGANIZER;CN="AFK Games":MAILTO:support@afk-games.com
END:VEVENT
BEGIN:VEVENT
DTSTART;TZID=America/Detroit:20250521T180000
DTEND;TZID=America/Detroit:20250521T210000
DTSTAMP:20260422T002608
CREATED:20221119T010216Z
LAST-MODIFIED:20260122T224620Z
UID:10005730-1747850400-1747861200@afk.games
SUMMARY:Open Skirmish Games
DESCRIPTION:Have an itch to play some skirmish games like Warhammer 40K: Kill Team\, Necromunda\, Warcry\, etc? Well on Tuesday nights we got you covered! Come on down and play some of your favorite small scale miniature games\, or even try out a new one!
URL:https://afk.games/event/open-skirmish-games/2025-05-21/
LOCATION:AFK Games\, 2495 Cedar Street STE 14-B\, Holt\, MI\, 48842\, United States
CATEGORIES:Events,Games Workshop,Kill Team,Killwager,Warhammer 40K
ORGANIZER;CN="AFK Games":MAILTO:support@afk-games.com
END:VEVENT
BEGIN:VEVENT
DTSTART;TZID=America/Detroit:20250514T180000
DTEND;TZID=America/Detroit:20250514T210000
DTSTAMP:20260422T002608
CREATED:20221119T010216Z
LAST-MODIFIED:20260122T224620Z
UID:10005729-1747245600-1747256400@afk.games
SUMMARY:Open Skirmish Games
DESCRIPTION:Have an itch to play some skirmish games like Warhammer 40K: Kill Team\, Necromunda\, Warcry\, etc? Well on Tuesday nights we got you covered! Come on down and play some of your favorite small scale miniature games\, or even try out a new one!
URL:https://afk.games/event/open-skirmish-games/2025-05-14/
LOCATION:AFK Games\, 2495 Cedar Street STE 14-B\, Holt\, MI\, 48842\, United States
CATEGORIES:Events,Games Workshop,Kill Team,Killwager,Warhammer 40K
ORGANIZER;CN="AFK Games":MAILTO:support@afk-games.com
END:VEVENT
BEGIN:VEVENT
DTSTART;TZID=America/Detroit:20250507T180000
DTEND;TZID=America/Detroit:20250507T210000
DTSTAMP:20260422T002608
CREATED:20221119T010216Z
LAST-MODIFIED:20260122T224620Z
UID:10005728-1746640800-1746651600@afk.games
SUMMARY:Open Skirmish Games
DESCRIPTION:Have an itch to play some skirmish games like Warhammer 40K: Kill Team\, Necromunda\, Warcry\, etc? Well on Tuesday nights we got you covered! Come on down and play some of your favorite small scale miniature games\, or even try out a new one!
URL:https://afk.games/event/open-skirmish-games/2025-05-07/
LOCATION:AFK Games\, 2495 Cedar Street STE 14-B\, Holt\, MI\, 48842\, United States
CATEGORIES:Events,Games Workshop,Kill Team,Killwager,Warhammer 40K
ORGANIZER;CN="AFK Games":MAILTO:support@afk-games.com
END:VEVENT
END:VCALENDAR