BEGIN:VCALENDAR
VERSION:2.0
PRODID:-//AFK Games - ECPv6.15.20//NONSGML v1.0//EN
CALSCALE:GREGORIAN
METHOD:PUBLISH
X-ORIGINAL-URL:https://afk.games
X-WR-CALDESC:Events for AFK Games
REFRESH-INTERVAL;VALUE=DURATION:PT1H
X-Robots-Tag:noindex
X-PUBLISHED-TTL:PT1H
BEGIN:VTIMEZONE
TZID:America/Detroit
BEGIN:DAYLIGHT
TZOFFSETFROM:-0500
TZOFFSETTO:-0400
TZNAME:EDT
DTSTART:20230312T070000
END:DAYLIGHT
BEGIN:STANDARD
TZOFFSETFROM:-0400
TZOFFSETTO:-0500
TZNAME:EST
DTSTART:20231105T060000
END:STANDARD
BEGIN:DAYLIGHT
TZOFFSETFROM:-0500
TZOFFSETTO:-0400
TZNAME:EDT
DTSTART:20240310T070000
END:DAYLIGHT
BEGIN:STANDARD
TZOFFSETFROM:-0400
TZOFFSETTO:-0500
TZNAME:EST
DTSTART:20241103T060000
END:STANDARD
BEGIN:DAYLIGHT
TZOFFSETFROM:-0500
TZOFFSETTO:-0400
TZNAME:EDT
DTSTART:20250309T070000
END:DAYLIGHT
BEGIN:STANDARD
TZOFFSETFROM:-0400
TZOFFSETTO:-0500
TZNAME:EST
DTSTART:20251102T060000
END:STANDARD
END:VTIMEZONE
BEGIN:VEVENT
DTSTART;TZID=America/Detroit:20240731T180000
DTEND;TZID=America/Detroit:20240731T210000
DTSTAMP:20260423T111739
CREATED:20221119T010216Z
LAST-MODIFIED:20260122T224620Z
UID:10005688-1722448800-1722459600@afk.games
SUMMARY:Open Skirmish Games
DESCRIPTION:Have an itch to play some skirmish games like Warhammer 40K: Kill Team\, Necromunda\, Warcry\, etc? Well on Tuesday nights we got you covered! Come on down and play some of your favorite small scale miniature games\, or even try out a new one!
URL:https://afk.games/event/open-skirmish-games/2024-07-31/
LOCATION:AFK Games\, 2495 Cedar Street STE 14-B\, Holt\, MI\, 48842\, United States
CATEGORIES:Events,Games Workshop,Kill Team,Killwager,Warhammer 40K
ORGANIZER;CN="AFK Games":MAILTO:support@afk-games.com
END:VEVENT
BEGIN:VEVENT
DTSTART;TZID=America/Detroit:20240724T180000
DTEND;TZID=America/Detroit:20240724T210000
DTSTAMP:20260423T111739
CREATED:20221119T010216Z
LAST-MODIFIED:20260122T224620Z
UID:10005687-1721844000-1721854800@afk.games
SUMMARY:Open Skirmish Games
DESCRIPTION:Have an itch to play some skirmish games like Warhammer 40K: Kill Team\, Necromunda\, Warcry\, etc? Well on Tuesday nights we got you covered! Come on down and play some of your favorite small scale miniature games\, or even try out a new one!
URL:https://afk.games/event/open-skirmish-games/2024-07-24/
LOCATION:AFK Games\, 2495 Cedar Street STE 14-B\, Holt\, MI\, 48842\, United States
CATEGORIES:Events,Games Workshop,Kill Team,Killwager,Warhammer 40K
ORGANIZER;CN="AFK Games":MAILTO:support@afk-games.com
END:VEVENT
BEGIN:VEVENT
DTSTART;TZID=America/Detroit:20240717T180000
DTEND;TZID=America/Detroit:20240717T210000
DTSTAMP:20260423T111739
CREATED:20221119T010216Z
LAST-MODIFIED:20260122T224620Z
UID:10005686-1721239200-1721250000@afk.games
SUMMARY:Open Skirmish Games
DESCRIPTION:Have an itch to play some skirmish games like Warhammer 40K: Kill Team\, Necromunda\, Warcry\, etc? Well on Tuesday nights we got you covered! Come on down and play some of your favorite small scale miniature games\, or even try out a new one!
URL:https://afk.games/event/open-skirmish-games/2024-07-17/
LOCATION:AFK Games\, 2495 Cedar Street STE 14-B\, Holt\, MI\, 48842\, United States
CATEGORIES:Events,Games Workshop,Kill Team,Killwager,Warhammer 40K
ORGANIZER;CN="AFK Games":MAILTO:support@afk-games.com
END:VEVENT
BEGIN:VEVENT
DTSTART;TZID=America/Detroit:20240710T180000
DTEND;TZID=America/Detroit:20240710T210000
DTSTAMP:20260423T111739
CREATED:20221119T010216Z
LAST-MODIFIED:20260122T224620Z
UID:10005685-1720634400-1720645200@afk.games
SUMMARY:Open Skirmish Games
DESCRIPTION:Have an itch to play some skirmish games like Warhammer 40K: Kill Team\, Necromunda\, Warcry\, etc? Well on Tuesday nights we got you covered! Come on down and play some of your favorite small scale miniature games\, or even try out a new one!
URL:https://afk.games/event/open-skirmish-games/2024-07-10/
LOCATION:AFK Games\, 2495 Cedar Street STE 14-B\, Holt\, MI\, 48842\, United States
CATEGORIES:Events,Games Workshop,Kill Team,Killwager,Warhammer 40K
ORGANIZER;CN="AFK Games":MAILTO:support@afk-games.com
END:VEVENT
BEGIN:VEVENT
DTSTART;TZID=America/Detroit:20240703T180000
DTEND;TZID=America/Detroit:20240703T210000
DTSTAMP:20260423T111739
CREATED:20221119T010216Z
LAST-MODIFIED:20260122T224620Z
UID:10005684-1720029600-1720040400@afk.games
SUMMARY:Open Skirmish Games
DESCRIPTION:Have an itch to play some skirmish games like Warhammer 40K: Kill Team\, Necromunda\, Warcry\, etc? Well on Tuesday nights we got you covered! Come on down and play some of your favorite small scale miniature games\, or even try out a new one!
URL:https://afk.games/event/open-skirmish-games/2024-07-03/
LOCATION:AFK Games\, 2495 Cedar Street STE 14-B\, Holt\, MI\, 48842\, United States
CATEGORIES:Events,Games Workshop,Kill Team,Killwager,Warhammer 40K
ORGANIZER;CN="AFK Games":MAILTO:support@afk-games.com
END:VEVENT
BEGIN:VEVENT
DTSTART;TZID=America/Detroit:20240626T180000
DTEND;TZID=America/Detroit:20240626T210000
DTSTAMP:20260423T111739
CREATED:20221119T010216Z
LAST-MODIFIED:20260122T224620Z
UID:10005683-1719424800-1719435600@afk.games
SUMMARY:Open Skirmish Games
DESCRIPTION:Have an itch to play some skirmish games like Warhammer 40K: Kill Team\, Necromunda\, Warcry\, etc? Well on Tuesday nights we got you covered! Come on down and play some of your favorite small scale miniature games\, or even try out a new one!
URL:https://afk.games/event/open-skirmish-games/2024-06-26/
LOCATION:AFK Games\, 2495 Cedar Street STE 14-B\, Holt\, MI\, 48842\, United States
CATEGORIES:Events,Games Workshop,Kill Team,Killwager,Warhammer 40K
ORGANIZER;CN="AFK Games":MAILTO:support@afk-games.com
END:VEVENT
BEGIN:VEVENT
DTSTART;TZID=America/Detroit:20240619T180000
DTEND;TZID=America/Detroit:20240619T210000
DTSTAMP:20260423T111739
CREATED:20221119T010216Z
LAST-MODIFIED:20260122T224620Z
UID:10005682-1718820000-1718830800@afk.games
SUMMARY:Open Skirmish Games
DESCRIPTION:Have an itch to play some skirmish games like Warhammer 40K: Kill Team\, Necromunda\, Warcry\, etc? Well on Tuesday nights we got you covered! Come on down and play some of your favorite small scale miniature games\, or even try out a new one!
URL:https://afk.games/event/open-skirmish-games/2024-06-19/
LOCATION:AFK Games\, 2495 Cedar Street STE 14-B\, Holt\, MI\, 48842\, United States
CATEGORIES:Events,Games Workshop,Kill Team,Killwager,Warhammer 40K
ORGANIZER;CN="AFK Games":MAILTO:support@afk-games.com
END:VEVENT
BEGIN:VEVENT
DTSTART;TZID=America/Detroit:20240612T180000
DTEND;TZID=America/Detroit:20240612T210000
DTSTAMP:20260423T111739
CREATED:20221119T010216Z
LAST-MODIFIED:20260122T224620Z
UID:10005681-1718215200-1718226000@afk.games
SUMMARY:Open Skirmish Games
DESCRIPTION:Have an itch to play some skirmish games like Warhammer 40K: Kill Team\, Necromunda\, Warcry\, etc? Well on Tuesday nights we got you covered! Come on down and play some of your favorite small scale miniature games\, or even try out a new one!
URL:https://afk.games/event/open-skirmish-games/2024-06-12/
LOCATION:AFK Games\, 2495 Cedar Street STE 14-B\, Holt\, MI\, 48842\, United States
CATEGORIES:Events,Games Workshop,Kill Team,Killwager,Warhammer 40K
ORGANIZER;CN="AFK Games":MAILTO:support@afk-games.com
END:VEVENT
BEGIN:VEVENT
DTSTART;TZID=America/Detroit:20240605T180000
DTEND;TZID=America/Detroit:20240605T210000
DTSTAMP:20260423T111739
CREATED:20221119T010216Z
LAST-MODIFIED:20260122T224620Z
UID:10005680-1717610400-1717621200@afk.games
SUMMARY:Open Skirmish Games
DESCRIPTION:Have an itch to play some skirmish games like Warhammer 40K: Kill Team\, Necromunda\, Warcry\, etc? Well on Tuesday nights we got you covered! Come on down and play some of your favorite small scale miniature games\, or even try out a new one!
URL:https://afk.games/event/open-skirmish-games/2024-06-05/
LOCATION:AFK Games\, 2495 Cedar Street STE 14-B\, Holt\, MI\, 48842\, United States
CATEGORIES:Events,Games Workshop,Kill Team,Killwager,Warhammer 40K
ORGANIZER;CN="AFK Games":MAILTO:support@afk-games.com
END:VEVENT
BEGIN:VEVENT
DTSTART;TZID=America/Detroit:20240529T180000
DTEND;TZID=America/Detroit:20240529T210000
DTSTAMP:20260423T111739
CREATED:20221119T010216Z
LAST-MODIFIED:20260122T224620Z
UID:10005679-1717005600-1717016400@afk.games
SUMMARY:Open Skirmish Games
DESCRIPTION:Have an itch to play some skirmish games like Warhammer 40K: Kill Team\, Necromunda\, Warcry\, etc? Well on Tuesday nights we got you covered! Come on down and play some of your favorite small scale miniature games\, or even try out a new one!
URL:https://afk.games/event/open-skirmish-games/2024-05-29/
LOCATION:AFK Games\, 2495 Cedar Street STE 14-B\, Holt\, MI\, 48842\, United States
CATEGORIES:Events,Games Workshop,Kill Team,Killwager,Warhammer 40K
ORGANIZER;CN="AFK Games":MAILTO:support@afk-games.com
END:VEVENT
BEGIN:VEVENT
DTSTART;TZID=America/Detroit:20240522T180000
DTEND;TZID=America/Detroit:20240522T210000
DTSTAMP:20260423T111739
CREATED:20221119T010216Z
LAST-MODIFIED:20260122T224620Z
UID:10005678-1716400800-1716411600@afk.games
SUMMARY:Open Skirmish Games
DESCRIPTION:Have an itch to play some skirmish games like Warhammer 40K: Kill Team\, Necromunda\, Warcry\, etc? Well on Tuesday nights we got you covered! Come on down and play some of your favorite small scale miniature games\, or even try out a new one!
URL:https://afk.games/event/open-skirmish-games/2024-05-22/
LOCATION:AFK Games\, 2495 Cedar Street STE 14-B\, Holt\, MI\, 48842\, United States
CATEGORIES:Events,Games Workshop,Kill Team,Killwager,Warhammer 40K
ORGANIZER;CN="AFK Games":MAILTO:support@afk-games.com
END:VEVENT
BEGIN:VEVENT
DTSTART;TZID=America/Detroit:20240515T180000
DTEND;TZID=America/Detroit:20240515T210000
DTSTAMP:20260423T111739
CREATED:20221119T010216Z
LAST-MODIFIED:20260122T224620Z
UID:10005677-1715796000-1715806800@afk.games
SUMMARY:Open Skirmish Games
DESCRIPTION:Have an itch to play some skirmish games like Warhammer 40K: Kill Team\, Necromunda\, Warcry\, etc? Well on Tuesday nights we got you covered! Come on down and play some of your favorite small scale miniature games\, or even try out a new one!
URL:https://afk.games/event/open-skirmish-games/2024-05-15/
LOCATION:AFK Games\, 2495 Cedar Street STE 14-B\, Holt\, MI\, 48842\, United States
CATEGORIES:Events,Games Workshop,Kill Team,Killwager,Warhammer 40K
ORGANIZER;CN="AFK Games":MAILTO:support@afk-games.com
END:VEVENT
BEGIN:VEVENT
DTSTART;TZID=America/Detroit:20240508T180000
DTEND;TZID=America/Detroit:20240508T210000
DTSTAMP:20260423T111739
CREATED:20221119T010216Z
LAST-MODIFIED:20260122T224620Z
UID:10005676-1715191200-1715202000@afk.games
SUMMARY:Open Skirmish Games
DESCRIPTION:Have an itch to play some skirmish games like Warhammer 40K: Kill Team\, Necromunda\, Warcry\, etc? Well on Tuesday nights we got you covered! Come on down and play some of your favorite small scale miniature games\, or even try out a new one!
URL:https://afk.games/event/open-skirmish-games/2024-05-08/
LOCATION:AFK Games\, 2495 Cedar Street STE 14-B\, Holt\, MI\, 48842\, United States
CATEGORIES:Events,Games Workshop,Kill Team,Killwager,Warhammer 40K
ORGANIZER;CN="AFK Games":MAILTO:support@afk-games.com
END:VEVENT
BEGIN:VEVENT
DTSTART;TZID=America/Detroit:20240501T180000
DTEND;TZID=America/Detroit:20240501T210000
DTSTAMP:20260423T111739
CREATED:20221119T010216Z
LAST-MODIFIED:20260122T224620Z
UID:10005675-1714586400-1714597200@afk.games
SUMMARY:Open Skirmish Games
DESCRIPTION:Have an itch to play some skirmish games like Warhammer 40K: Kill Team\, Necromunda\, Warcry\, etc? Well on Tuesday nights we got you covered! Come on down and play some of your favorite small scale miniature games\, or even try out a new one!
URL:https://afk.games/event/open-skirmish-games/2024-05-01/
LOCATION:AFK Games\, 2495 Cedar Street STE 14-B\, Holt\, MI\, 48842\, United States
CATEGORIES:Events,Games Workshop,Kill Team,Killwager,Warhammer 40K
ORGANIZER;CN="AFK Games":MAILTO:support@afk-games.com
END:VEVENT
BEGIN:VEVENT
DTSTART;TZID=America/Detroit:20240424T180000
DTEND;TZID=America/Detroit:20240424T210000
DTSTAMP:20260423T111739
CREATED:20221119T010216Z
LAST-MODIFIED:20260122T224620Z
UID:10005674-1713981600-1713992400@afk.games
SUMMARY:Open Skirmish Games
DESCRIPTION:Have an itch to play some skirmish games like Warhammer 40K: Kill Team\, Necromunda\, Warcry\, etc? Well on Tuesday nights we got you covered! Come on down and play some of your favorite small scale miniature games\, or even try out a new one!
URL:https://afk.games/event/open-skirmish-games/2024-04-24/
LOCATION:AFK Games\, 2495 Cedar Street STE 14-B\, Holt\, MI\, 48842\, United States
CATEGORIES:Events,Games Workshop,Kill Team,Killwager,Warhammer 40K
ORGANIZER;CN="AFK Games":MAILTO:support@afk-games.com
END:VEVENT
BEGIN:VEVENT
DTSTART;TZID=America/Detroit:20240417T180000
DTEND;TZID=America/Detroit:20240417T210000
DTSTAMP:20260423T111739
CREATED:20221119T010216Z
LAST-MODIFIED:20260122T224620Z
UID:10005673-1713376800-1713387600@afk.games
SUMMARY:Open Skirmish Games
DESCRIPTION:Have an itch to play some skirmish games like Warhammer 40K: Kill Team\, Necromunda\, Warcry\, etc? Well on Tuesday nights we got you covered! Come on down and play some of your favorite small scale miniature games\, or even try out a new one!
URL:https://afk.games/event/open-skirmish-games/2024-04-17/
LOCATION:AFK Games\, 2495 Cedar Street STE 14-B\, Holt\, MI\, 48842\, United States
CATEGORIES:Events,Games Workshop,Kill Team,Killwager,Warhammer 40K
ORGANIZER;CN="AFK Games":MAILTO:support@afk-games.com
END:VEVENT
BEGIN:VEVENT
DTSTART;TZID=America/Detroit:20240410T180000
DTEND;TZID=America/Detroit:20240410T210000
DTSTAMP:20260423T111739
CREATED:20221119T010216Z
LAST-MODIFIED:20260122T224620Z
UID:10005672-1712772000-1712782800@afk.games
SUMMARY:Open Skirmish Games
DESCRIPTION:Have an itch to play some skirmish games like Warhammer 40K: Kill Team\, Necromunda\, Warcry\, etc? Well on Tuesday nights we got you covered! Come on down and play some of your favorite small scale miniature games\, or even try out a new one!
URL:https://afk.games/event/open-skirmish-games/2024-04-10/
LOCATION:AFK Games\, 2495 Cedar Street STE 14-B\, Holt\, MI\, 48842\, United States
CATEGORIES:Events,Games Workshop,Kill Team,Killwager,Warhammer 40K
ORGANIZER;CN="AFK Games":MAILTO:support@afk-games.com
END:VEVENT
BEGIN:VEVENT
DTSTART;TZID=America/Detroit:20240403T180000
DTEND;TZID=America/Detroit:20240403T210000
DTSTAMP:20260423T111739
CREATED:20221119T010216Z
LAST-MODIFIED:20260122T224620Z
UID:10005671-1712167200-1712178000@afk.games
SUMMARY:Open Skirmish Games
DESCRIPTION:Have an itch to play some skirmish games like Warhammer 40K: Kill Team\, Necromunda\, Warcry\, etc? Well on Tuesday nights we got you covered! Come on down and play some of your favorite small scale miniature games\, or even try out a new one!
URL:https://afk.games/event/open-skirmish-games/2024-04-03/
LOCATION:AFK Games\, 2495 Cedar Street STE 14-B\, Holt\, MI\, 48842\, United States
CATEGORIES:Events,Games Workshop,Kill Team,Killwager,Warhammer 40K
ORGANIZER;CN="AFK Games":MAILTO:support@afk-games.com
END:VEVENT
BEGIN:VEVENT
DTSTART;TZID=America/Detroit:20240327T180000
DTEND;TZID=America/Detroit:20240327T210000
DTSTAMP:20260423T111739
CREATED:20221119T010216Z
LAST-MODIFIED:20260122T224620Z
UID:10005670-1711562400-1711573200@afk.games
SUMMARY:Open Skirmish Games
DESCRIPTION:Have an itch to play some skirmish games like Warhammer 40K: Kill Team\, Necromunda\, Warcry\, etc? Well on Tuesday nights we got you covered! Come on down and play some of your favorite small scale miniature games\, or even try out a new one!
URL:https://afk.games/event/open-skirmish-games/2024-03-27/
LOCATION:AFK Games\, 2495 Cedar Street STE 14-B\, Holt\, MI\, 48842\, United States
CATEGORIES:Events,Games Workshop,Kill Team,Killwager,Warhammer 40K
ORGANIZER;CN="AFK Games":MAILTO:support@afk-games.com
END:VEVENT
BEGIN:VEVENT
DTSTART;TZID=America/Detroit:20240320T180000
DTEND;TZID=America/Detroit:20240320T210000
DTSTAMP:20260423T111739
CREATED:20221119T010216Z
LAST-MODIFIED:20260122T224620Z
UID:10005669-1710957600-1710968400@afk.games
SUMMARY:Open Skirmish Games
DESCRIPTION:Have an itch to play some skirmish games like Warhammer 40K: Kill Team\, Necromunda\, Warcry\, etc? Well on Tuesday nights we got you covered! Come on down and play some of your favorite small scale miniature games\, or even try out a new one!
URL:https://afk.games/event/open-skirmish-games/2024-03-20/
LOCATION:AFK Games\, 2495 Cedar Street STE 14-B\, Holt\, MI\, 48842\, United States
CATEGORIES:Events,Games Workshop,Kill Team,Killwager,Warhammer 40K
ORGANIZER;CN="AFK Games":MAILTO:support@afk-games.com
END:VEVENT
BEGIN:VEVENT
DTSTART;TZID=America/Detroit:20240313T180000
DTEND;TZID=America/Detroit:20240313T210000
DTSTAMP:20260423T111739
CREATED:20221119T010216Z
LAST-MODIFIED:20260122T224620Z
UID:10005668-1710352800-1710363600@afk.games
SUMMARY:Open Skirmish Games
DESCRIPTION:Have an itch to play some skirmish games like Warhammer 40K: Kill Team\, Necromunda\, Warcry\, etc? Well on Tuesday nights we got you covered! Come on down and play some of your favorite small scale miniature games\, or even try out a new one!
URL:https://afk.games/event/open-skirmish-games/2024-03-13/
LOCATION:AFK Games\, 2495 Cedar Street STE 14-B\, Holt\, MI\, 48842\, United States
CATEGORIES:Events,Games Workshop,Kill Team,Killwager,Warhammer 40K
ORGANIZER;CN="AFK Games":MAILTO:support@afk-games.com
END:VEVENT
BEGIN:VEVENT
DTSTART;TZID=America/Detroit:20240306T180000
DTEND;TZID=America/Detroit:20240306T210000
DTSTAMP:20260423T111739
CREATED:20221119T010216Z
LAST-MODIFIED:20260122T224620Z
UID:10005667-1709748000-1709758800@afk.games
SUMMARY:Open Skirmish Games
DESCRIPTION:Have an itch to play some skirmish games like Warhammer 40K: Kill Team\, Necromunda\, Warcry\, etc? Well on Tuesday nights we got you covered! Come on down and play some of your favorite small scale miniature games\, or even try out a new one!
URL:https://afk.games/event/open-skirmish-games/2024-03-06/
LOCATION:AFK Games\, 2495 Cedar Street STE 14-B\, Holt\, MI\, 48842\, United States
CATEGORIES:Events,Games Workshop,Kill Team,Killwager,Warhammer 40K
ORGANIZER;CN="AFK Games":MAILTO:support@afk-games.com
END:VEVENT
BEGIN:VEVENT
DTSTART;TZID=America/Detroit:20240228T180000
DTEND;TZID=America/Detroit:20240228T210000
DTSTAMP:20260423T111739
CREATED:20221119T010216Z
LAST-MODIFIED:20260122T224620Z
UID:10005666-1709143200-1709154000@afk.games
SUMMARY:Open Skirmish Games
DESCRIPTION:Have an itch to play some skirmish games like Warhammer 40K: Kill Team\, Necromunda\, Warcry\, etc? Well on Tuesday nights we got you covered! Come on down and play some of your favorite small scale miniature games\, or even try out a new one!
URL:https://afk.games/event/open-skirmish-games/2024-02-28/
LOCATION:AFK Games\, 2495 Cedar Street STE 14-B\, Holt\, MI\, 48842\, United States
CATEGORIES:Events,Games Workshop,Kill Team,Killwager,Warhammer 40K
ORGANIZER;CN="AFK Games":MAILTO:support@afk-games.com
END:VEVENT
BEGIN:VEVENT
DTSTART;TZID=America/Detroit:20240221T180000
DTEND;TZID=America/Detroit:20240221T210000
DTSTAMP:20260423T111739
CREATED:20221119T010216Z
LAST-MODIFIED:20260122T224620Z
UID:10005665-1708538400-1708549200@afk.games
SUMMARY:Open Skirmish Games
DESCRIPTION:Have an itch to play some skirmish games like Warhammer 40K: Kill Team\, Necromunda\, Warcry\, etc? Well on Tuesday nights we got you covered! Come on down and play some of your favorite small scale miniature games\, or even try out a new one!
URL:https://afk.games/event/open-skirmish-games/2024-02-21/
LOCATION:AFK Games\, 2495 Cedar Street STE 14-B\, Holt\, MI\, 48842\, United States
CATEGORIES:Events,Games Workshop,Kill Team,Killwager,Warhammer 40K
ORGANIZER;CN="AFK Games":MAILTO:support@afk-games.com
END:VEVENT
BEGIN:VEVENT
DTSTART;TZID=America/Detroit:20240214T180000
DTEND;TZID=America/Detroit:20240214T210000
DTSTAMP:20260423T111739
CREATED:20221119T010216Z
LAST-MODIFIED:20260122T224620Z
UID:10005664-1707933600-1707944400@afk.games
SUMMARY:Open Skirmish Games
DESCRIPTION:Have an itch to play some skirmish games like Warhammer 40K: Kill Team\, Necromunda\, Warcry\, etc? Well on Tuesday nights we got you covered! Come on down and play some of your favorite small scale miniature games\, or even try out a new one!
URL:https://afk.games/event/open-skirmish-games/2024-02-14/
LOCATION:AFK Games\, 2495 Cedar Street STE 14-B\, Holt\, MI\, 48842\, United States
CATEGORIES:Events,Games Workshop,Kill Team,Killwager,Warhammer 40K
ORGANIZER;CN="AFK Games":MAILTO:support@afk-games.com
END:VEVENT
BEGIN:VEVENT
DTSTART;TZID=America/Detroit:20240207T180000
DTEND;TZID=America/Detroit:20240207T210000
DTSTAMP:20260423T111739
CREATED:20221119T010216Z
LAST-MODIFIED:20260122T224620Z
UID:10005663-1707328800-1707339600@afk.games
SUMMARY:Open Skirmish Games
DESCRIPTION:Have an itch to play some skirmish games like Warhammer 40K: Kill Team\, Necromunda\, Warcry\, etc? Well on Tuesday nights we got you covered! Come on down and play some of your favorite small scale miniature games\, or even try out a new one!
URL:https://afk.games/event/open-skirmish-games/2024-02-07/
LOCATION:AFK Games\, 2495 Cedar Street STE 14-B\, Holt\, MI\, 48842\, United States
CATEGORIES:Events,Games Workshop,Kill Team,Killwager,Warhammer 40K
ORGANIZER;CN="AFK Games":MAILTO:support@afk-games.com
END:VEVENT
BEGIN:VEVENT
DTSTART;TZID=America/Detroit:20240131T180000
DTEND;TZID=America/Detroit:20240131T210000
DTSTAMP:20260423T111739
CREATED:20221119T010216Z
LAST-MODIFIED:20260122T224620Z
UID:10005662-1706724000-1706734800@afk.games
SUMMARY:Open Skirmish Games
DESCRIPTION:Have an itch to play some skirmish games like Warhammer 40K: Kill Team\, Necromunda\, Warcry\, etc? Well on Tuesday nights we got you covered! Come on down and play some of your favorite small scale miniature games\, or even try out a new one!
URL:https://afk.games/event/open-skirmish-games/2024-01-31/
LOCATION:AFK Games\, 2495 Cedar Street STE 14-B\, Holt\, MI\, 48842\, United States
CATEGORIES:Events,Games Workshop,Kill Team,Killwager,Warhammer 40K
ORGANIZER;CN="AFK Games":MAILTO:support@afk-games.com
END:VEVENT
BEGIN:VEVENT
DTSTART;TZID=America/Detroit:20240124T180000
DTEND;TZID=America/Detroit:20240124T210000
DTSTAMP:20260423T111739
CREATED:20221119T010216Z
LAST-MODIFIED:20260122T224620Z
UID:10005661-1706119200-1706130000@afk.games
SUMMARY:Open Skirmish Games
DESCRIPTION:Have an itch to play some skirmish games like Warhammer 40K: Kill Team\, Necromunda\, Warcry\, etc? Well on Tuesday nights we got you covered! Come on down and play some of your favorite small scale miniature games\, or even try out a new one!
URL:https://afk.games/event/open-skirmish-games/2024-01-24/
LOCATION:AFK Games\, 2495 Cedar Street STE 14-B\, Holt\, MI\, 48842\, United States
CATEGORIES:Events,Games Workshop,Kill Team,Killwager,Warhammer 40K
ORGANIZER;CN="AFK Games":MAILTO:support@afk-games.com
END:VEVENT
BEGIN:VEVENT
DTSTART;TZID=America/Detroit:20240117T180000
DTEND;TZID=America/Detroit:20240117T210000
DTSTAMP:20260423T111739
CREATED:20221119T010216Z
LAST-MODIFIED:20260122T224620Z
UID:10005660-1705514400-1705525200@afk.games
SUMMARY:Open Skirmish Games
DESCRIPTION:Have an itch to play some skirmish games like Warhammer 40K: Kill Team\, Necromunda\, Warcry\, etc? Well on Tuesday nights we got you covered! Come on down and play some of your favorite small scale miniature games\, or even try out a new one!
URL:https://afk.games/event/open-skirmish-games/2024-01-17/
LOCATION:AFK Games\, 2495 Cedar Street STE 14-B\, Holt\, MI\, 48842\, United States
CATEGORIES:Events,Games Workshop,Kill Team,Killwager,Warhammer 40K
ORGANIZER;CN="AFK Games":MAILTO:support@afk-games.com
END:VEVENT
BEGIN:VEVENT
DTSTART;TZID=America/Detroit:20240110T180000
DTEND;TZID=America/Detroit:20240110T210000
DTSTAMP:20260423T111739
CREATED:20221119T010216Z
LAST-MODIFIED:20260122T224620Z
UID:10005659-1704909600-1704920400@afk.games
SUMMARY:Open Skirmish Games
DESCRIPTION:Have an itch to play some skirmish games like Warhammer 40K: Kill Team\, Necromunda\, Warcry\, etc? Well on Tuesday nights we got you covered! Come on down and play some of your favorite small scale miniature games\, or even try out a new one!
URL:https://afk.games/event/open-skirmish-games/2024-01-10/
LOCATION:AFK Games\, 2495 Cedar Street STE 14-B\, Holt\, MI\, 48842\, United States
CATEGORIES:Events,Games Workshop,Kill Team,Killwager,Warhammer 40K
ORGANIZER;CN="AFK Games":MAILTO:support@afk-games.com
END:VEVENT
END:VCALENDAR