BEGIN:VCALENDAR
VERSION:2.0
PRODID:-//AFK Games - ECPv6.15.20//NONSGML v1.0//EN
CALSCALE:GREGORIAN
METHOD:PUBLISH
X-ORIGINAL-URL:https://afk.games
X-WR-CALDESC:Events for AFK Games
REFRESH-INTERVAL;VALUE=DURATION:PT1H
X-Robots-Tag:noindex
X-PUBLISHED-TTL:PT1H
BEGIN:VTIMEZONE
TZID:America/Detroit
BEGIN:DAYLIGHT
TZOFFSETFROM:-0500
TZOFFSETTO:-0400
TZNAME:EDT
DTSTART:20230312T070000
END:DAYLIGHT
BEGIN:STANDARD
TZOFFSETFROM:-0400
TZOFFSETTO:-0500
TZNAME:EST
DTSTART:20231105T060000
END:STANDARD
BEGIN:DAYLIGHT
TZOFFSETFROM:-0500
TZOFFSETTO:-0400
TZNAME:EDT
DTSTART:20240310T070000
END:DAYLIGHT
BEGIN:STANDARD
TZOFFSETFROM:-0400
TZOFFSETTO:-0500
TZNAME:EST
DTSTART:20241103T060000
END:STANDARD
BEGIN:DAYLIGHT
TZOFFSETFROM:-0500
TZOFFSETTO:-0400
TZNAME:EDT
DTSTART:20250309T070000
END:DAYLIGHT
BEGIN:STANDARD
TZOFFSETFROM:-0400
TZOFFSETTO:-0500
TZNAME:EST
DTSTART:20251102T060000
END:STANDARD
END:VTIMEZONE
BEGIN:VEVENT
DTSTART;TZID=America/Detroit:20240203T110000
DTEND;TZID=America/Detroit:20240203T190000
DTSTAMP:20260419T174227
CREATED:20240105T012843Z
LAST-MODIFIED:20240108T194558Z
UID:10002192-1706958000-1706986800@afk.games
SUMMARY:Conquest Tournament
DESCRIPTION:Tournament Information:\nEntry: $10.00\nTournament Software: BCP and a verified QR code via the Conquest Companion App!\nDoors: 10:30 am\nStart: 11:00 am\nRounds: 3\nRound Time: 2.5 Hours \n  \nTicket: https://afk-games.square.site/product/conquest-tournament/12878\nBCP: https://www.bestcoastpairings.com/event/PRAB970J4B \n\nTerrain will be set up by the TO and Terrain rules will be provided\nMissions will be announced at the start of the round and will be from the current Tournament Pack.\n\nLists:\n\n Lists must be constructed ‘legally’ in the Army Builder at https://armybuilder.para-bellum.com/ or in the Conquest Companion App.\nUpload lists to: https://www.longshanks.org/event/\nOnly currently released Regiments will be allowed\, below you will find guidelines about converting and model representation. We ask that all stands have a representative model(s).\n\nMisc:\n\nPlease note that regiment upgrades don’t have to be represented by a specific model\, but can be converted or noted down in the list building. However\, it is important to follow the converting rubric established by Para Bellum for official events. \nRetinue must be represented on the character stand that purchased them. They can be representative or converted models\, or even tokens on the stand\, as long as it is clear that the character stand has accompanying retinue if represented. It is crucial to make a note of them in the army list. \nRegiments may be customized or converted\, but it is mandatory to adhere to the current converting rubric set down by Para Bellum for official events. You can find the rubric here: https://www.para-bellum.com/tournament/.\n\n  \nPrizes:\nRaffle prizes\n\nHobby supplies\nModel kits\nETC\n\nRaffle ticket rewards:\nPlay a game – 1 ticket\nWin a game – 1 ticket\nFully painted – 1 ticket\nBe 15 minutes early – 1 ticket  \n 
URL:https://afk.games/event/conquest-tournament/
LOCATION:AFK Games\, 2495 Cedar Street STE 14-B\, Holt\, MI\, 48842\, United States
CATEGORIES:Conquest,Events,Miniature Games
ORGANIZER;CN="AFK Games":MAILTO:support@afk-games.com
END:VEVENT
END:VCALENDAR