BEGIN:VCALENDAR
VERSION:2.0
PRODID:-//AFK Games - ECPv6.15.20//NONSGML v1.0//EN
CALSCALE:GREGORIAN
METHOD:PUBLISH
X-WR-CALNAME:AFK Games
X-ORIGINAL-URL:https://afk.games
X-WR-CALDESC:Events for AFK Games
REFRESH-INTERVAL;VALUE=DURATION:PT1H
X-Robots-Tag:noindex
X-PUBLISHED-TTL:PT1H
BEGIN:VTIMEZONE
TZID:America/Detroit
BEGIN:DAYLIGHT
TZOFFSETFROM:-0500
TZOFFSETTO:-0400
TZNAME:EDT
DTSTART:20210314T070000
END:DAYLIGHT
BEGIN:STANDARD
TZOFFSETFROM:-0400
TZOFFSETTO:-0500
TZNAME:EST
DTSTART:20211107T060000
END:STANDARD
BEGIN:DAYLIGHT
TZOFFSETFROM:-0500
TZOFFSETTO:-0400
TZNAME:EDT
DTSTART:20220313T070000
END:DAYLIGHT
BEGIN:STANDARD
TZOFFSETFROM:-0400
TZOFFSETTO:-0500
TZNAME:EST
DTSTART:20221106T060000
END:STANDARD
BEGIN:DAYLIGHT
TZOFFSETFROM:-0500
TZOFFSETTO:-0400
TZNAME:EDT
DTSTART:20230312T070000
END:DAYLIGHT
BEGIN:STANDARD
TZOFFSETFROM:-0400
TZOFFSETTO:-0500
TZNAME:EST
DTSTART:20231105T060000
END:STANDARD
BEGIN:DAYLIGHT
TZOFFSETFROM:-0500
TZOFFSETTO:-0400
TZNAME:EDT
DTSTART:20240310T070000
END:DAYLIGHT
BEGIN:STANDARD
TZOFFSETFROM:-0400
TZOFFSETTO:-0500
TZNAME:EST
DTSTART:20241103T060000
END:STANDARD
BEGIN:DAYLIGHT
TZOFFSETFROM:-0500
TZOFFSETTO:-0400
TZNAME:EDT
DTSTART:20250309T070000
END:DAYLIGHT
BEGIN:STANDARD
TZOFFSETFROM:-0400
TZOFFSETTO:-0500
TZNAME:EST
DTSTART:20251102T060000
END:STANDARD
BEGIN:DAYLIGHT
TZOFFSETFROM:-0500
TZOFFSETTO:-0400
TZNAME:EDT
DTSTART:20260308T070000
END:DAYLIGHT
BEGIN:STANDARD
TZOFFSETFROM:-0400
TZOFFSETTO:-0500
TZNAME:EST
DTSTART:20261101T060000
END:STANDARD
BEGIN:DAYLIGHT
TZOFFSETFROM:-0500
TZOFFSETTO:-0400
TZNAME:EDT
DTSTART:20270314T070000
END:DAYLIGHT
BEGIN:STANDARD
TZOFFSETFROM:-0400
TZOFFSETTO:-0500
TZNAME:EST
DTSTART:20271107T060000
END:STANDARD
END:VTIMEZONE
BEGIN:VEVENT
DTSTART;TZID=America/Detroit:20260124T123000
DTEND;TZID=America/Detroit:20260124T180000
DTSTAMP:20260421T131019
CREATED:20260106T201604Z
LAST-MODIFIED:20260106T201604Z
UID:10005597-1769257800-1769277600@afk.games
SUMMARY:Swap Meet
DESCRIPTION:AFK Games will be hosting another gamer swap meet on January 24th!  \nWe will have all of our tables for individuals to reserve to bring their unwanted miniature game armies\, board games\, RPG books\, etc… You might even find that one item you have been looking to get! \nDoors: 11:00 AM\nStart: 12:30 PM\nEnd: 5:00 PM \n \nWe will use our Wargaming and hobby tables for those who have just a few items to bring in! \nTables will be free for those who would like to reserve a full table. \nTrading is allowed and encouraged where possible.  \nAny purchases must go through AFK Games using our store credit system. Individuals who break this rule will be asked to leave and not allowed to participate in future swap meets.  \nAFK will provide slips for you to write your name\, the item\, store credit amount\, and a space for a staff member to verify the transaction has been completed.
URL:https://afk.games/event/swap-meet-3/
LOCATION:AFK Games\, 2495 Cedar Street STE 14-B\, Holt\, MI\, 48842\, United States
CATEGORIES:Events,Hobby
ORGANIZER;CN="AFK Games":MAILTO:support@afk-games.com
END:VEVENT
BEGIN:VEVENT
DTSTART;TZID=America/Detroit:20250712T160000
DTEND;TZID=America/Detroit:20250712T190000
DTSTAMP:20260421T131019
CREATED:20250701T202840Z
LAST-MODIFIED:20250701T202840Z
UID:10004026-1752336000-1752346800@afk.games
SUMMARY:Paint and Take Miniature Workshop by @Skunkybearminiart
DESCRIPTION:Tutorials and Instructions to go beyond basecoat/wash/highlight painting on your miniature\nExamples + instruction on painting volumes\, brush control\, paint consistency\n40K Miniature – Ready to Paint\nDIY wet pallet\nOne on one instruction\, feedback\, and support\nPaint + Brushes are not provided or included
URL:https://afk.games/event/paint-and-take-miniature-workshop-by-skunkybearminiart/
LOCATION:AFK Games\, 2495 Cedar Street STE 14-B\, Holt\, MI\, 48842\, United States
CATEGORIES:Events,Hobby
ATTACH;FMTTYPE=image/jpeg:https://afk.games/wp-content/uploads/2025/07/IMG_20250623_122225.jpg
ORGANIZER;CN="AFK Games":MAILTO:support@afk-games.com
END:VEVENT
BEGIN:VEVENT
DTSTART;TZID=America/Detroit:20250618T173000
DTEND;TZID=America/Detroit:20250618T220000
DTSTAMP:20260421T131019
CREATED:20250526T181738Z
LAST-MODIFIED:20250526T181738Z
UID:10004006-1750267800-1750284000@afk.games
SUMMARY:Capitol Area Modelers Society - Build Night
DESCRIPTION:Join the Capitol Area Modelers Society for an open evening of building & conversation. Bring a project or come watch. Everyone welcome.\nCAMS is looking to attract new members – such as Gamers\, Figure Modelers\, and Science Fiction.\n\nFor more information on CAMS please visit their website:https://capitalareamodelerssociety.wordpress.com/
URL:https://afk.games/event/capitol-area-modelers-society-build-night-2/
LOCATION:AFK Games\, 2495 Cedar Street STE 14-B\, Holt\, MI\, 48842\, United States
CATEGORIES:Events,Hobby
ORGANIZER;CN="AFK Games":MAILTO:support@afk-games.com
END:VEVENT
BEGIN:VEVENT
DTSTART;TZID=America/Detroit:20250313T173000
DTEND;TZID=America/Detroit:20250313T213000
DTSTAMP:20260421T131019
CREATED:20250210T202059Z
LAST-MODIFIED:20250210T202059Z
UID:10003762-1741887000-1741901400@afk.games
SUMMARY:Capitol Area Modelers Society - Build Night
DESCRIPTION:Join the Capitol Area Modelers Society for an open evening of building & conversation. Bring a project or come watch. Everyone welcome.\nCAMS is looking to attract new members – such as Gamers\, Figure Modelers\, and Science Fiction.\n\nFor more information on CAMS please visit their website:https://capitalareamodelerssociety.wordpress.com/
URL:https://afk.games/event/capitol-area-modelers-society-build-night/2025-03-13/
LOCATION:AFK Games\, 2495 Cedar Street STE 14-B\, Holt\, MI\, 48842\, United States
CATEGORIES:Events,Hobby
ORGANIZER;CN="AFK Games":MAILTO:support@afk-games.com
END:VEVENT
BEGIN:VEVENT
DTSTART;TZID=America/Detroit:20250220T173000
DTEND;TZID=America/Detroit:20250220T213000
DTSTAMP:20260421T131019
CREATED:20250210T202059Z
LAST-MODIFIED:20250210T202059Z
UID:10003761-1740072600-1740087000@afk.games
SUMMARY:Capitol Area Modelers Society - Build Night
DESCRIPTION:Join the Capitol Area Modelers Society for an open evening of building & conversation. Bring a project or come watch. Everyone welcome.\nCAMS is looking to attract new members – such as Gamers\, Figure Modelers\, and Science Fiction.\n\nFor more information on CAMS please visit their website:https://capitalareamodelerssociety.wordpress.com/
URL:https://afk.games/event/capitol-area-modelers-society-build-night/2025-02-20/
LOCATION:AFK Games\, 2495 Cedar Street STE 14-B\, Holt\, MI\, 48842\, United States
CATEGORIES:Events,Hobby
ORGANIZER;CN="AFK Games":MAILTO:support@afk-games.com
END:VEVENT
BEGIN:VEVENT
DTSTART;TZID=America/Detroit:20241123T123000
DTEND;TZID=America/Detroit:20241123T183000
DTSTAMP:20260421T131019
CREATED:20241031T235953Z
LAST-MODIFIED:20241031T235953Z
UID:10003065-1732365000-1732386600@afk.games
SUMMARY:Community Hobby Day
DESCRIPTION:🎨 Join Us for Community Hobby Day! 🎨 \nIt’s time for another Community Hobby Day! Got a stash of miniatures waiting for some love\, or maybe a few models you’ve been meaning to paint up? Let’s face it\, who doesn’t? 😅 \nCome hang out\, bring your hobby projects\, and enjoy some quality painting and assembling time with fellow hobbyists. Whether you’re working on minis for your favorite game\, trying out new techniques\, or tackling your Quarterly Painting Challenge\, this day is all about the hobby and the community! \n🗓 Date: November 23rd\n⏰ Time: 12:30 pm
URL:https://afk.games/event/community-hobby-day-3/
LOCATION:AFK Games\, 2495 Cedar Street STE 14-B\, Holt\, MI\, 48842\, United States
CATEGORIES:Events,Hobby
ORGANIZER;CN="AFK Games":MAILTO:support@afk-games.com
END:VEVENT
BEGIN:VEVENT
DTSTART;TZID=America/Detroit:20241020T130000
DTEND;TZID=America/Detroit:20241020T160000
DTSTAMP:20260421T131019
CREATED:20240919T191306Z
LAST-MODIFIED:20240919T191306Z
UID:10003054-1729429200-1729440000@afk.games
SUMMARY:Capital Area Modelers Society - Open House
DESCRIPTION:Join us for stations displaying a variety of modeling techniques and stages\, including some hands-on guidance\, and have a chance at door prizes including model kits and tool kits.
URL:https://afk.games/event/capital-area-modelers-society-open-house/
LOCATION:AFK Games\, 2495 Cedar Street STE 14-B\, Holt\, MI\, 48842\, United States
CATEGORIES:Events,Hobby
ORGANIZER;CN="AFK Games":MAILTO:support@afk-games.com
END:VEVENT
BEGIN:VEVENT
DTSTART;TZID=America/Detroit:20241005T123000
DTEND;TZID=America/Detroit:20241005T170000
DTSTAMP:20260421T131019
CREATED:20240810T234352Z
LAST-MODIFIED:20240810T234402Z
UID:10003026-1728131400-1728147600@afk.games
SUMMARY:Swap Meet
DESCRIPTION:AFK Games will be hosting another gamer swap meet on October 5th!  \nWe will have all of our tables for individuals to reserve to bring their unwanted miniature game armies\, board games\, RPG books\, etc… You might even find that one item you have been looking to get! \nWe will use our Wargaming and hobby tables for those who have just a few items to bring in! \nTables will be free for those who would like to reserve a full table. \nParticipants can reserve a table with a free ticket on our website located here.  \nhttps://forms.gle/Gbycj6nA1q8gaWLVA \nThis is for a single card table reservation extra tables may be available day of the event depending on demand. \nThose who want to participate but don’t have enough stuff to fill an entire table can use the mixed tables. We will have little standees and markers to write your name to mark your property. \nTrading is allowed and encouraged where possible.  \nAny purchases must go through AFK Games using our store credit system. Individuals who break this rule will be asked to leave and not allowed to participate in future swap meets.  \nAFK will provide slips for you to write your name\, the item\, store credit amount\, and a space for a staff member to verify the transaction has been completed.
URL:https://afk.games/event/swap-meet-2/
LOCATION:AFK Games\, 2495 Cedar Street STE 14-B\, Holt\, MI\, 48842\, United States
CATEGORIES:Events,Hobby,Miniature Games,Role Playing Games
ORGANIZER;CN="AFK Games":MAILTO:support@afk-games.com
END:VEVENT
BEGIN:VEVENT
DTSTART;TZID=America/Detroit:20240815T180000
DTEND;TZID=America/Detroit:20240815T210000
DTSTAMP:20260421T131019
CREATED:20240810T215651Z
LAST-MODIFIED:20240810T215651Z
UID:10003025-1723744800-1723755600@afk.games
SUMMARY:Capital Area Society - Build Night
DESCRIPTION:Join the Capitol Area Modelers Society for an open evening of building & conversation. Bring a project or come watch. Everyone welcome.\nCAMS is looking to attract new members – such as Gamers\, Figure Modelers\, and Science Fiction.\n\nFor more information on CAMS please visit their website:https://capitalareamodelerssociety.wordpress.com/
URL:https://afk.games/event/capital-area-society-build-night/
LOCATION:AFK Games\, 2495 Cedar Street STE 14-B\, Holt\, MI\, 48842\, United States
CATEGORIES:Events,Hobby
ORGANIZER;CN="AFK Games":MAILTO:support@afk-games.com
END:VEVENT
BEGIN:VEVENT
DTSTART;TZID=America/Detroit:20240525T123000
DTEND;TZID=America/Detroit:20240525T210000
DTSTAMP:20260421T131019
CREATED:20240502T195453Z
LAST-MODIFIED:20240502T195453Z
UID:10002797-1716640200-1716670800@afk.games
SUMMARY:Community Hobby Day
DESCRIPTION:Are you looking for something to do this Memorial Day weekend? Come join us for our Community Hobby Day! This event is perfect for those who love to paint miniatures\, build models\, chat with like-minded individuals\, and work on ongoing projects such as our quarterly painting challenges. \nOur Hobby Day is a great opportunity to meet new people and share your passion for the hobby. Whether you’re a seasoned veteran or just starting\, there’s something for everyone at this event. You might even learn a new technique that you have been waiting to try!  \nThe best part? This is a fantastic opportunity to explore the world of miniature painting without any initial cost! We will have a supply of communal paints\, brushes\, and even miniature figures available\, allowing you to delve into this expansive hobby risk-free.\n\nWe will likely order food as a group around dinner time for those who are interested.  \nWhat should you bring?\nYour imagination! If you have a project\, just bring your paints and hobby kit!  \nIf you’re attempting the hobby for the first time\, all that’s required is to bring yourself! We will have some models of various types for those who are new!  \n  \nSales!\n\nCheck back closer to the event to find out what specials/sales we have going on.
URL:https://afk.games/event/community-hobby-day-2/
LOCATION:AFK Games\, 2495 Cedar Street STE 14-B\, Holt\, MI\, 48842\, United States
CATEGORIES:Events,Hobby,Miniature Games
ORGANIZER;CN="AFK Games":MAILTO:support@afk-games.com
END:VEVENT
BEGIN:VEVENT
DTSTART;TZID=America/Detroit:20240523T180000
DTEND;TZID=America/Detroit:20240523T210000
DTSTAMP:20260421T131019
CREATED:20240503T190356Z
LAST-MODIFIED:20240508T212029Z
UID:10002798-1716487200-1716498000@afk.games
SUMMARY:Capital Area Modelers Society Meeting
DESCRIPTION:Join the Capitol Area Modelers Society for an open evening of building & conversation. Bring a project or come watch. Everyone welcome.\n\nCAMS is looking to attract new members – such as Gamers\, Figure Modelers\, and Science Fiction.\n\nThere will also be Pizza from Hungry Howies.\n\nFor more information on CAMS please visit their website:https://capitalareamodelerssociety.wordpress.com/
URL:https://afk.games/event/capital-area-modelers-society-meeting/
LOCATION:AFK Games\, 2495 Cedar Street STE 14-B\, Holt\, MI\, 48842\, United States
CATEGORIES:Events,Hobby
ORGANIZER;CN="AFK Games":MAILTO:support@afk-games.com
END:VEVENT
BEGIN:VEVENT
DTSTART;TZID=America/Detroit:20240120T130000
DTEND;TZID=America/Detroit:20240120T190000
DTSTAMP:20260421T131019
CREATED:20240108T200559Z
LAST-MODIFIED:20240108T200731Z
UID:10002195-1705755600-1705777200@afk.games
SUMMARY:Community Hobby Day
DESCRIPTION:Join us for our first Community Hobby Day of 2024! \nHave a backlog of miniatures you need to assemble or paint? Trick question\, most of us do. 😅 \nCome and join us to assemble or paint miniatures for any game system in good company! This is a great time to work on your Quarterly Painting Challenge if you are participating!
URL:https://afk.games/event/community-hobby-day/
LOCATION:AFK Games\, 2495 Cedar Street STE 14-B\, Holt\, MI\, 48842\, United States
CATEGORIES:Events,Hobby
ORGANIZER;CN="AFK Games":MAILTO:support@afk-games.com
END:VEVENT
BEGIN:VEVENT
DTSTART;TZID=America/Detroit:20221203T183000
DTEND;TZID=America/Detroit:20221203T210000
DTSTAMP:20260421T131019
CREATED:20220913T014212Z
LAST-MODIFIED:20221119T225736Z
UID:10000303-1670092200-1670101200@afk.games
SUMMARY:2022 White Elephant
DESCRIPTION:This year AFK Games will be hosting a White Elephant! If you are not familiar with this style of event\, let us do a quick rundown! \n1). Each player brings one wrapped gift to contribute to a common pool.\n2). Players draw numbers to determine the order in which they go.\n3). Players sit/stand in a circle or line where they can see the gifts.\n4). The first player selects a gift from the pool and opens it.\n5). The following players can choose to either pick an unwrapped gift or steal a previous player’s gift. Anyone who gets their gift stolen in this way can do the same – choose a new gift or steal from someone else. A gift may only be stolen twice.\n6). After all players have had a turn\, the first player gets a chance to swap the gift they are holding for another opened gift. Anyone who had a gift stolen may steal from someone else. Assuming that person has not been stolen from yet. When someone declines to steal a gift\, the game comes to an end. \n\n Sign-up will be encouraged\, so we have an idea of how long the event will take.\n Gift should be around $20. Not required to be purchased from AFK Games\, but it is appreciated.\n Gift can be for Magic: The Gathering\, Miniature Games\, Board Games\, General Geekdom.\n If you are planning on doing something that is not a sealed-in package item\, or you think it may need approval. Please speak to Dan.\n Ages 10+ with sensible maturity\, since gifts may be taken. All participants must be able to handle that.\n Gifts must be appropriate for all audiences.\n Your gift should not be something that will make someone upset or embarrassed to open.\n Participants need to bring a gift to take part in the event.\n Gifts must be wrapped or gift bagged appropriately.\n At sign in\, you will get a color-coded sticker to put on your gift to identify its category from; Magic\, Miniature Games\, Board Games\, General Geekdom\, and RPG.\n\n 
URL:https://afk.games/event/annual-white-elephant/
LOCATION:AFK Games\, 2495 Cedar Street STE 14-B\, Holt\, MI\, 48842\, United States
CATEGORIES:Atomic Mass Games,Events,Games Workshop,Hobby,Magic: The Gathering,Miniature Games,Role Playing Games
ORGANIZER;CN="AFK Games":MAILTO:support@afk-games.com
END:VEVENT
END:VCALENDAR