BEGIN:VCALENDAR
VERSION:2.0
PRODID:-//AFK Games - ECPv6.15.20//NONSGML v1.0//EN
CALSCALE:GREGORIAN
METHOD:PUBLISH
X-WR-CALNAME:AFK Games
X-ORIGINAL-URL:https://afk.games
X-WR-CALDESC:Events for AFK Games
REFRESH-INTERVAL;VALUE=DURATION:PT1H
X-Robots-Tag:noindex
X-PUBLISHED-TTL:PT1H
BEGIN:VTIMEZONE
TZID:America/Detroit
BEGIN:DAYLIGHT
TZOFFSETFROM:-0500
TZOFFSETTO:-0400
TZNAME:EDT
DTSTART:20220313T070000
END:DAYLIGHT
BEGIN:STANDARD
TZOFFSETFROM:-0400
TZOFFSETTO:-0500
TZNAME:EST
DTSTART:20221106T060000
END:STANDARD
BEGIN:DAYLIGHT
TZOFFSETFROM:-0500
TZOFFSETTO:-0400
TZNAME:EDT
DTSTART:20230312T070000
END:DAYLIGHT
BEGIN:STANDARD
TZOFFSETFROM:-0400
TZOFFSETTO:-0500
TZNAME:EST
DTSTART:20231105T060000
END:STANDARD
BEGIN:DAYLIGHT
TZOFFSETFROM:-0500
TZOFFSETTO:-0400
TZNAME:EDT
DTSTART:20240310T070000
END:DAYLIGHT
BEGIN:STANDARD
TZOFFSETFROM:-0400
TZOFFSETTO:-0500
TZNAME:EST
DTSTART:20241103T060000
END:STANDARD
END:VTIMEZONE
BEGIN:VEVENT
DTSTART;TZID=America/Detroit:20230218T093000
DTEND;TZID=America/Detroit:20230218T203000
DTSTAMP:20260424T070431
CREATED:20221224T202506Z
LAST-MODIFIED:20221224T202506Z
UID:10001058-1676712600-1676752200@afk.games
SUMMARY:Cobra Kai All Valley 2023 AoS Tournament
DESCRIPTION:Welcome to the 2023 Cobra Kai All Valley Age of Sigmar Tournament. \nThis event will be held on February 18\, 2023 at AFK Games in Holt\, MI \n2000 point lists are to be used with the latest rules and FAQ for that Battletome. \nThe 2022/2023 Season 2 General’s Handbook will be used for battlepack and missions (assuming it’s released by then. Otherwise the 2022/2023 Season 1 book will be used). Battletome Battle Tactics and Grand Strategies will be allowed for the event. \nPainting is not required\, but points will be awarded for fully painted armies. \n  \nThe following timeline will be used for the event: \n9:30 am – Check in \n10:00 am – Round 1 \n1:00 pm – Lunch \n2:00 pm – Round 2 \n5:15 pm – Round 3 \n8:15 pm – Awards
URL:https://afk.games/event/cobra-kai-all-valley-2023-aos-tournament/
LOCATION:AFK Games\, 2495 Cedar Street STE 14-B\, Holt\, MI\, 48842\, United States
CATEGORIES:Age of Sigmar,Events,Games Workshop
ORGANIZER;CN="AFK Games":MAILTO:support@afk-games.com
END:VEVENT
END:VCALENDAR