BEGIN:VCALENDAR
VERSION:2.0
PRODID:-//AFK Games - ECPv6.15.20//NONSGML v1.0//EN
CALSCALE:GREGORIAN
METHOD:PUBLISH
X-WR-CALNAME:AFK Games
X-ORIGINAL-URL:https://afk.games
X-WR-CALDESC:Events for AFK Games
REFRESH-INTERVAL;VALUE=DURATION:PT1H
X-Robots-Tag:noindex
X-PUBLISHED-TTL:PT1H
BEGIN:VTIMEZONE
TZID:America/Detroit
BEGIN:DAYLIGHT
TZOFFSETFROM:-0500
TZOFFSETTO:-0400
TZNAME:EDT
DTSTART:20220313T070000
END:DAYLIGHT
BEGIN:STANDARD
TZOFFSETFROM:-0400
TZOFFSETTO:-0500
TZNAME:EST
DTSTART:20221106T060000
END:STANDARD
BEGIN:DAYLIGHT
TZOFFSETFROM:-0500
TZOFFSETTO:-0400
TZNAME:EDT
DTSTART:20230312T070000
END:DAYLIGHT
BEGIN:STANDARD
TZOFFSETFROM:-0400
TZOFFSETTO:-0500
TZNAME:EST
DTSTART:20231105T060000
END:STANDARD
BEGIN:DAYLIGHT
TZOFFSETFROM:-0500
TZOFFSETTO:-0400
TZNAME:EDT
DTSTART:20240310T070000
END:DAYLIGHT
BEGIN:STANDARD
TZOFFSETFROM:-0400
TZOFFSETTO:-0500
TZNAME:EST
DTSTART:20241103T060000
END:STANDARD
END:VTIMEZONE
BEGIN:VEVENT
DTSTART;TZID=America/Detroit:20231201T170000
DTEND;TZID=America/Detroit:20231201T220000
DTSTAMP:20260423T015247
CREATED:20230804T184048Z
LAST-MODIFIED:20230804T184113Z
UID:10001557-1701450000-1701468000@afk.games
SUMMARY:Open Wargaming
DESCRIPTION:Open Wargaming is happening every Friday evening starting at 5:00 pm. They’ve got a great lineup of games to choose from\, including Age of Sigmar\, Para Bellum Conquest\, Warhammer 40K\, Marvel: Crisis Protocol\, Star Wars: Shatterpoint\, Star Wars: Legion and many more. If you’re a fan of strategy and action-packed games\, you won’t want to miss out on this one! See you there!
URL:https://afk.games/event/open-wargaming/2023-12-01/
LOCATION:AFK Games\, 2495 Cedar Street STE 14-B\, Holt\, MI\, 48842\, United States
CATEGORIES:Age of Sigmar,Atomic Mass Games,Games Workshop,Marvel: Crisis Protocol,Star Wars: Legion,Star Wars: Shatterpoint,Warhammer 40K
ORGANIZER;CN="AFK Games":MAILTO:support@afk-games.com
END:VEVENT
BEGIN:VEVENT
DTSTART;TZID=America/Detroit:20231202T133000
DTEND;TZID=America/Detroit:20231202T190000
DTSTAMP:20260423T015247
CREATED:20231119T013309Z
LAST-MODIFIED:20231119T013309Z
UID:10001999-1701523800-1701543600@afk.games
SUMMARY:Age of Sigmar - Learn to Play
DESCRIPTION:We are excited to announce that we will be offering a sale on Age of Sigmar starting on November 11th. This is a great opportunity for you to grab some amazing models and have enough time to prepare them for the table on December 2nd.  \nOn December 2nd\, we are hosting an open play and learn-to-play day for Age of Sigmar. We welcome players of all skill levels to come and join us to play some games!  \n \nPrizes \nWe will be raffling off some products to those who participate throughout the day. 
URL:https://afk.games/event/age-of-sigmar-learn-to-play/
LOCATION:AFK Games\, 2495 Cedar Street STE 14-B\, Holt\, MI\, 48842\, United States
CATEGORIES:Age of Sigmar,Events,Games Workshop
ORGANIZER;CN="AFK Games":MAILTO:support@afk-games.com
END:VEVENT
BEGIN:VEVENT
DTSTART;TZID=America/Detroit:20231208T170000
DTEND;TZID=America/Detroit:20231208T220000
DTSTAMP:20260423T015247
CREATED:20230804T184048Z
LAST-MODIFIED:20230804T184113Z
UID:10001558-1702054800-1702072800@afk.games
SUMMARY:Open Wargaming
DESCRIPTION:Open Wargaming is happening every Friday evening starting at 5:00 pm. They’ve got a great lineup of games to choose from\, including Age of Sigmar\, Para Bellum Conquest\, Warhammer 40K\, Marvel: Crisis Protocol\, Star Wars: Shatterpoint\, Star Wars: Legion and many more. If you’re a fan of strategy and action-packed games\, you won’t want to miss out on this one! See you there!
URL:https://afk.games/event/open-wargaming/2023-12-08/
LOCATION:AFK Games\, 2495 Cedar Street STE 14-B\, Holt\, MI\, 48842\, United States
CATEGORIES:Age of Sigmar,Atomic Mass Games,Games Workshop,Marvel: Crisis Protocol,Star Wars: Legion,Star Wars: Shatterpoint,Warhammer 40K
ORGANIZER;CN="AFK Games":MAILTO:support@afk-games.com
END:VEVENT
BEGIN:VEVENT
DTSTART;TZID=America/Detroit:20231215T170000
DTEND;TZID=America/Detroit:20231215T220000
DTSTAMP:20260423T015247
CREATED:20230804T184048Z
LAST-MODIFIED:20230804T184113Z
UID:10001559-1702659600-1702677600@afk.games
SUMMARY:Open Wargaming
DESCRIPTION:Open Wargaming is happening every Friday evening starting at 5:00 pm. They’ve got a great lineup of games to choose from\, including Age of Sigmar\, Para Bellum Conquest\, Warhammer 40K\, Marvel: Crisis Protocol\, Star Wars: Shatterpoint\, Star Wars: Legion and many more. If you’re a fan of strategy and action-packed games\, you won’t want to miss out on this one! See you there!
URL:https://afk.games/event/open-wargaming/2023-12-15/
LOCATION:AFK Games\, 2495 Cedar Street STE 14-B\, Holt\, MI\, 48842\, United States
CATEGORIES:Age of Sigmar,Atomic Mass Games,Games Workshop,Marvel: Crisis Protocol,Star Wars: Legion,Star Wars: Shatterpoint,Warhammer 40K
ORGANIZER;CN="AFK Games":MAILTO:support@afk-games.com
END:VEVENT
BEGIN:VEVENT
DTSTART;TZID=America/Detroit:20231222T170000
DTEND;TZID=America/Detroit:20231222T220000
DTSTAMP:20260423T015247
CREATED:20230804T184048Z
LAST-MODIFIED:20230804T184113Z
UID:10001560-1703264400-1703282400@afk.games
SUMMARY:Open Wargaming
DESCRIPTION:Open Wargaming is happening every Friday evening starting at 5:00 pm. They’ve got a great lineup of games to choose from\, including Age of Sigmar\, Para Bellum Conquest\, Warhammer 40K\, Marvel: Crisis Protocol\, Star Wars: Shatterpoint\, Star Wars: Legion and many more. If you’re a fan of strategy and action-packed games\, you won’t want to miss out on this one! See you there!
URL:https://afk.games/event/open-wargaming/2023-12-22/
LOCATION:AFK Games\, 2495 Cedar Street STE 14-B\, Holt\, MI\, 48842\, United States
CATEGORIES:Age of Sigmar,Atomic Mass Games,Games Workshop,Marvel: Crisis Protocol,Star Wars: Legion,Star Wars: Shatterpoint,Warhammer 40K
ORGANIZER;CN="AFK Games":MAILTO:support@afk-games.com
END:VEVENT
BEGIN:VEVENT
DTSTART;TZID=America/Detroit:20231229T170000
DTEND;TZID=America/Detroit:20231229T220000
DTSTAMP:20260423T015247
CREATED:20230804T184048Z
LAST-MODIFIED:20230804T184113Z
UID:10001561-1703869200-1703887200@afk.games
SUMMARY:Open Wargaming
DESCRIPTION:Open Wargaming is happening every Friday evening starting at 5:00 pm. They’ve got a great lineup of games to choose from\, including Age of Sigmar\, Para Bellum Conquest\, Warhammer 40K\, Marvel: Crisis Protocol\, Star Wars: Shatterpoint\, Star Wars: Legion and many more. If you’re a fan of strategy and action-packed games\, you won’t want to miss out on this one! See you there!
URL:https://afk.games/event/open-wargaming/2023-12-29/
LOCATION:AFK Games\, 2495 Cedar Street STE 14-B\, Holt\, MI\, 48842\, United States
CATEGORIES:Age of Sigmar,Atomic Mass Games,Games Workshop,Marvel: Crisis Protocol,Star Wars: Legion,Star Wars: Shatterpoint,Warhammer 40K
ORGANIZER;CN="AFK Games":MAILTO:support@afk-games.com
END:VEVENT
END:VCALENDAR