BEGIN:VCALENDAR
VERSION:2.0
PRODID:-//AFK Games - ECPv6.15.20//NONSGML v1.0//EN
CALSCALE:GREGORIAN
METHOD:PUBLISH
X-ORIGINAL-URL:https://afk.games
X-WR-CALDESC:Events for AFK Games
REFRESH-INTERVAL;VALUE=DURATION:PT1H
X-Robots-Tag:noindex
X-PUBLISHED-TTL:PT1H
BEGIN:VTIMEZONE
TZID:America/Detroit
BEGIN:DAYLIGHT
TZOFFSETFROM:-0500
TZOFFSETTO:-0400
TZNAME:EDT
DTSTART:20220313T070000
END:DAYLIGHT
BEGIN:STANDARD
TZOFFSETFROM:-0400
TZOFFSETTO:-0500
TZNAME:EST
DTSTART:20221106T060000
END:STANDARD
BEGIN:DAYLIGHT
TZOFFSETFROM:-0500
TZOFFSETTO:-0400
TZNAME:EDT
DTSTART:20230312T070000
END:DAYLIGHT
BEGIN:STANDARD
TZOFFSETFROM:-0400
TZOFFSETTO:-0500
TZNAME:EST
DTSTART:20231105T060000
END:STANDARD
BEGIN:DAYLIGHT
TZOFFSETFROM:-0500
TZOFFSETTO:-0400
TZNAME:EDT
DTSTART:20240310T070000
END:DAYLIGHT
BEGIN:STANDARD
TZOFFSETFROM:-0400
TZOFFSETTO:-0500
TZNAME:EST
DTSTART:20241103T060000
END:STANDARD
END:VTIMEZONE
BEGIN:VEVENT
DTSTART;TZID=America/Detroit:20230320T183000
DTEND;TZID=America/Detroit:20230320T213000
DTSTAMP:20260419T160408
CREATED:20221220T022137Z
LAST-MODIFIED:20240321T193839Z
UID:10001017-1679337000-1679347800@afk.games
SUMMARY:Blood Bowl
DESCRIPTION:Join us for our ongoing Blood Bowl League! or even get yourself a demo game.
URL:https://afk.games/event/blood-bowl/2023-03-20/
LOCATION:AFK Games\, 2495 Cedar Street STE 14-B\, Holt\, MI\, 48842\, United States
CATEGORIES:Blood Bowl,Games Workshop
ORGANIZER;CN="AFK Games":MAILTO:support@afk-games.com
END:VEVENT
BEGIN:VEVENT
DTSTART;TZID=America/Detroit:20230313T183000
DTEND;TZID=America/Detroit:20230313T213000
DTSTAMP:20260419T160408
CREATED:20221220T022137Z
LAST-MODIFIED:20240321T193839Z
UID:10001016-1678732200-1678743000@afk.games
SUMMARY:Blood Bowl
DESCRIPTION:Join us for our ongoing Blood Bowl League! or even get yourself a demo game.
URL:https://afk.games/event/blood-bowl/2023-03-13/
LOCATION:AFK Games\, 2495 Cedar Street STE 14-B\, Holt\, MI\, 48842\, United States
CATEGORIES:Blood Bowl,Games Workshop
ORGANIZER;CN="AFK Games":MAILTO:support@afk-games.com
END:VEVENT
BEGIN:VEVENT
DTSTART;TZID=America/Detroit:20230306T183000
DTEND;TZID=America/Detroit:20230306T213000
DTSTAMP:20260419T160408
CREATED:20221220T022137Z
LAST-MODIFIED:20240321T193839Z
UID:10001015-1678127400-1678138200@afk.games
SUMMARY:Blood Bowl
DESCRIPTION:Join us for our ongoing Blood Bowl League! or even get yourself a demo game.
URL:https://afk.games/event/blood-bowl/2023-03-06/
LOCATION:AFK Games\, 2495 Cedar Street STE 14-B\, Holt\, MI\, 48842\, United States
CATEGORIES:Blood Bowl,Games Workshop
ORGANIZER;CN="AFK Games":MAILTO:support@afk-games.com
END:VEVENT
BEGIN:VEVENT
DTSTART;TZID=America/Detroit:20230227T183000
DTEND;TZID=America/Detroit:20230227T213000
DTSTAMP:20260419T160408
CREATED:20221220T022137Z
LAST-MODIFIED:20240321T193839Z
UID:10001014-1677522600-1677533400@afk.games
SUMMARY:Blood Bowl
DESCRIPTION:Join us for our ongoing Blood Bowl League! or even get yourself a demo game.
URL:https://afk.games/event/blood-bowl/2023-02-27/
LOCATION:AFK Games\, 2495 Cedar Street STE 14-B\, Holt\, MI\, 48842\, United States
CATEGORIES:Blood Bowl,Games Workshop
ORGANIZER;CN="AFK Games":MAILTO:support@afk-games.com
END:VEVENT
BEGIN:VEVENT
DTSTART;TZID=America/Detroit:20230220T183000
DTEND;TZID=America/Detroit:20230220T213000
DTSTAMP:20260419T160408
CREATED:20221220T022137Z
LAST-MODIFIED:20240321T193839Z
UID:10001013-1676917800-1676928600@afk.games
SUMMARY:Blood Bowl
DESCRIPTION:Join us for our ongoing Blood Bowl League! or even get yourself a demo game.
URL:https://afk.games/event/blood-bowl/2023-02-20/
LOCATION:AFK Games\, 2495 Cedar Street STE 14-B\, Holt\, MI\, 48842\, United States
CATEGORIES:Blood Bowl,Games Workshop
ORGANIZER;CN="AFK Games":MAILTO:support@afk-games.com
END:VEVENT
BEGIN:VEVENT
DTSTART;TZID=America/Detroit:20230213T183000
DTEND;TZID=America/Detroit:20230213T213000
DTSTAMP:20260419T160408
CREATED:20221220T022137Z
LAST-MODIFIED:20240321T193839Z
UID:10001012-1676313000-1676323800@afk.games
SUMMARY:Blood Bowl
DESCRIPTION:Join us for our ongoing Blood Bowl League! or even get yourself a demo game.
URL:https://afk.games/event/blood-bowl/2023-02-13/
LOCATION:AFK Games\, 2495 Cedar Street STE 14-B\, Holt\, MI\, 48842\, United States
CATEGORIES:Blood Bowl,Games Workshop
ORGANIZER;CN="AFK Games":MAILTO:support@afk-games.com
END:VEVENT
BEGIN:VEVENT
DTSTART;TZID=America/Detroit:20230206T183000
DTEND;TZID=America/Detroit:20230206T213000
DTSTAMP:20260419T160408
CREATED:20221220T022137Z
LAST-MODIFIED:20240321T193839Z
UID:10001011-1675708200-1675719000@afk.games
SUMMARY:Blood Bowl
DESCRIPTION:Join us for our ongoing Blood Bowl League! or even get yourself a demo game.
URL:https://afk.games/event/blood-bowl/2023-02-06/
LOCATION:AFK Games\, 2495 Cedar Street STE 14-B\, Holt\, MI\, 48842\, United States
CATEGORIES:Blood Bowl,Games Workshop
ORGANIZER;CN="AFK Games":MAILTO:support@afk-games.com
END:VEVENT
BEGIN:VEVENT
DTSTART;TZID=America/Detroit:20230130T183000
DTEND;TZID=America/Detroit:20230130T213000
DTSTAMP:20260419T160408
CREATED:20221220T022137Z
LAST-MODIFIED:20240321T193839Z
UID:10001010-1675103400-1675114200@afk.games
SUMMARY:Blood Bowl
DESCRIPTION:Join us for our ongoing Blood Bowl League! or even get yourself a demo game.
URL:https://afk.games/event/blood-bowl/2023-01-30/
LOCATION:AFK Games\, 2495 Cedar Street STE 14-B\, Holt\, MI\, 48842\, United States
CATEGORIES:Blood Bowl,Games Workshop
ORGANIZER;CN="AFK Games":MAILTO:support@afk-games.com
END:VEVENT
BEGIN:VEVENT
DTSTART;TZID=America/Detroit:20230123T183000
DTEND;TZID=America/Detroit:20230123T213000
DTSTAMP:20260419T160408
CREATED:20221220T022137Z
LAST-MODIFIED:20240321T193839Z
UID:10001009-1674498600-1674509400@afk.games
SUMMARY:Blood Bowl
DESCRIPTION:Join us for our ongoing Blood Bowl League! or even get yourself a demo game.
URL:https://afk.games/event/blood-bowl/2023-01-23/
LOCATION:AFK Games\, 2495 Cedar Street STE 14-B\, Holt\, MI\, 48842\, United States
CATEGORIES:Blood Bowl,Games Workshop
ORGANIZER;CN="AFK Games":MAILTO:support@afk-games.com
END:VEVENT
BEGIN:VEVENT
DTSTART;TZID=America/Detroit:20230116T183000
DTEND;TZID=America/Detroit:20230116T213000
DTSTAMP:20260419T160408
CREATED:20221220T022137Z
LAST-MODIFIED:20240321T193839Z
UID:10001008-1673893800-1673904600@afk.games
SUMMARY:Blood Bowl
DESCRIPTION:Join us for our ongoing Blood Bowl League! or even get yourself a demo game.
URL:https://afk.games/event/blood-bowl/2023-01-16/
LOCATION:AFK Games\, 2495 Cedar Street STE 14-B\, Holt\, MI\, 48842\, United States
CATEGORIES:Blood Bowl,Games Workshop
ORGANIZER;CN="AFK Games":MAILTO:support@afk-games.com
END:VEVENT
BEGIN:VEVENT
DTSTART;TZID=America/Detroit:20230109T183000
DTEND;TZID=America/Detroit:20230109T213000
DTSTAMP:20260419T160408
CREATED:20221220T022137Z
LAST-MODIFIED:20240321T193839Z
UID:10001007-1673289000-1673299800@afk.games
SUMMARY:Blood Bowl
DESCRIPTION:Join us for our ongoing Blood Bowl League! or even get yourself a demo game.
URL:https://afk.games/event/blood-bowl/2023-01-09/
LOCATION:AFK Games\, 2495 Cedar Street STE 14-B\, Holt\, MI\, 48842\, United States
CATEGORIES:Blood Bowl,Games Workshop
ORGANIZER;CN="AFK Games":MAILTO:support@afk-games.com
END:VEVENT
BEGIN:VEVENT
DTSTART;TZID=America/Detroit:20230102T183000
DTEND;TZID=America/Detroit:20230102T213000
DTSTAMP:20260419T160408
CREATED:20221220T022137Z
LAST-MODIFIED:20240321T193839Z
UID:10001006-1672684200-1672695000@afk.games
SUMMARY:Blood Bowl
DESCRIPTION:Join us for our ongoing Blood Bowl League! or even get yourself a demo game.
URL:https://afk.games/event/blood-bowl/2023-01-02/
LOCATION:AFK Games\, 2495 Cedar Street STE 14-B\, Holt\, MI\, 48842\, United States
CATEGORIES:Blood Bowl,Games Workshop
ORGANIZER;CN="AFK Games":MAILTO:support@afk-games.com
END:VEVENT
END:VCALENDAR