BEGIN:VCALENDAR
VERSION:2.0
PRODID:-//AFK Games - ECPv6.15.20//NONSGML v1.0//EN
CALSCALE:GREGORIAN
METHOD:PUBLISH
X-WR-CALNAME:AFK Games
X-ORIGINAL-URL:https://afk.games
X-WR-CALDESC:Events for AFK Games
REFRESH-INTERVAL;VALUE=DURATION:PT1H
X-Robots-Tag:noindex
X-PUBLISHED-TTL:PT1H
BEGIN:VTIMEZONE
TZID:America/Detroit
BEGIN:DAYLIGHT
TZOFFSETFROM:-0500
TZOFFSETTO:-0400
TZNAME:EDT
DTSTART:20220313T070000
END:DAYLIGHT
BEGIN:STANDARD
TZOFFSETFROM:-0400
TZOFFSETTO:-0500
TZNAME:EST
DTSTART:20221106T060000
END:STANDARD
BEGIN:DAYLIGHT
TZOFFSETFROM:-0500
TZOFFSETTO:-0400
TZNAME:EDT
DTSTART:20230312T070000
END:DAYLIGHT
BEGIN:STANDARD
TZOFFSETFROM:-0400
TZOFFSETTO:-0500
TZNAME:EST
DTSTART:20231105T060000
END:STANDARD
BEGIN:DAYLIGHT
TZOFFSETFROM:-0500
TZOFFSETTO:-0400
TZNAME:EDT
DTSTART:20240310T070000
END:DAYLIGHT
BEGIN:STANDARD
TZOFFSETFROM:-0400
TZOFFSETTO:-0500
TZNAME:EST
DTSTART:20241103T060000
END:STANDARD
END:VTIMEZONE
BEGIN:VEVENT
DTSTART;TZID=America/Detroit:20231009T183000
DTEND;TZID=America/Detroit:20231009T213000
DTSTAMP:20260419T094345
CREATED:20221220T022137Z
LAST-MODIFIED:20240321T193839Z
UID:10001046-1696876200-1696887000@afk.games
SUMMARY:Blood Bowl
DESCRIPTION:Join us for our ongoing Blood Bowl League! or even get yourself a demo game.
URL:https://afk.games/event/blood-bowl/2023-10-09/
LOCATION:AFK Games\, 2495 Cedar Street STE 14-B\, Holt\, MI\, 48842\, United States
CATEGORIES:Blood Bowl,Games Workshop
ORGANIZER;CN="AFK Games":MAILTO:support@afk-games.com
END:VEVENT
BEGIN:VEVENT
DTSTART;TZID=America/Detroit:20231002T183000
DTEND;TZID=America/Detroit:20231002T213000
DTSTAMP:20260419T094345
CREATED:20221220T022137Z
LAST-MODIFIED:20240321T193839Z
UID:10001045-1696271400-1696282200@afk.games
SUMMARY:Blood Bowl
DESCRIPTION:Join us for our ongoing Blood Bowl League! or even get yourself a demo game.
URL:https://afk.games/event/blood-bowl/2023-10-02/
LOCATION:AFK Games\, 2495 Cedar Street STE 14-B\, Holt\, MI\, 48842\, United States
CATEGORIES:Blood Bowl,Games Workshop
ORGANIZER;CN="AFK Games":MAILTO:support@afk-games.com
END:VEVENT
BEGIN:VEVENT
DTSTART;TZID=America/Detroit:20230925T183000
DTEND;TZID=America/Detroit:20230925T213000
DTSTAMP:20260419T094345
CREATED:20221220T022137Z
LAST-MODIFIED:20240321T193839Z
UID:10001044-1695666600-1695677400@afk.games
SUMMARY:Blood Bowl
DESCRIPTION:Join us for our ongoing Blood Bowl League! or even get yourself a demo game.
URL:https://afk.games/event/blood-bowl/2023-09-25/
LOCATION:AFK Games\, 2495 Cedar Street STE 14-B\, Holt\, MI\, 48842\, United States
CATEGORIES:Blood Bowl,Games Workshop
ORGANIZER;CN="AFK Games":MAILTO:support@afk-games.com
END:VEVENT
BEGIN:VEVENT
DTSTART;TZID=America/Detroit:20230918T183000
DTEND;TZID=America/Detroit:20230918T213000
DTSTAMP:20260419T094345
CREATED:20221220T022137Z
LAST-MODIFIED:20240321T193839Z
UID:10001043-1695061800-1695072600@afk.games
SUMMARY:Blood Bowl
DESCRIPTION:Join us for our ongoing Blood Bowl League! or even get yourself a demo game.
URL:https://afk.games/event/blood-bowl/2023-09-18/
LOCATION:AFK Games\, 2495 Cedar Street STE 14-B\, Holt\, MI\, 48842\, United States
CATEGORIES:Blood Bowl,Games Workshop
ORGANIZER;CN="AFK Games":MAILTO:support@afk-games.com
END:VEVENT
BEGIN:VEVENT
DTSTART;TZID=America/Detroit:20230911T183000
DTEND;TZID=America/Detroit:20230911T213000
DTSTAMP:20260419T094345
CREATED:20221220T022137Z
LAST-MODIFIED:20240321T193839Z
UID:10001042-1694457000-1694467800@afk.games
SUMMARY:Blood Bowl
DESCRIPTION:Join us for our ongoing Blood Bowl League! or even get yourself a demo game.
URL:https://afk.games/event/blood-bowl/2023-09-11/
LOCATION:AFK Games\, 2495 Cedar Street STE 14-B\, Holt\, MI\, 48842\, United States
CATEGORIES:Blood Bowl,Games Workshop
ORGANIZER;CN="AFK Games":MAILTO:support@afk-games.com
END:VEVENT
BEGIN:VEVENT
DTSTART;TZID=America/Detroit:20230904T183000
DTEND;TZID=America/Detroit:20230904T213000
DTSTAMP:20260419T094345
CREATED:20221220T022137Z
LAST-MODIFIED:20240321T193839Z
UID:10001041-1693852200-1693863000@afk.games
SUMMARY:Blood Bowl
DESCRIPTION:Join us for our ongoing Blood Bowl League! or even get yourself a demo game.
URL:https://afk.games/event/blood-bowl/2023-09-04/
LOCATION:AFK Games\, 2495 Cedar Street STE 14-B\, Holt\, MI\, 48842\, United States
CATEGORIES:Blood Bowl,Games Workshop
ORGANIZER;CN="AFK Games":MAILTO:support@afk-games.com
END:VEVENT
BEGIN:VEVENT
DTSTART;TZID=America/Detroit:20230828T183000
DTEND;TZID=America/Detroit:20230828T213000
DTSTAMP:20260419T094345
CREATED:20221220T022137Z
LAST-MODIFIED:20240321T193839Z
UID:10001040-1693247400-1693258200@afk.games
SUMMARY:Blood Bowl
DESCRIPTION:Join us for our ongoing Blood Bowl League! or even get yourself a demo game.
URL:https://afk.games/event/blood-bowl/2023-08-28/
LOCATION:AFK Games\, 2495 Cedar Street STE 14-B\, Holt\, MI\, 48842\, United States
CATEGORIES:Blood Bowl,Games Workshop
ORGANIZER;CN="AFK Games":MAILTO:support@afk-games.com
END:VEVENT
BEGIN:VEVENT
DTSTART;TZID=America/Detroit:20230821T183000
DTEND;TZID=America/Detroit:20230821T213000
DTSTAMP:20260419T094345
CREATED:20221220T022137Z
LAST-MODIFIED:20240321T193839Z
UID:10001039-1692642600-1692653400@afk.games
SUMMARY:Blood Bowl
DESCRIPTION:Join us for our ongoing Blood Bowl League! or even get yourself a demo game.
URL:https://afk.games/event/blood-bowl/2023-08-21/
LOCATION:AFK Games\, 2495 Cedar Street STE 14-B\, Holt\, MI\, 48842\, United States
CATEGORIES:Blood Bowl,Games Workshop
ORGANIZER;CN="AFK Games":MAILTO:support@afk-games.com
END:VEVENT
BEGIN:VEVENT
DTSTART;TZID=America/Detroit:20230814T183000
DTEND;TZID=America/Detroit:20230814T213000
DTSTAMP:20260419T094345
CREATED:20221220T022137Z
LAST-MODIFIED:20240321T193839Z
UID:10001038-1692037800-1692048600@afk.games
SUMMARY:Blood Bowl
DESCRIPTION:Join us for our ongoing Blood Bowl League! or even get yourself a demo game.
URL:https://afk.games/event/blood-bowl/2023-08-14/
LOCATION:AFK Games\, 2495 Cedar Street STE 14-B\, Holt\, MI\, 48842\, United States
CATEGORIES:Blood Bowl,Games Workshop
ORGANIZER;CN="AFK Games":MAILTO:support@afk-games.com
END:VEVENT
BEGIN:VEVENT
DTSTART;TZID=America/Detroit:20230807T183000
DTEND;TZID=America/Detroit:20230807T213000
DTSTAMP:20260419T094345
CREATED:20221220T022137Z
LAST-MODIFIED:20240321T193839Z
UID:10001037-1691433000-1691443800@afk.games
SUMMARY:Blood Bowl
DESCRIPTION:Join us for our ongoing Blood Bowl League! or even get yourself a demo game.
URL:https://afk.games/event/blood-bowl/2023-08-07/
LOCATION:AFK Games\, 2495 Cedar Street STE 14-B\, Holt\, MI\, 48842\, United States
CATEGORIES:Blood Bowl,Games Workshop
ORGANIZER;CN="AFK Games":MAILTO:support@afk-games.com
END:VEVENT
BEGIN:VEVENT
DTSTART;TZID=America/Detroit:20230731T183000
DTEND;TZID=America/Detroit:20230731T213000
DTSTAMP:20260419T094345
CREATED:20221220T022137Z
LAST-MODIFIED:20240321T193839Z
UID:10001036-1690828200-1690839000@afk.games
SUMMARY:Blood Bowl
DESCRIPTION:Join us for our ongoing Blood Bowl League! or even get yourself a demo game.
URL:https://afk.games/event/blood-bowl/2023-07-31/
LOCATION:AFK Games\, 2495 Cedar Street STE 14-B\, Holt\, MI\, 48842\, United States
CATEGORIES:Blood Bowl,Games Workshop
ORGANIZER;CN="AFK Games":MAILTO:support@afk-games.com
END:VEVENT
BEGIN:VEVENT
DTSTART;TZID=America/Detroit:20230724T183000
DTEND;TZID=America/Detroit:20230724T213000
DTSTAMP:20260419T094345
CREATED:20221220T022137Z
LAST-MODIFIED:20240321T193839Z
UID:10001035-1690223400-1690234200@afk.games
SUMMARY:Blood Bowl
DESCRIPTION:Join us for our ongoing Blood Bowl League! or even get yourself a demo game.
URL:https://afk.games/event/blood-bowl/2023-07-24/
LOCATION:AFK Games\, 2495 Cedar Street STE 14-B\, Holt\, MI\, 48842\, United States
CATEGORIES:Blood Bowl,Games Workshop
ORGANIZER;CN="AFK Games":MAILTO:support@afk-games.com
END:VEVENT
BEGIN:VEVENT
DTSTART;TZID=America/Detroit:20230717T183000
DTEND;TZID=America/Detroit:20230717T213000
DTSTAMP:20260419T094345
CREATED:20221220T022137Z
LAST-MODIFIED:20240321T193839Z
UID:10001034-1689618600-1689629400@afk.games
SUMMARY:Blood Bowl
DESCRIPTION:Join us for our ongoing Blood Bowl League! or even get yourself a demo game.
URL:https://afk.games/event/blood-bowl/2023-07-17/
LOCATION:AFK Games\, 2495 Cedar Street STE 14-B\, Holt\, MI\, 48842\, United States
CATEGORIES:Blood Bowl,Games Workshop
ORGANIZER;CN="AFK Games":MAILTO:support@afk-games.com
END:VEVENT
BEGIN:VEVENT
DTSTART;TZID=America/Detroit:20230710T183000
DTEND;TZID=America/Detroit:20230710T213000
DTSTAMP:20260419T094345
CREATED:20221220T022137Z
LAST-MODIFIED:20240321T193839Z
UID:10001033-1689013800-1689024600@afk.games
SUMMARY:Blood Bowl
DESCRIPTION:Join us for our ongoing Blood Bowl League! or even get yourself a demo game.
URL:https://afk.games/event/blood-bowl/2023-07-10/
LOCATION:AFK Games\, 2495 Cedar Street STE 14-B\, Holt\, MI\, 48842\, United States
CATEGORIES:Blood Bowl,Games Workshop
ORGANIZER;CN="AFK Games":MAILTO:support@afk-games.com
END:VEVENT
BEGIN:VEVENT
DTSTART;TZID=America/Detroit:20230703T183000
DTEND;TZID=America/Detroit:20230703T213000
DTSTAMP:20260419T094345
CREATED:20221220T022137Z
LAST-MODIFIED:20240321T193839Z
UID:10001032-1688409000-1688419800@afk.games
SUMMARY:Blood Bowl
DESCRIPTION:Join us for our ongoing Blood Bowl League! or even get yourself a demo game.
URL:https://afk.games/event/blood-bowl/2023-07-03/
LOCATION:AFK Games\, 2495 Cedar Street STE 14-B\, Holt\, MI\, 48842\, United States
CATEGORIES:Blood Bowl,Games Workshop
ORGANIZER;CN="AFK Games":MAILTO:support@afk-games.com
END:VEVENT
BEGIN:VEVENT
DTSTART;TZID=America/Detroit:20230626T183000
DTEND;TZID=America/Detroit:20230626T213000
DTSTAMP:20260419T094345
CREATED:20221220T022137Z
LAST-MODIFIED:20240321T193839Z
UID:10001031-1687804200-1687815000@afk.games
SUMMARY:Blood Bowl
DESCRIPTION:Join us for our ongoing Blood Bowl League! or even get yourself a demo game.
URL:https://afk.games/event/blood-bowl/2023-06-26/
LOCATION:AFK Games\, 2495 Cedar Street STE 14-B\, Holt\, MI\, 48842\, United States
CATEGORIES:Blood Bowl,Games Workshop
ORGANIZER;CN="AFK Games":MAILTO:support@afk-games.com
END:VEVENT
BEGIN:VEVENT
DTSTART;TZID=America/Detroit:20230619T183000
DTEND;TZID=America/Detroit:20230619T213000
DTSTAMP:20260419T094345
CREATED:20221220T022137Z
LAST-MODIFIED:20240321T193839Z
UID:10001030-1687199400-1687210200@afk.games
SUMMARY:Blood Bowl
DESCRIPTION:Join us for our ongoing Blood Bowl League! or even get yourself a demo game.
URL:https://afk.games/event/blood-bowl/2023-06-19/
LOCATION:AFK Games\, 2495 Cedar Street STE 14-B\, Holt\, MI\, 48842\, United States
CATEGORIES:Blood Bowl,Games Workshop
ORGANIZER;CN="AFK Games":MAILTO:support@afk-games.com
END:VEVENT
BEGIN:VEVENT
DTSTART;TZID=America/Detroit:20230612T183000
DTEND;TZID=America/Detroit:20230612T213000
DTSTAMP:20260419T094345
CREATED:20221220T022137Z
LAST-MODIFIED:20240321T193839Z
UID:10001029-1686594600-1686605400@afk.games
SUMMARY:Blood Bowl
DESCRIPTION:Join us for our ongoing Blood Bowl League! or even get yourself a demo game.
URL:https://afk.games/event/blood-bowl/2023-06-12/
LOCATION:AFK Games\, 2495 Cedar Street STE 14-B\, Holt\, MI\, 48842\, United States
CATEGORIES:Blood Bowl,Games Workshop
ORGANIZER;CN="AFK Games":MAILTO:support@afk-games.com
END:VEVENT
BEGIN:VEVENT
DTSTART;TZID=America/Detroit:20230605T183000
DTEND;TZID=America/Detroit:20230605T213000
DTSTAMP:20260419T094345
CREATED:20221220T022137Z
LAST-MODIFIED:20240321T193839Z
UID:10001028-1685989800-1686000600@afk.games
SUMMARY:Blood Bowl
DESCRIPTION:Join us for our ongoing Blood Bowl League! or even get yourself a demo game.
URL:https://afk.games/event/blood-bowl/2023-06-05/
LOCATION:AFK Games\, 2495 Cedar Street STE 14-B\, Holt\, MI\, 48842\, United States
CATEGORIES:Blood Bowl,Games Workshop
ORGANIZER;CN="AFK Games":MAILTO:support@afk-games.com
END:VEVENT
BEGIN:VEVENT
DTSTART;TZID=America/Detroit:20230529T183000
DTEND;TZID=America/Detroit:20230529T213000
DTSTAMP:20260419T094345
CREATED:20221220T022137Z
LAST-MODIFIED:20240321T193839Z
UID:10001027-1685385000-1685395800@afk.games
SUMMARY:Blood Bowl
DESCRIPTION:Join us for our ongoing Blood Bowl League! or even get yourself a demo game.
URL:https://afk.games/event/blood-bowl/2023-05-29/
LOCATION:AFK Games\, 2495 Cedar Street STE 14-B\, Holt\, MI\, 48842\, United States
CATEGORIES:Blood Bowl,Games Workshop
ORGANIZER;CN="AFK Games":MAILTO:support@afk-games.com
END:VEVENT
BEGIN:VEVENT
DTSTART;TZID=America/Detroit:20230527T123000
DTEND;TZID=America/Detroit:20230527T183000
DTSTAMP:20260419T094345
CREATED:20230525T193646Z
LAST-MODIFIED:20230525T193646Z
UID:10001350-1685190600-1685212200@afk.games
SUMMARY:Lansing AFK Cup - Blood Bowl Sevens
DESCRIPTION:Join us for the inaugural AFK Cup in Lansing\, Michigan!\nBlood Bowl Sevens is a shorter\, quicker version of the sport played on a smaller pitch by players who weren’t quite good enough to make it into the big leagues.\n27th May 2023\, 12:30pm to 6:15pm at AFK Games: 2495 Cedar Street STE 14-B\, Holt\, MI 48842.\nCheck-in starts at noon!\n•$15 buy-in\, prize support for winners and additional categories\n•All Blood Bowl 2020 races & rosters are available from the Second Season Rulebook\, Teams of Legend pdf\, as well as the NAF-approved rosters for Slann. No 2016 rosters are available.\n•No star players are allowed.\n•600\,000 gp to spend on your team.\n•You must hire a minimum of 7 and maximum of 11 players. Only 4 positional players allowed\, all other players must be linemen.\nRe-rolls on team creation cost double the amount listed (they’re amateurs).\n•Skill allocation determined by team tier.\n•Assistant coaches and cheerleaders cost double (20\,000 each).\n•Inducements must be bought at team creation\, at the pricing provided in the Death Zone book and as described below. •Desperate measures may also be rostered as an inducement\, but a new roll on the table will be required before each game. No wizards\, infamous coaching staff\, or other inducements not listed in the •Sevens Rules may be induced (see Death Zone p.93 for a full list of allowed inducements).\n•No mercenaries will be permitted\, including giants or star players.\nFull Rules Packet:\nhttps://docs.google.com/document/d/1t59IdkMhuxg_6HlUQq7jZDsMH1NO1rVVnj2LGQrX0og/edit?usp=sharing\nThe NAF Event:\nhttps://member.thenaf.net/index.php?module=NAF&type=tournaments&func=view&id=7600&fbclid=IwAR0-t0Urpekm1R3v0HZpFO7M5_Dk3qiR6Dzg-ZaDmwl53ZsGgt01CDO33y0
URL:https://afk.games/event/lansing-afk-cup-blood-bowl-sevens/
LOCATION:AFK Games\, 2495 Cedar Street STE 14-B\, Holt\, MI\, 48842\, United States
CATEGORIES:Blood Bowl,Events,Games Workshop
ORGANIZER;CN="AFK Games":MAILTO:support@afk-games.com
END:VEVENT
BEGIN:VEVENT
DTSTART;TZID=America/Detroit:20230522T183000
DTEND;TZID=America/Detroit:20230522T213000
DTSTAMP:20260419T094345
CREATED:20221220T022137Z
LAST-MODIFIED:20240321T193839Z
UID:10001026-1684780200-1684791000@afk.games
SUMMARY:Blood Bowl
DESCRIPTION:Join us for our ongoing Blood Bowl League! or even get yourself a demo game.
URL:https://afk.games/event/blood-bowl/2023-05-22/
LOCATION:AFK Games\, 2495 Cedar Street STE 14-B\, Holt\, MI\, 48842\, United States
CATEGORIES:Blood Bowl,Games Workshop
ORGANIZER;CN="AFK Games":MAILTO:support@afk-games.com
END:VEVENT
BEGIN:VEVENT
DTSTART;TZID=America/Detroit:20230515T183000
DTEND;TZID=America/Detroit:20230515T213000
DTSTAMP:20260419T094345
CREATED:20221220T022137Z
LAST-MODIFIED:20240321T193839Z
UID:10001025-1684175400-1684186200@afk.games
SUMMARY:Blood Bowl
DESCRIPTION:Join us for our ongoing Blood Bowl League! or even get yourself a demo game.
URL:https://afk.games/event/blood-bowl/2023-05-15/
LOCATION:AFK Games\, 2495 Cedar Street STE 14-B\, Holt\, MI\, 48842\, United States
CATEGORIES:Blood Bowl,Games Workshop
ORGANIZER;CN="AFK Games":MAILTO:support@afk-games.com
END:VEVENT
BEGIN:VEVENT
DTSTART;TZID=America/Detroit:20230508T183000
DTEND;TZID=America/Detroit:20230508T213000
DTSTAMP:20260419T094345
CREATED:20221220T022137Z
LAST-MODIFIED:20240321T193839Z
UID:10001024-1683570600-1683581400@afk.games
SUMMARY:Blood Bowl
DESCRIPTION:Join us for our ongoing Blood Bowl League! or even get yourself a demo game.
URL:https://afk.games/event/blood-bowl/2023-05-08/
LOCATION:AFK Games\, 2495 Cedar Street STE 14-B\, Holt\, MI\, 48842\, United States
CATEGORIES:Blood Bowl,Games Workshop
ORGANIZER;CN="AFK Games":MAILTO:support@afk-games.com
END:VEVENT
BEGIN:VEVENT
DTSTART;TZID=America/Detroit:20230501T183000
DTEND;TZID=America/Detroit:20230501T213000
DTSTAMP:20260419T094345
CREATED:20221220T022137Z
LAST-MODIFIED:20240321T193839Z
UID:10001023-1682965800-1682976600@afk.games
SUMMARY:Blood Bowl
DESCRIPTION:Join us for our ongoing Blood Bowl League! or even get yourself a demo game.
URL:https://afk.games/event/blood-bowl/2023-05-01/
LOCATION:AFK Games\, 2495 Cedar Street STE 14-B\, Holt\, MI\, 48842\, United States
CATEGORIES:Blood Bowl,Games Workshop
ORGANIZER;CN="AFK Games":MAILTO:support@afk-games.com
END:VEVENT
BEGIN:VEVENT
DTSTART;TZID=America/Detroit:20230424T183000
DTEND;TZID=America/Detroit:20230424T213000
DTSTAMP:20260419T094345
CREATED:20221220T022137Z
LAST-MODIFIED:20240321T193839Z
UID:10001022-1682361000-1682371800@afk.games
SUMMARY:Blood Bowl
DESCRIPTION:Join us for our ongoing Blood Bowl League! or even get yourself a demo game.
URL:https://afk.games/event/blood-bowl/2023-04-24/
LOCATION:AFK Games\, 2495 Cedar Street STE 14-B\, Holt\, MI\, 48842\, United States
CATEGORIES:Blood Bowl,Games Workshop
ORGANIZER;CN="AFK Games":MAILTO:support@afk-games.com
END:VEVENT
BEGIN:VEVENT
DTSTART;TZID=America/Detroit:20230417T183000
DTEND;TZID=America/Detroit:20230417T213000
DTSTAMP:20260419T094345
CREATED:20221220T022137Z
LAST-MODIFIED:20240321T193839Z
UID:10001021-1681756200-1681767000@afk.games
SUMMARY:Blood Bowl
DESCRIPTION:Join us for our ongoing Blood Bowl League! or even get yourself a demo game.
URL:https://afk.games/event/blood-bowl/2023-04-17/
LOCATION:AFK Games\, 2495 Cedar Street STE 14-B\, Holt\, MI\, 48842\, United States
CATEGORIES:Blood Bowl,Games Workshop
ORGANIZER;CN="AFK Games":MAILTO:support@afk-games.com
END:VEVENT
BEGIN:VEVENT
DTSTART;TZID=America/Detroit:20230410T183000
DTEND;TZID=America/Detroit:20230410T213000
DTSTAMP:20260419T094345
CREATED:20221220T022137Z
LAST-MODIFIED:20240321T193839Z
UID:10001020-1681151400-1681162200@afk.games
SUMMARY:Blood Bowl
DESCRIPTION:Join us for our ongoing Blood Bowl League! or even get yourself a demo game.
URL:https://afk.games/event/blood-bowl/2023-04-10/
LOCATION:AFK Games\, 2495 Cedar Street STE 14-B\, Holt\, MI\, 48842\, United States
CATEGORIES:Blood Bowl,Games Workshop
ORGANIZER;CN="AFK Games":MAILTO:support@afk-games.com
END:VEVENT
BEGIN:VEVENT
DTSTART;TZID=America/Detroit:20230403T183000
DTEND;TZID=America/Detroit:20230403T213000
DTSTAMP:20260419T094345
CREATED:20221220T022137Z
LAST-MODIFIED:20240321T193839Z
UID:10001019-1680546600-1680557400@afk.games
SUMMARY:Blood Bowl
DESCRIPTION:Join us for our ongoing Blood Bowl League! or even get yourself a demo game.
URL:https://afk.games/event/blood-bowl/2023-04-03/
LOCATION:AFK Games\, 2495 Cedar Street STE 14-B\, Holt\, MI\, 48842\, United States
CATEGORIES:Blood Bowl,Games Workshop
ORGANIZER;CN="AFK Games":MAILTO:support@afk-games.com
END:VEVENT
BEGIN:VEVENT
DTSTART;TZID=America/Detroit:20230327T183000
DTEND;TZID=America/Detroit:20230327T213000
DTSTAMP:20260419T094345
CREATED:20221220T022137Z
LAST-MODIFIED:20240321T193839Z
UID:10001018-1679941800-1679952600@afk.games
SUMMARY:Blood Bowl
DESCRIPTION:Join us for our ongoing Blood Bowl League! or even get yourself a demo game.
URL:https://afk.games/event/blood-bowl/2023-03-27/
LOCATION:AFK Games\, 2495 Cedar Street STE 14-B\, Holt\, MI\, 48842\, United States
CATEGORIES:Blood Bowl,Games Workshop
ORGANIZER;CN="AFK Games":MAILTO:support@afk-games.com
END:VEVENT
END:VCALENDAR