BEGIN:VCALENDAR
VERSION:2.0
PRODID:-//AFK Games - ECPv6.15.20//NONSGML v1.0//EN
CALSCALE:GREGORIAN
METHOD:PUBLISH
X-ORIGINAL-URL:https://afk.games
X-WR-CALDESC:Events for AFK Games
REFRESH-INTERVAL;VALUE=DURATION:PT1H
X-Robots-Tag:noindex
X-PUBLISHED-TTL:PT1H
BEGIN:VTIMEZONE
TZID:America/Detroit
BEGIN:DAYLIGHT
TZOFFSETFROM:-0500
TZOFFSETTO:-0400
TZNAME:EDT
DTSTART:20240310T070000
END:DAYLIGHT
BEGIN:STANDARD
TZOFFSETFROM:-0400
TZOFFSETTO:-0500
TZNAME:EST
DTSTART:20241103T060000
END:STANDARD
BEGIN:DAYLIGHT
TZOFFSETFROM:-0500
TZOFFSETTO:-0400
TZNAME:EDT
DTSTART:20250309T070000
END:DAYLIGHT
BEGIN:STANDARD
TZOFFSETFROM:-0400
TZOFFSETTO:-0500
TZNAME:EST
DTSTART:20251102T060000
END:STANDARD
BEGIN:DAYLIGHT
TZOFFSETFROM:-0500
TZOFFSETTO:-0400
TZNAME:EDT
DTSTART:20260308T070000
END:DAYLIGHT
BEGIN:STANDARD
TZOFFSETFROM:-0400
TZOFFSETTO:-0500
TZNAME:EST
DTSTART:20261101T060000
END:STANDARD
BEGIN:DAYLIGHT
TZOFFSETFROM:-0500
TZOFFSETTO:-0400
TZNAME:EDT
DTSTART:20270314T070000
END:DAYLIGHT
BEGIN:STANDARD
TZOFFSETFROM:-0400
TZOFFSETTO:-0500
TZNAME:EST
DTSTART:20271107T060000
END:STANDARD
END:VTIMEZONE
BEGIN:VEVENT
DTSTART;TZID=America/Detroit:20251119T180000
DTEND;TZID=America/Detroit:20251119T213000
DTSTAMP:20260422T174700
CREATED:20260101T203519Z
LAST-MODIFIED:20260101T203519Z
UID:10004887-1763575200-1763587800@afk.games
SUMMARY:Grand Archive Store Tournament
DESCRIPTION:Free entry \nEvent packs to top players \nYou can check out Grand Archive tools by official creator guild websites such as:\nhttps://silvie.gg (Tournament data/Various other helpful tools)\nhttps://fractalofin.site/ (Tournament Data)\nhttps://shoutatyourdecks.com (Deckbuilder)
URL:https://afk.games/event/grand-archive-store-tournament-2/2025-11-19/
LOCATION:AFK Games\, 2495 Cedar Street STE 14-B\, Holt\, MI\, 48842\, United States
CATEGORIES:Events,Grand Archive
ORGANIZER;CN="AFK Games":MAILTO:support@afk-games.com
END:VEVENT
BEGIN:VEVENT
DTSTART;TZID=America/Detroit:20251126T180000
DTEND;TZID=America/Detroit:20251126T213000
DTSTAMP:20260422T174700
CREATED:20260101T203519Z
LAST-MODIFIED:20260101T203519Z
UID:10004888-1764180000-1764192600@afk.games
SUMMARY:Grand Archive Store Tournament
DESCRIPTION:Free entry \nEvent packs to top players \nYou can check out Grand Archive tools by official creator guild websites such as:\nhttps://silvie.gg (Tournament data/Various other helpful tools)\nhttps://fractalofin.site/ (Tournament Data)\nhttps://shoutatyourdecks.com (Deckbuilder)
URL:https://afk.games/event/grand-archive-store-tournament-2/2025-11-26/
LOCATION:AFK Games\, 2495 Cedar Street STE 14-B\, Holt\, MI\, 48842\, United States
CATEGORIES:Events,Grand Archive
ORGANIZER;CN="AFK Games":MAILTO:support@afk-games.com
END:VEVENT
BEGIN:VEVENT
DTSTART;TZID=America/Detroit:20251203T180000
DTEND;TZID=America/Detroit:20251203T213000
DTSTAMP:20260422T174700
CREATED:20260101T203519Z
LAST-MODIFIED:20260101T203519Z
UID:10004889-1764784800-1764797400@afk.games
SUMMARY:Grand Archive Store Tournament
DESCRIPTION:Free entry \nEvent packs to top players \nYou can check out Grand Archive tools by official creator guild websites such as:\nhttps://silvie.gg (Tournament data/Various other helpful tools)\nhttps://fractalofin.site/ (Tournament Data)\nhttps://shoutatyourdecks.com (Deckbuilder)
URL:https://afk.games/event/grand-archive-store-tournament-2/2025-12-03/
LOCATION:AFK Games\, 2495 Cedar Street STE 14-B\, Holt\, MI\, 48842\, United States
CATEGORIES:Events,Grand Archive
ORGANIZER;CN="AFK Games":MAILTO:support@afk-games.com
END:VEVENT
BEGIN:VEVENT
DTSTART;TZID=America/Detroit:20251210T180000
DTEND;TZID=America/Detroit:20251210T213000
DTSTAMP:20260422T174700
CREATED:20260101T203519Z
LAST-MODIFIED:20260101T203519Z
UID:10004890-1765389600-1765402200@afk.games
SUMMARY:Grand Archive Store Tournament
DESCRIPTION:Free entry \nEvent packs to top players \nYou can check out Grand Archive tools by official creator guild websites such as:\nhttps://silvie.gg (Tournament data/Various other helpful tools)\nhttps://fractalofin.site/ (Tournament Data)\nhttps://shoutatyourdecks.com (Deckbuilder)
URL:https://afk.games/event/grand-archive-store-tournament-2/2025-12-10/
LOCATION:AFK Games\, 2495 Cedar Street STE 14-B\, Holt\, MI\, 48842\, United States
CATEGORIES:Events,Grand Archive
ORGANIZER;CN="AFK Games":MAILTO:support@afk-games.com
END:VEVENT
BEGIN:VEVENT
DTSTART;TZID=America/Detroit:20251217T180000
DTEND;TZID=America/Detroit:20251217T213000
DTSTAMP:20260422T174700
CREATED:20260101T203519Z
LAST-MODIFIED:20260101T203519Z
UID:10004891-1765994400-1766007000@afk.games
SUMMARY:Grand Archive Store Tournament
DESCRIPTION:Free entry \nEvent packs to top players \nYou can check out Grand Archive tools by official creator guild websites such as:\nhttps://silvie.gg (Tournament data/Various other helpful tools)\nhttps://fractalofin.site/ (Tournament Data)\nhttps://shoutatyourdecks.com (Deckbuilder)
URL:https://afk.games/event/grand-archive-store-tournament-2/2025-12-17/
LOCATION:AFK Games\, 2495 Cedar Street STE 14-B\, Holt\, MI\, 48842\, United States
CATEGORIES:Events,Grand Archive
ORGANIZER;CN="AFK Games":MAILTO:support@afk-games.com
END:VEVENT
BEGIN:VEVENT
DTSTART;TZID=America/Detroit:20251224T180000
DTEND;TZID=America/Detroit:20251224T213000
DTSTAMP:20260422T174700
CREATED:20260101T203519Z
LAST-MODIFIED:20260101T203519Z
UID:10004892-1766599200-1766611800@afk.games
SUMMARY:Grand Archive Store Tournament
DESCRIPTION:Free entry \nEvent packs to top players \nYou can check out Grand Archive tools by official creator guild websites such as:\nhttps://silvie.gg (Tournament data/Various other helpful tools)\nhttps://fractalofin.site/ (Tournament Data)\nhttps://shoutatyourdecks.com (Deckbuilder)
URL:https://afk.games/event/grand-archive-store-tournament-2/2025-12-24/
LOCATION:AFK Games\, 2495 Cedar Street STE 14-B\, Holt\, MI\, 48842\, United States
CATEGORIES:Events,Grand Archive
ORGANIZER;CN="AFK Games":MAILTO:support@afk-games.com
END:VEVENT
BEGIN:VEVENT
DTSTART;TZID=America/Detroit:20251231T180000
DTEND;TZID=America/Detroit:20251231T213000
DTSTAMP:20260422T174700
CREATED:20260101T203519Z
LAST-MODIFIED:20260101T203519Z
UID:10004893-1767204000-1767216600@afk.games
SUMMARY:Grand Archive Store Tournament
DESCRIPTION:Free entry \nEvent packs to top players \nYou can check out Grand Archive tools by official creator guild websites such as:\nhttps://silvie.gg (Tournament data/Various other helpful tools)\nhttps://fractalofin.site/ (Tournament Data)\nhttps://shoutatyourdecks.com (Deckbuilder)
URL:https://afk.games/event/grand-archive-store-tournament-2/2025-12-31/
LOCATION:AFK Games\, 2495 Cedar Street STE 14-B\, Holt\, MI\, 48842\, United States
CATEGORIES:Events,Grand Archive
ORGANIZER;CN="AFK Games":MAILTO:support@afk-games.com
END:VEVENT
BEGIN:VEVENT
DTSTART;TZID=America/Detroit:20260107T180000
DTEND;TZID=America/Detroit:20260107T213000
DTSTAMP:20260422T174700
CREATED:20260101T203519Z
LAST-MODIFIED:20260101T203519Z
UID:10004894-1767808800-1767821400@afk.games
SUMMARY:Grand Archive Store Tournament
DESCRIPTION:Free entry \nEvent packs to top players \nYou can check out Grand Archive tools by official creator guild websites such as:\nhttps://silvie.gg (Tournament data/Various other helpful tools)\nhttps://fractalofin.site/ (Tournament Data)\nhttps://shoutatyourdecks.com (Deckbuilder)
URL:https://afk.games/event/grand-archive-store-tournament-2/2026-01-07/
LOCATION:AFK Games\, 2495 Cedar Street STE 14-B\, Holt\, MI\, 48842\, United States
CATEGORIES:Events,Grand Archive
ORGANIZER;CN="AFK Games":MAILTO:support@afk-games.com
END:VEVENT
BEGIN:VEVENT
DTSTART;TZID=America/Detroit:20260114T180000
DTEND;TZID=America/Detroit:20260114T213000
DTSTAMP:20260422T174700
CREATED:20260101T203519Z
LAST-MODIFIED:20260101T203519Z
UID:10004895-1768413600-1768426200@afk.games
SUMMARY:Grand Archive Store Tournament
DESCRIPTION:Free entry \nEvent packs to top players \nYou can check out Grand Archive tools by official creator guild websites such as:\nhttps://silvie.gg (Tournament data/Various other helpful tools)\nhttps://fractalofin.site/ (Tournament Data)\nhttps://shoutatyourdecks.com (Deckbuilder)
URL:https://afk.games/event/grand-archive-store-tournament-2/2026-01-14/
LOCATION:AFK Games\, 2495 Cedar Street STE 14-B\, Holt\, MI\, 48842\, United States
CATEGORIES:Events,Grand Archive
ORGANIZER;CN="AFK Games":MAILTO:support@afk-games.com
END:VEVENT
BEGIN:VEVENT
DTSTART;TZID=America/Detroit:20260121T180000
DTEND;TZID=America/Detroit:20260121T213000
DTSTAMP:20260422T174700
CREATED:20260101T203519Z
LAST-MODIFIED:20260101T203519Z
UID:10004896-1769018400-1769031000@afk.games
SUMMARY:Grand Archive Store Tournament
DESCRIPTION:Free entry \nEvent packs to top players \nYou can check out Grand Archive tools by official creator guild websites such as:\nhttps://silvie.gg (Tournament data/Various other helpful tools)\nhttps://fractalofin.site/ (Tournament Data)\nhttps://shoutatyourdecks.com (Deckbuilder)
URL:https://afk.games/event/grand-archive-store-tournament-2/2026-01-21/
LOCATION:AFK Games\, 2495 Cedar Street STE 14-B\, Holt\, MI\, 48842\, United States
CATEGORIES:Events,Grand Archive
ORGANIZER;CN="AFK Games":MAILTO:support@afk-games.com
END:VEVENT
BEGIN:VEVENT
DTSTART;TZID=America/Detroit:20260128T180000
DTEND;TZID=America/Detroit:20260128T213000
DTSTAMP:20260422T174700
CREATED:20260101T203519Z
LAST-MODIFIED:20260101T203519Z
UID:10004897-1769623200-1769635800@afk.games
SUMMARY:Grand Archive Store Tournament
DESCRIPTION:Free entry \nEvent packs to top players \nYou can check out Grand Archive tools by official creator guild websites such as:\nhttps://silvie.gg (Tournament data/Various other helpful tools)\nhttps://fractalofin.site/ (Tournament Data)\nhttps://shoutatyourdecks.com (Deckbuilder)
URL:https://afk.games/event/grand-archive-store-tournament-2/2026-01-28/
LOCATION:AFK Games\, 2495 Cedar Street STE 14-B\, Holt\, MI\, 48842\, United States
CATEGORIES:Events,Grand Archive
ORGANIZER;CN="AFK Games":MAILTO:support@afk-games.com
END:VEVENT
BEGIN:VEVENT
DTSTART;TZID=America/Detroit:20260204T180000
DTEND;TZID=America/Detroit:20260204T213000
DTSTAMP:20260422T174700
CREATED:20260101T203519Z
LAST-MODIFIED:20260101T203519Z
UID:10004898-1770228000-1770240600@afk.games
SUMMARY:Grand Archive Store Tournament
DESCRIPTION:Free entry \nEvent packs to top players \nYou can check out Grand Archive tools by official creator guild websites such as:\nhttps://silvie.gg (Tournament data/Various other helpful tools)\nhttps://fractalofin.site/ (Tournament Data)\nhttps://shoutatyourdecks.com (Deckbuilder)
URL:https://afk.games/event/grand-archive-store-tournament-2/2026-02-04/
LOCATION:AFK Games\, 2495 Cedar Street STE 14-B\, Holt\, MI\, 48842\, United States
CATEGORIES:Events,Grand Archive
ORGANIZER;CN="AFK Games":MAILTO:support@afk-games.com
END:VEVENT
BEGIN:VEVENT
DTSTART;TZID=America/Detroit:20260207T100000
DTEND;TZID=America/Detroit:20260207T200000
DTSTAMP:20260422T174700
CREATED:20260120T015127Z
LAST-MODIFIED:20260120T015127Z
UID:10005599-1770458400-1770494400@afk.games
SUMMARY:Grand Archive - Michigan PTM Regional
DESCRIPTION:Tournament Info: Swiss Rounds based on attendance with NO top cut. \nWhere?: AFK Games 2495 N Cedar St STE 14B\, Holt\, MI 48842 \nWhen?: Saturday\, February 7th 2026 \nDoors Open: 10:00am EST. \nRegistration Time: 10:00am-10:45am EST. \nStart Time: 11:00am EST. \nEntry Prizing: 3x PTM Booster Packs\, 2x PTM Event packs\, 1 PTM Sapphire Pack\, PTM Regionals Binder\, and free entry into tons of random giveaways. \n1st: Champion Playmat\, Regionals Invite Card\, PTM Sapphire Packs\, and PTM Event Packs. \n2nd-16th: Finalists Playmat\, Regionals Invite Card\, PTM Sapphire Packs and PTM Event Packs. \n$1k Cash Break Down \n1st – $400 \n2nd – $200 \n3rd & 4th – $100 \n5th-8th – $50 \n$2k Cash Break Down (At 100+ Attendees) \n1st – $800 \n2nd – $400 \n3rd & 4th – $200 \n5th-8th – $100 \nOnline Decklist submitted through Omnidex required https://omni.gatcg.com/events/41460.\nNo proxies legal excluding Proxia’s Vault Cards (must be printed in color) \nLive Stream: https://youtube.com/@truechampiongaming\nNO REFUNDS ON TICKETS\nhttps://truechampiongaming.com/store \nNotice to those flying into DTW: \nYou can take the MI flyer bus from DTW to East Lansing for $34 one way. Then the venue (AFK Games) is about 15-20 minutes away instead of 90 minutes.
URL:https://afk.games/event/grand-archive-michigan-ptm-regional/
LOCATION:AFK Games\, 2495 Cedar Street STE 14-B\, Holt\, MI\, 48842\, United States
CATEGORIES:Events,Grand Archive
ORGANIZER;CN="AFK Games":MAILTO:support@afk-games.com
END:VEVENT
BEGIN:VEVENT
DTSTART;TZID=America/Detroit:20260208T120000
DTEND;TZID=America/Detroit:20260208T170000
DTSTAMP:20260422T174700
CREATED:20260125T200959Z
LAST-MODIFIED:20260125T200959Z
UID:10006028-1770552000-1770570000@afk.games
SUMMARY:Grand Archive - Post MI Regional Store Championship
DESCRIPTION:$10 Entry – Swiss rounds – No Topcut – Store credit prize out to top players
URL:https://afk.games/event/grand-archive-post-mi-regional-store-championship/
LOCATION:AFK Games\, 2495 Cedar Street STE 14-B\, Holt\, MI\, 48842\, United States
CATEGORIES:Events,Grand Archive
ORGANIZER;CN="AFK Games":MAILTO:support@afk-games.com
END:VEVENT
BEGIN:VEVENT
DTSTART;TZID=America/Detroit:20260211T180000
DTEND;TZID=America/Detroit:20260211T213000
DTSTAMP:20260422T174700
CREATED:20260101T203519Z
LAST-MODIFIED:20260101T203519Z
UID:10004899-1770832800-1770845400@afk.games
SUMMARY:Grand Archive Store Tournament
DESCRIPTION:Free entry \nEvent packs to top players \nYou can check out Grand Archive tools by official creator guild websites such as:\nhttps://silvie.gg (Tournament data/Various other helpful tools)\nhttps://fractalofin.site/ (Tournament Data)\nhttps://shoutatyourdecks.com (Deckbuilder)
URL:https://afk.games/event/grand-archive-store-tournament-2/2026-02-11/
LOCATION:AFK Games\, 2495 Cedar Street STE 14-B\, Holt\, MI\, 48842\, United States
CATEGORIES:Events,Grand Archive
ORGANIZER;CN="AFK Games":MAILTO:support@afk-games.com
END:VEVENT
BEGIN:VEVENT
DTSTART;TZID=America/Detroit:20260218T180000
DTEND;TZID=America/Detroit:20260218T213000
DTSTAMP:20260422T174700
CREATED:20260101T203519Z
LAST-MODIFIED:20260101T203519Z
UID:10004900-1771437600-1771450200@afk.games
SUMMARY:Grand Archive Store Tournament
DESCRIPTION:Free entry \nEvent packs to top players \nYou can check out Grand Archive tools by official creator guild websites such as:\nhttps://silvie.gg (Tournament data/Various other helpful tools)\nhttps://fractalofin.site/ (Tournament Data)\nhttps://shoutatyourdecks.com (Deckbuilder)
URL:https://afk.games/event/grand-archive-store-tournament-2/2026-02-18/
LOCATION:AFK Games\, 2495 Cedar Street STE 14-B\, Holt\, MI\, 48842\, United States
CATEGORIES:Events,Grand Archive
ORGANIZER;CN="AFK Games":MAILTO:support@afk-games.com
END:VEVENT
BEGIN:VEVENT
DTSTART;TZID=America/Detroit:20260225T180000
DTEND;TZID=America/Detroit:20260225T213000
DTSTAMP:20260422T174700
CREATED:20260101T203519Z
LAST-MODIFIED:20260101T203519Z
UID:10004901-1772042400-1772055000@afk.games
SUMMARY:Grand Archive Store Tournament
DESCRIPTION:Free entry \nEvent packs to top players \nYou can check out Grand Archive tools by official creator guild websites such as:\nhttps://silvie.gg (Tournament data/Various other helpful tools)\nhttps://fractalofin.site/ (Tournament Data)\nhttps://shoutatyourdecks.com (Deckbuilder)
URL:https://afk.games/event/grand-archive-store-tournament-2/2026-02-25/
LOCATION:AFK Games\, 2495 Cedar Street STE 14-B\, Holt\, MI\, 48842\, United States
CATEGORIES:Events,Grand Archive
ORGANIZER;CN="AFK Games":MAILTO:support@afk-games.com
END:VEVENT
BEGIN:VEVENT
DTSTART;TZID=America/Detroit:20260425T110000
DTEND;TZID=America/Detroit:20260425T190000
DTSTAMP:20260422T174700
CREATED:20260406T204546Z
LAST-MODIFIED:20260406T204546Z
UID:10006065-1777114800-1777143600@afk.games
SUMMARY:Grand Archive - Michigan RDO Regional
DESCRIPTION:Tournament Info: Swiss Rounds based on attendance with NO top cut. \nWhere?: AFK Games 2495 N Cedar St STE 14B\, Holt\, MI 48842 \nWhen?: Saturday\, April 25th 2026 \nDoors Open: 10:00am EST. \nRegistration Time: 10:00am-10:45am EST. \nStart Time: 11:00am EST. \nEntry Prizing: 3x RDO Booster Packs\, 2x RDO Event packs\, 1 RDO Sapphire Pack\, RDO Regionals entry item (TBD)\, and free entry into tons of random giveaways.\n—NEW!!! Free pack of Endgame Omega sleeves on entry! \n1st: Champion Playmat\, Regionals Invite Card\, RDO Sapphire Packs\, and RDO Event Packs. \n2nd-16th: Finalists Playmat\, Regionals Invite Card\, RDO Sapphire Packs and RDO Event Packs. \n$1k Cash Break Down\n1st – $400\n2nd – $200\n3rd & 4th – $100\n5th-8th – $50 \n$2k Cash Break Down (At 100+ Attendees)\n1st – $800\n2nd – $400\n3rd & 4th – $200\n5th-8th – $100 \nOnline Decklist submitted through Omnidex required – OMNI LINK SOON!!!!!!!!!!!!!!\nNo proxies legal excluding Proxia’s Vault Cards (must be printed in color) \nLive Stream: https://youtube.com/@truechampiongaming\nNO REFUNDS ON TICKETS \nNotice to those flying into DTW: \nYou can take the MI flyer bus from DTW to East Lansing for $34 one way. Then the venue (AFK Games) is about 15-20 minutes away instead of 90 minutes.
URL:https://afk.games/event/grand-archive-michigan-rdo-regional/
LOCATION:AFK Games\, 2495 Cedar Street STE 14-B\, Holt\, MI\, 48842\, United States
CATEGORIES:Events,Grand Archive
ORGANIZER;CN="AFK Games":MAILTO:support@afk-games.com
END:VEVENT
END:VCALENDAR