BEGIN:VCALENDAR
VERSION:2.0
PRODID:-//AFK Games - ECPv6.15.20//NONSGML v1.0//EN
CALSCALE:GREGORIAN
METHOD:PUBLISH
X-WR-CALNAME:AFK Games
X-ORIGINAL-URL:https://afk.games
X-WR-CALDESC:Events for AFK Games
REFRESH-INTERVAL;VALUE=DURATION:PT1H
X-Robots-Tag:noindex
X-PUBLISHED-TTL:PT1H
BEGIN:VTIMEZONE
TZID:America/Detroit
BEGIN:DAYLIGHT
TZOFFSETFROM:-0500
TZOFFSETTO:-0400
TZNAME:EDT
DTSTART:20220313T070000
END:DAYLIGHT
BEGIN:STANDARD
TZOFFSETFROM:-0400
TZOFFSETTO:-0500
TZNAME:EST
DTSTART:20221106T060000
END:STANDARD
BEGIN:DAYLIGHT
TZOFFSETFROM:-0500
TZOFFSETTO:-0400
TZNAME:EDT
DTSTART:20230312T070000
END:DAYLIGHT
BEGIN:STANDARD
TZOFFSETFROM:-0400
TZOFFSETTO:-0500
TZNAME:EST
DTSTART:20231105T060000
END:STANDARD
BEGIN:DAYLIGHT
TZOFFSETFROM:-0500
TZOFFSETTO:-0400
TZNAME:EDT
DTSTART:20240310T070000
END:DAYLIGHT
BEGIN:STANDARD
TZOFFSETFROM:-0400
TZOFFSETTO:-0500
TZNAME:EST
DTSTART:20241103T060000
END:STANDARD
END:VTIMEZONE
BEGIN:VEVENT
DTSTART;TZID=America/Detroit:20230921T183000
DTEND;TZID=America/Detroit:20230921T210000
DTSTAMP:20260421T183551
CREATED:20230804T183442Z
LAST-MODIFIED:20230804T183615Z
UID:10001534-1695321000-1695330000@afk.games
SUMMARY:Battle Spirits Saga - Store Tournament
DESCRIPTION:Entry: $5\n120% of Store credit prized out to top players\, along with promo packs to top players! \nBest-of-one games with 35-minute matches and 5 minutes of extra time
URL:https://afk.games/event/battle-spirits-saga-store-tournament-2/2023-09-21/
LOCATION:AFK Games\, 2495 Cedar Street STE 14-B\, Holt\, MI\, 48842\, United States
CATEGORIES:Bandai,Battle Spirits Saga,Events
ORGANIZER;CN="AFK Games":MAILTO:support@afk-games.com
END:VEVENT
BEGIN:VEVENT
DTSTART;TZID=America/Detroit:20230914T183000
DTEND;TZID=America/Detroit:20230914T210000
DTSTAMP:20260421T183551
CREATED:20230804T183442Z
LAST-MODIFIED:20230804T183615Z
UID:10001533-1694716200-1694725200@afk.games
SUMMARY:Battle Spirits Saga - Store Tournament
DESCRIPTION:Entry: $5\n120% of Store credit prized out to top players\, along with promo packs to top players! \nBest-of-one games with 35-minute matches and 5 minutes of extra time
URL:https://afk.games/event/battle-spirits-saga-store-tournament-2/2023-09-14/
LOCATION:AFK Games\, 2495 Cedar Street STE 14-B\, Holt\, MI\, 48842\, United States
CATEGORIES:Bandai,Battle Spirits Saga,Events
ORGANIZER;CN="AFK Games":MAILTO:support@afk-games.com
END:VEVENT
BEGIN:VEVENT
DTSTART;TZID=America/Detroit:20230907T183000
DTEND;TZID=America/Detroit:20230907T210000
DTSTAMP:20260421T183551
CREATED:20230804T183442Z
LAST-MODIFIED:20230804T183615Z
UID:10001532-1694111400-1694120400@afk.games
SUMMARY:Battle Spirits Saga - Store Tournament
DESCRIPTION:Entry: $5\n120% of Store credit prized out to top players\, along with promo packs to top players! \nBest-of-one games with 35-minute matches and 5 minutes of extra time
URL:https://afk.games/event/battle-spirits-saga-store-tournament-2/2023-09-07/
LOCATION:AFK Games\, 2495 Cedar Street STE 14-B\, Holt\, MI\, 48842\, United States
CATEGORIES:Bandai,Battle Spirits Saga,Events
ORGANIZER;CN="AFK Games":MAILTO:support@afk-games.com
END:VEVENT
BEGIN:VEVENT
DTSTART;TZID=America/Detroit:20230831T183000
DTEND;TZID=America/Detroit:20230831T210000
DTSTAMP:20260421T183551
CREATED:20230804T183442Z
LAST-MODIFIED:20230804T183615Z
UID:10001531-1693506600-1693515600@afk.games
SUMMARY:Battle Spirits Saga - Store Tournament
DESCRIPTION:Entry: $5\n120% of Store credit prized out to top players\, along with promo packs to top players! \nBest-of-one games with 35-minute matches and 5 minutes of extra time
URL:https://afk.games/event/battle-spirits-saga-store-tournament-2/2023-08-31/
LOCATION:AFK Games\, 2495 Cedar Street STE 14-B\, Holt\, MI\, 48842\, United States
CATEGORIES:Bandai,Battle Spirits Saga,Events
ORGANIZER;CN="AFK Games":MAILTO:support@afk-games.com
END:VEVENT
BEGIN:VEVENT
DTSTART;TZID=America/Detroit:20230824T183000
DTEND;TZID=America/Detroit:20230824T210000
DTSTAMP:20260421T183551
CREATED:20230804T183442Z
LAST-MODIFIED:20230804T183615Z
UID:10001530-1692901800-1692910800@afk.games
SUMMARY:Battle Spirits Saga - Store Tournament
DESCRIPTION:Entry: $5\n120% of Store credit prized out to top players\, along with promo packs to top players! \nBest-of-one games with 35-minute matches and 5 minutes of extra time
URL:https://afk.games/event/battle-spirits-saga-store-tournament-2/2023-08-24/
LOCATION:AFK Games\, 2495 Cedar Street STE 14-B\, Holt\, MI\, 48842\, United States
CATEGORIES:Bandai,Battle Spirits Saga,Events
ORGANIZER;CN="AFK Games":MAILTO:support@afk-games.com
END:VEVENT
BEGIN:VEVENT
DTSTART;TZID=America/Detroit:20230817T183000
DTEND;TZID=America/Detroit:20230817T210000
DTSTAMP:20260421T183551
CREATED:20230804T183442Z
LAST-MODIFIED:20230804T183615Z
UID:10001529-1692297000-1692306000@afk.games
SUMMARY:Battle Spirits Saga - Store Tournament
DESCRIPTION:Entry: $5\n120% of Store credit prized out to top players\, along with promo packs to top players! \nBest-of-one games with 35-minute matches and 5 minutes of extra time
URL:https://afk.games/event/battle-spirits-saga-store-tournament-2/2023-08-17/
LOCATION:AFK Games\, 2495 Cedar Street STE 14-B\, Holt\, MI\, 48842\, United States
CATEGORIES:Bandai,Battle Spirits Saga,Events
ORGANIZER;CN="AFK Games":MAILTO:support@afk-games.com
END:VEVENT
BEGIN:VEVENT
DTSTART;TZID=America/Detroit:20230810T183000
DTEND;TZID=America/Detroit:20230810T210000
DTSTAMP:20260421T183551
CREATED:20230804T183442Z
LAST-MODIFIED:20230804T183615Z
UID:10001528-1691692200-1691701200@afk.games
SUMMARY:Battle Spirits Saga - Store Tournament
DESCRIPTION:Entry: $5\n120% of Store credit prized out to top players\, along with promo packs to top players! \nBest-of-one games with 35-minute matches and 5 minutes of extra time
URL:https://afk.games/event/battle-spirits-saga-store-tournament-2/2023-08-10/
LOCATION:AFK Games\, 2495 Cedar Street STE 14-B\, Holt\, MI\, 48842\, United States
CATEGORIES:Bandai,Battle Spirits Saga,Events
ORGANIZER;CN="AFK Games":MAILTO:support@afk-games.com
END:VEVENT
BEGIN:VEVENT
DTSTART;TZID=America/Detroit:20230723T120000
DTEND;TZID=America/Detroit:20230723T140000
DTSTAMP:20260421T183551
CREATED:20230713T204921Z
LAST-MODIFIED:20230713T204921Z
UID:10001362-1690113600-1690120800@afk.games
SUMMARY:Battle Spirits Saga - Demo Road Tour ft. Kozmicplays
DESCRIPTION:Are you ready to learn a new trading card game Battle Spirits Saga? We have a demo event coming up on July 23rd. This is the perfect opportunity for you to learn how to play this exciting game. The best part? Participation is completely free\, and all participants will receive free promos and goodies. \nJoin us for an afternoon filled with fun\, strategy\, and adventure. You’ll have the chance to interact with other players\, learn new tactics\, and showcase your skills. Whether you’re a seasoned player or a beginner\, this event is perfect for you. \nWe’ll provide all the materials you need\, including pre-built decks\, so all you have to do is show up and have fun. \nDon’t miss out on this amazing opportunity to experience the thrill of Battle Spirits Saga. Don’t forget to stop in on July 23rd and get ready to embark on an unforgettable adventure. See you there!
URL:https://afk.games/event/battle-spirits-saga-demo-road-tour-ft-kozmicplays/
LOCATION:AFK Games\, 2495 Cedar Street STE 14-B\, Holt\, MI\, 48842\, United States
CATEGORIES:Bandai,Battle Spirits Saga,Events
ORGANIZER;CN="AFK Games":MAILTO:support@afk-games.com
END:VEVENT
BEGIN:VEVENT
DTSTART;TZID=America/Detroit:20230722T140000
DTEND;TZID=America/Detroit:20230722T183000
DTSTAMP:20260421T183551
CREATED:20230519T183123Z
LAST-MODIFIED:20230526T220813Z
UID:10001349-1690034400-1690050600@afk.games
SUMMARY:BSS Early Adopter Store Tournament
DESCRIPTION:Game wins required: 2\nMatch Time: 60 minutes\nOvertime: Three additional turns of up to 10 minutes.\nCapacity: 32 players\nEntry: $10 \nPrizes:\nParticipation:\n1x ProZD Buffalong Bill Card\n1x ProZD King Dragon Card\n1x Event Pack x1\nTop 32:\n1x Tamagotchi Pack\nTop 4:\n1x Core Case (BSS Card Back)\n1x Event Pack\nWinner:\n1x Event Pack \nOther than the promotional material provided by Bandai\, there will be store credit given out to the top players! \nhttps://www.bandai-tcg-plus.com/my_event/486393
URL:https://afk.games/event/bss-early-adopter-store-tournament-2/
LOCATION:AFK Games\, 2495 Cedar Street STE 14-B\, Holt\, MI\, 48842\, United States
CATEGORIES:Bandai,Battle Spirits Saga,Events
ORGANIZER;CN="AFK Games":MAILTO:support@afk-games.com
END:VEVENT
BEGIN:VEVENT
DTSTART;TZID=America/Detroit:20230711T183000
DTEND;TZID=America/Detroit:20230711T210000
DTSTAMP:20260421T183551
CREATED:20230519T182818Z
LAST-MODIFIED:20230526T220642Z
UID:10001348-1689100200-1689109200@afk.games
SUMMARY:BSS Early Adopter Store Tournament
DESCRIPTION:Game wins required: 1\nMatch Time: 35 minutes\nOvertime: Three additional turns of up to 10 minutes.\nCapacity: 32 players\nEntry: $10 \nPrizes:\nParticipation:\n1x ProZD Buffalong Bill Card\n1x ProZD King Dragon Card\n1x Event Pack x1\nTop 32:\n1x Tamagotchi Pack\nTop 4:\n1x Core Case (BSS Card Back)\n1x Event Pack\nWinner:\n1x Event Pack \nOther than the promotional material provided by Bandai\, there will be store credit given out to the top players! \nhttps://www.bandai-tcg-plus.com/my_event/486392
URL:https://afk.games/event/bss-early-adopter-store-tournament/
LOCATION:AFK Games\, 2495 Cedar Street STE 14-B\, Holt\, MI\, 48842\, United States
CATEGORIES:Bandai,Battle Spirits Saga,Events
ORGANIZER;CN="AFK Games":MAILTO:support@afk-games.com
END:VEVENT
BEGIN:VEVENT
DTSTART;TZID=America/Detroit:20230629T183000
DTEND;TZID=America/Detroit:20230629T213000
DTSTAMP:20260421T183551
CREATED:20230422T164248Z
LAST-MODIFIED:20230422T164248Z
UID:10001327-1688063400-1688074200@afk.games
SUMMARY:Battle Spirits Saga Store Championship
DESCRIPTION:Official Rule \nMore info TBA \nEach participant will receive an: \n\nParticipation Store Championship Pack 2023 Vol. 1\n\nThe winner will receive: \n\nStore Championship Winner Card Set 2023 Vol. 1
URL:https://afk.games/event/battle-spirits-saga-store-championship-2/
LOCATION:AFK Games\, 2495 Cedar Street STE 14-B\, Holt\, MI\, 48842\, United States
CATEGORIES:Bandai,Battle Spirits Saga,Events
ORGANIZER;CN="AFK Games":MAILTO:support@afk-games.com
END:VEVENT
BEGIN:VEVENT
DTSTART;TZID=America/Detroit:20230629T183000
DTEND;TZID=America/Detroit:20230629T210000
DTSTAMP:20260421T183551
CREATED:20230422T165120Z
LAST-MODIFIED:20230422T165253Z
UID:10001345-1688063400-1688072400@afk.games
SUMMARY:Battle Spirits Saga Store Tournament
DESCRIPTION:Join us every Tuesday and Thursday for our weekly BSS tournaments. Through June we will be doing Tuesdays & Thursdays. Based on community feedback\, we can always swap a day around once the next Store Tournament sign-ups happen! \nStore credit to top players \nParticipation: \n\nTournament Pack vol.1\n\nWinner: \n\nTournament Pack vol.1 -Winner-
URL:https://afk.games/event/battle-spirits-saga-store-tournament/2023-06-29/
LOCATION:AFK Games\, 2495 Cedar Street STE 14-B\, Holt\, MI\, 48842\, United States
CATEGORIES:Bandai,Battle Spirits Saga,Events
ORGANIZER;CN="AFK Games":MAILTO:support@afk-games.com
END:VEVENT
BEGIN:VEVENT
DTSTART;TZID=America/Detroit:20230627T183000
DTEND;TZID=America/Detroit:20230627T210000
DTSTAMP:20260421T183551
CREATED:20230422T165120Z
LAST-MODIFIED:20230422T165253Z
UID:10001344-1687890600-1687899600@afk.games
SUMMARY:Battle Spirits Saga Store Tournament
DESCRIPTION:Join us every Tuesday and Thursday for our weekly BSS tournaments. Through June we will be doing Tuesdays & Thursdays. Based on community feedback\, we can always swap a day around once the next Store Tournament sign-ups happen! \nStore credit to top players \nParticipation: \n\nTournament Pack vol.1\n\nWinner: \n\nTournament Pack vol.1 -Winner-
URL:https://afk.games/event/battle-spirits-saga-store-tournament/2023-06-27/
LOCATION:AFK Games\, 2495 Cedar Street STE 14-B\, Holt\, MI\, 48842\, United States
CATEGORIES:Bandai,Battle Spirits Saga,Events
ORGANIZER;CN="AFK Games":MAILTO:support@afk-games.com
END:VEVENT
BEGIN:VEVENT
DTSTART;TZID=America/Detroit:20230622T183000
DTEND;TZID=America/Detroit:20230622T210000
DTSTAMP:20260421T183551
CREATED:20230422T165120Z
LAST-MODIFIED:20230422T165253Z
UID:10001343-1687458600-1687467600@afk.games
SUMMARY:Battle Spirits Saga Store Tournament
DESCRIPTION:Join us every Tuesday and Thursday for our weekly BSS tournaments. Through June we will be doing Tuesdays & Thursdays. Based on community feedback\, we can always swap a day around once the next Store Tournament sign-ups happen! \nStore credit to top players \nParticipation: \n\nTournament Pack vol.1\n\nWinner: \n\nTournament Pack vol.1 -Winner-
URL:https://afk.games/event/battle-spirits-saga-store-tournament/2023-06-22/
LOCATION:AFK Games\, 2495 Cedar Street STE 14-B\, Holt\, MI\, 48842\, United States
CATEGORIES:Bandai,Battle Spirits Saga,Events
ORGANIZER;CN="AFK Games":MAILTO:support@afk-games.com
END:VEVENT
BEGIN:VEVENT
DTSTART;TZID=America/Detroit:20230620T183000
DTEND;TZID=America/Detroit:20230620T210000
DTSTAMP:20260421T183551
CREATED:20230422T165120Z
LAST-MODIFIED:20230422T165253Z
UID:10001342-1687285800-1687294800@afk.games
SUMMARY:Battle Spirits Saga Store Tournament
DESCRIPTION:Join us every Tuesday and Thursday for our weekly BSS tournaments. Through June we will be doing Tuesdays & Thursdays. Based on community feedback\, we can always swap a day around once the next Store Tournament sign-ups happen! \nStore credit to top players \nParticipation: \n\nTournament Pack vol.1\n\nWinner: \n\nTournament Pack vol.1 -Winner-
URL:https://afk.games/event/battle-spirits-saga-store-tournament/2023-06-20/
LOCATION:AFK Games\, 2495 Cedar Street STE 14-B\, Holt\, MI\, 48842\, United States
CATEGORIES:Bandai,Battle Spirits Saga,Events
ORGANIZER;CN="AFK Games":MAILTO:support@afk-games.com
END:VEVENT
BEGIN:VEVENT
DTSTART;TZID=America/Detroit:20230617T140000
DTEND;TZID=America/Detroit:20230617T190000
DTSTAMP:20260421T183551
CREATED:20230422T164214Z
LAST-MODIFIED:20230422T164214Z
UID:10001326-1687010400-1687028400@afk.games
SUMMARY:Battle Spirits Saga Store Championship
DESCRIPTION:Official Rule \nMore info TBA \nEach participant will receive an: \n\nParticipation Store Championship Pack 2023 Vol. 1\n\nThe winner will receive: \n\nStore Championship Winner Card Set 2023 Vol. 1
URL:https://afk.games/event/battle-spirits-saga-store-championship/
LOCATION:AFK Games\, 2495 Cedar Street STE 14-B\, Holt\, MI\, 48842\, United States
CATEGORIES:Bandai,Battle Spirits Saga,Events
ORGANIZER;CN="AFK Games":MAILTO:support@afk-games.com
END:VEVENT
BEGIN:VEVENT
DTSTART;TZID=America/Detroit:20230615T183000
DTEND;TZID=America/Detroit:20230615T210000
DTSTAMP:20260421T183551
CREATED:20230422T165120Z
LAST-MODIFIED:20230422T165253Z
UID:10001341-1686853800-1686862800@afk.games
SUMMARY:Battle Spirits Saga Store Tournament
DESCRIPTION:Join us every Tuesday and Thursday for our weekly BSS tournaments. Through June we will be doing Tuesdays & Thursdays. Based on community feedback\, we can always swap a day around once the next Store Tournament sign-ups happen! \nStore credit to top players \nParticipation: \n\nTournament Pack vol.1\n\nWinner: \n\nTournament Pack vol.1 -Winner-
URL:https://afk.games/event/battle-spirits-saga-store-tournament/2023-06-15/
LOCATION:AFK Games\, 2495 Cedar Street STE 14-B\, Holt\, MI\, 48842\, United States
CATEGORIES:Bandai,Battle Spirits Saga,Events
ORGANIZER;CN="AFK Games":MAILTO:support@afk-games.com
END:VEVENT
BEGIN:VEVENT
DTSTART;TZID=America/Detroit:20230613T183000
DTEND;TZID=America/Detroit:20230613T210000
DTSTAMP:20260421T183551
CREATED:20230422T165120Z
LAST-MODIFIED:20230422T165253Z
UID:10001340-1686681000-1686690000@afk.games
SUMMARY:Battle Spirits Saga Store Tournament
DESCRIPTION:Join us every Tuesday and Thursday for our weekly BSS tournaments. Through June we will be doing Tuesdays & Thursdays. Based on community feedback\, we can always swap a day around once the next Store Tournament sign-ups happen! \nStore credit to top players \nParticipation: \n\nTournament Pack vol.1\n\nWinner: \n\nTournament Pack vol.1 -Winner-
URL:https://afk.games/event/battle-spirits-saga-store-tournament/2023-06-13/
LOCATION:AFK Games\, 2495 Cedar Street STE 14-B\, Holt\, MI\, 48842\, United States
CATEGORIES:Bandai,Battle Spirits Saga,Events
ORGANIZER;CN="AFK Games":MAILTO:support@afk-games.com
END:VEVENT
BEGIN:VEVENT
DTSTART;TZID=America/Detroit:20230608T183000
DTEND;TZID=America/Detroit:20230608T210000
DTSTAMP:20260421T183551
CREATED:20230422T165120Z
LAST-MODIFIED:20230422T165253Z
UID:10001339-1686249000-1686258000@afk.games
SUMMARY:Battle Spirits Saga Store Tournament
DESCRIPTION:Join us every Tuesday and Thursday for our weekly BSS tournaments. Through June we will be doing Tuesdays & Thursdays. Based on community feedback\, we can always swap a day around once the next Store Tournament sign-ups happen! \nStore credit to top players \nParticipation: \n\nTournament Pack vol.1\n\nWinner: \n\nTournament Pack vol.1 -Winner-
URL:https://afk.games/event/battle-spirits-saga-store-tournament/2023-06-08/
LOCATION:AFK Games\, 2495 Cedar Street STE 14-B\, Holt\, MI\, 48842\, United States
CATEGORIES:Bandai,Battle Spirits Saga,Events
ORGANIZER;CN="AFK Games":MAILTO:support@afk-games.com
END:VEVENT
BEGIN:VEVENT
DTSTART;TZID=America/Detroit:20230606T183000
DTEND;TZID=America/Detroit:20230606T210000
DTSTAMP:20260421T183551
CREATED:20230422T165120Z
LAST-MODIFIED:20230422T165253Z
UID:10001338-1686076200-1686085200@afk.games
SUMMARY:Battle Spirits Saga Store Tournament
DESCRIPTION:Join us every Tuesday and Thursday for our weekly BSS tournaments. Through June we will be doing Tuesdays & Thursdays. Based on community feedback\, we can always swap a day around once the next Store Tournament sign-ups happen! \nStore credit to top players \nParticipation: \n\nTournament Pack vol.1\n\nWinner: \n\nTournament Pack vol.1 -Winner-
URL:https://afk.games/event/battle-spirits-saga-store-tournament/2023-06-06/
LOCATION:AFK Games\, 2495 Cedar Street STE 14-B\, Holt\, MI\, 48842\, United States
CATEGORIES:Bandai,Battle Spirits Saga,Events
ORGANIZER;CN="AFK Games":MAILTO:support@afk-games.com
END:VEVENT
BEGIN:VEVENT
DTSTART;TZID=America/Detroit:20230601T183000
DTEND;TZID=America/Detroit:20230601T210000
DTSTAMP:20260421T183551
CREATED:20230422T165120Z
LAST-MODIFIED:20230422T165253Z
UID:10001337-1685644200-1685653200@afk.games
SUMMARY:Battle Spirits Saga Store Tournament
DESCRIPTION:Join us every Tuesday and Thursday for our weekly BSS tournaments. Through June we will be doing Tuesdays & Thursdays. Based on community feedback\, we can always swap a day around once the next Store Tournament sign-ups happen! \nStore credit to top players \nParticipation: \n\nTournament Pack vol.1\n\nWinner: \n\nTournament Pack vol.1 -Winner-
URL:https://afk.games/event/battle-spirits-saga-store-tournament/2023-06-01/
LOCATION:AFK Games\, 2495 Cedar Street STE 14-B\, Holt\, MI\, 48842\, United States
CATEGORIES:Bandai,Battle Spirits Saga,Events
ORGANIZER;CN="AFK Games":MAILTO:support@afk-games.com
END:VEVENT
BEGIN:VEVENT
DTSTART;TZID=America/Detroit:20230530T183000
DTEND;TZID=America/Detroit:20230530T210000
DTSTAMP:20260421T183551
CREATED:20230422T165120Z
LAST-MODIFIED:20230422T165253Z
UID:10001336-1685471400-1685480400@afk.games
SUMMARY:Battle Spirits Saga Store Tournament
DESCRIPTION:Join us every Tuesday and Thursday for our weekly BSS tournaments. Through June we will be doing Tuesdays & Thursdays. Based on community feedback\, we can always swap a day around once the next Store Tournament sign-ups happen! \nStore credit to top players \nParticipation: \n\nTournament Pack vol.1\n\nWinner: \n\nTournament Pack vol.1 -Winner-
URL:https://afk.games/event/battle-spirits-saga-store-tournament/2023-05-30/
LOCATION:AFK Games\, 2495 Cedar Street STE 14-B\, Holt\, MI\, 48842\, United States
CATEGORIES:Bandai,Battle Spirits Saga,Events
ORGANIZER;CN="AFK Games":MAILTO:support@afk-games.com
END:VEVENT
BEGIN:VEVENT
DTSTART;TZID=America/Detroit:20230525T183000
DTEND;TZID=America/Detroit:20230525T210000
DTSTAMP:20260421T183551
CREATED:20230422T165120Z
LAST-MODIFIED:20230422T165253Z
UID:10001335-1685039400-1685048400@afk.games
SUMMARY:Battle Spirits Saga Store Tournament
DESCRIPTION:Join us every Tuesday and Thursday for our weekly BSS tournaments. Through June we will be doing Tuesdays & Thursdays. Based on community feedback\, we can always swap a day around once the next Store Tournament sign-ups happen! \nStore credit to top players \nParticipation: \n\nTournament Pack vol.1\n\nWinner: \n\nTournament Pack vol.1 -Winner-
URL:https://afk.games/event/battle-spirits-saga-store-tournament/2023-05-25/
LOCATION:AFK Games\, 2495 Cedar Street STE 14-B\, Holt\, MI\, 48842\, United States
CATEGORIES:Bandai,Battle Spirits Saga,Events
ORGANIZER;CN="AFK Games":MAILTO:support@afk-games.com
END:VEVENT
BEGIN:VEVENT
DTSTART;TZID=America/Detroit:20230523T183000
DTEND;TZID=America/Detroit:20230523T210000
DTSTAMP:20260421T183551
CREATED:20230422T165120Z
LAST-MODIFIED:20230422T165253Z
UID:10001334-1684866600-1684875600@afk.games
SUMMARY:Battle Spirits Saga Store Tournament
DESCRIPTION:Join us every Tuesday and Thursday for our weekly BSS tournaments. Through June we will be doing Tuesdays & Thursdays. Based on community feedback\, we can always swap a day around once the next Store Tournament sign-ups happen! \nStore credit to top players \nParticipation: \n\nTournament Pack vol.1\n\nWinner: \n\nTournament Pack vol.1 -Winner-
URL:https://afk.games/event/battle-spirits-saga-store-tournament/2023-05-23/
LOCATION:AFK Games\, 2495 Cedar Street STE 14-B\, Holt\, MI\, 48842\, United States
CATEGORIES:Bandai,Battle Spirits Saga,Events
ORGANIZER;CN="AFK Games":MAILTO:support@afk-games.com
END:VEVENT
BEGIN:VEVENT
DTSTART;TZID=America/Detroit:20230518T183000
DTEND;TZID=America/Detroit:20230518T210000
DTSTAMP:20260421T183551
CREATED:20230422T165120Z
LAST-MODIFIED:20230422T165253Z
UID:10001333-1684434600-1684443600@afk.games
SUMMARY:Battle Spirits Saga Store Tournament
DESCRIPTION:Join us every Tuesday and Thursday for our weekly BSS tournaments. Through June we will be doing Tuesdays & Thursdays. Based on community feedback\, we can always swap a day around once the next Store Tournament sign-ups happen! \nStore credit to top players \nParticipation: \n\nTournament Pack vol.1\n\nWinner: \n\nTournament Pack vol.1 -Winner-
URL:https://afk.games/event/battle-spirits-saga-store-tournament/2023-05-18/
LOCATION:AFK Games\, 2495 Cedar Street STE 14-B\, Holt\, MI\, 48842\, United States
CATEGORIES:Bandai,Battle Spirits Saga,Events
ORGANIZER;CN="AFK Games":MAILTO:support@afk-games.com
END:VEVENT
BEGIN:VEVENT
DTSTART;TZID=America/Detroit:20230516T183000
DTEND;TZID=America/Detroit:20230516T210000
DTSTAMP:20260421T183551
CREATED:20230422T165120Z
LAST-MODIFIED:20230422T165253Z
UID:10001332-1684261800-1684270800@afk.games
SUMMARY:Battle Spirits Saga Store Tournament
DESCRIPTION:Join us every Tuesday and Thursday for our weekly BSS tournaments. Through June we will be doing Tuesdays & Thursdays. Based on community feedback\, we can always swap a day around once the next Store Tournament sign-ups happen! \nStore credit to top players \nParticipation: \n\nTournament Pack vol.1\n\nWinner: \n\nTournament Pack vol.1 -Winner-
URL:https://afk.games/event/battle-spirits-saga-store-tournament/2023-05-16/
LOCATION:AFK Games\, 2495 Cedar Street STE 14-B\, Holt\, MI\, 48842\, United States
CATEGORIES:Bandai,Battle Spirits Saga,Events
ORGANIZER;CN="AFK Games":MAILTO:support@afk-games.com
END:VEVENT
BEGIN:VEVENT
DTSTART;TZID=America/Detroit:20230511T183000
DTEND;TZID=America/Detroit:20230511T210000
DTSTAMP:20260421T183551
CREATED:20230422T165120Z
LAST-MODIFIED:20230422T165253Z
UID:10001331-1683829800-1683838800@afk.games
SUMMARY:Battle Spirits Saga Store Tournament
DESCRIPTION:Join us every Tuesday and Thursday for our weekly BSS tournaments. Through June we will be doing Tuesdays & Thursdays. Based on community feedback\, we can always swap a day around once the next Store Tournament sign-ups happen! \nStore credit to top players \nParticipation: \n\nTournament Pack vol.1\n\nWinner: \n\nTournament Pack vol.1 -Winner-
URL:https://afk.games/event/battle-spirits-saga-store-tournament/2023-05-11/
LOCATION:AFK Games\, 2495 Cedar Street STE 14-B\, Holt\, MI\, 48842\, United States
CATEGORIES:Bandai,Battle Spirits Saga,Events
ORGANIZER;CN="AFK Games":MAILTO:support@afk-games.com
END:VEVENT
BEGIN:VEVENT
DTSTART;TZID=America/Detroit:20230509T183000
DTEND;TZID=America/Detroit:20230509T210000
DTSTAMP:20260421T183551
CREATED:20230422T165120Z
LAST-MODIFIED:20230422T165253Z
UID:10001330-1683657000-1683666000@afk.games
SUMMARY:Battle Spirits Saga Store Tournament
DESCRIPTION:Join us every Tuesday and Thursday for our weekly BSS tournaments. Through June we will be doing Tuesdays & Thursdays. Based on community feedback\, we can always swap a day around once the next Store Tournament sign-ups happen! \nStore credit to top players \nParticipation: \n\nTournament Pack vol.1\n\nWinner: \n\nTournament Pack vol.1 -Winner-
URL:https://afk.games/event/battle-spirits-saga-store-tournament/2023-05-09/
LOCATION:AFK Games\, 2495 Cedar Street STE 14-B\, Holt\, MI\, 48842\, United States
CATEGORIES:Bandai,Battle Spirits Saga,Events
ORGANIZER;CN="AFK Games":MAILTO:support@afk-games.com
END:VEVENT
BEGIN:VEVENT
DTSTART;TZID=America/Detroit:20230506T140000
DTEND;TZID=America/Detroit:20230506T200000
DTSTAMP:20260421T183551
CREATED:20221224T201224Z
LAST-MODIFIED:20230422T205453Z
UID:10001057-1683381600-1683403200@afk.games
SUMMARY:Battle Spirits Saga Store Release Event
DESCRIPTION:Players will need to bring their own deck\, or purchase a starter deck (while supplies last). \nEntry: $10\nFormat: Official\nGame wins required: 2\nMatch round time: 60 minutes\nOvertime: Three additional turns\, with a time limit of 5 minutes \nPrizes:\nStore credit to top players \nParticipation:\n– All Foil deluxe deck set x1\n– Alt-Art Participation Card x1\n– Life Counter x1 \nWinner:\n– Alt-Art Winner Card (Holo and Texture Foil) x1\n– Core Case (BSS Card Back) x1 \nJoin us for our first official Battle Spirits Sage tournament!
URL:https://afk.games/event/battle-spirits-saga-store-release-event/
LOCATION:AFK Games\, 2495 Cedar Street STE 14-B\, Holt\, MI\, 48842\, United States
CATEGORIES:Bandai,Battle Spirits Saga,Events
ORGANIZER;CN="AFK Games":MAILTO:support@afk-games.com
END:VEVENT
BEGIN:VEVENT
DTSTART;TZID=America/Detroit:20230504T183000
DTEND;TZID=America/Detroit:20230504T210000
DTSTAMP:20260421T183551
CREATED:20230422T165120Z
LAST-MODIFIED:20230422T165253Z
UID:10001329-1683225000-1683234000@afk.games
SUMMARY:Battle Spirits Saga Store Tournament
DESCRIPTION:Join us every Tuesday and Thursday for our weekly BSS tournaments. Through June we will be doing Tuesdays & Thursdays. Based on community feedback\, we can always swap a day around once the next Store Tournament sign-ups happen! \nStore credit to top players \nParticipation: \n\nTournament Pack vol.1\n\nWinner: \n\nTournament Pack vol.1 -Winner-
URL:https://afk.games/event/battle-spirits-saga-store-tournament/2023-05-04/
LOCATION:AFK Games\, 2495 Cedar Street STE 14-B\, Holt\, MI\, 48842\, United States
CATEGORIES:Bandai,Battle Spirits Saga,Events
ORGANIZER;CN="AFK Games":MAILTO:support@afk-games.com
END:VEVENT
END:VCALENDAR