BEGIN:VCALENDAR
VERSION:2.0
PRODID:-//AFK Games - ECPv6.15.20//NONSGML v1.0//EN
CALSCALE:GREGORIAN
METHOD:PUBLISH
X-ORIGINAL-URL:https://afk.games
X-WR-CALDESC:Events for AFK Games
REFRESH-INTERVAL;VALUE=DURATION:PT1H
X-Robots-Tag:noindex
X-PUBLISHED-TTL:PT1H
BEGIN:VTIMEZONE
TZID:America/Detroit
BEGIN:DAYLIGHT
TZOFFSETFROM:-0500
TZOFFSETTO:-0400
TZNAME:EDT
DTSTART:20220313T070000
END:DAYLIGHT
BEGIN:STANDARD
TZOFFSETFROM:-0400
TZOFFSETTO:-0500
TZNAME:EST
DTSTART:20221106T060000
END:STANDARD
BEGIN:DAYLIGHT
TZOFFSETFROM:-0500
TZOFFSETTO:-0400
TZNAME:EDT
DTSTART:20230312T070000
END:DAYLIGHT
BEGIN:STANDARD
TZOFFSETFROM:-0400
TZOFFSETTO:-0500
TZNAME:EST
DTSTART:20231105T060000
END:STANDARD
BEGIN:DAYLIGHT
TZOFFSETFROM:-0500
TZOFFSETTO:-0400
TZNAME:EDT
DTSTART:20240310T070000
END:DAYLIGHT
BEGIN:STANDARD
TZOFFSETFROM:-0400
TZOFFSETTO:-0500
TZNAME:EST
DTSTART:20241103T060000
END:STANDARD
END:VTIMEZONE
BEGIN:VEVENT
DTSTART;TZID=America/Detroit:20230222T180000
DTEND;TZID=America/Detroit:20230222T210000
DTSTAMP:20260424T221748
CREATED:20220728T224915Z
LAST-MODIFIED:20221119T010743Z
UID:10000693-1677088800-1677099600@afk.games
SUMMARY:Star Wars: X-Wing open play
DESCRIPTION:Join us every Wednesday starting at 6:00 pm for open Star Wars: X-Wing gaming!\nEntry is free\, so come on in and play some X-Wing!
URL:https://afk.games/event/star-wars-x-wing-open-play-10/2023-02-22/
LOCATION:AFK Games\, 2495 Cedar Street STE 14-B\, Holt\, MI\, 48842\, United States
CATEGORIES:Atomic Mass Games,Events,Star Wars: X-Wing
ORGANIZER;CN="AFK Games":MAILTO:support@afk-games.com
END:VEVENT
BEGIN:VEVENT
DTSTART;TZID=America/Detroit:20230225T123000
DTEND;TZID=America/Detroit:20230225T180000
DTSTAMP:20260424T221748
CREATED:20230128T223157Z
LAST-MODIFIED:20230128T223157Z
UID:10001095-1677328200-1677348000@afk.games
SUMMARY:Star Wars: Legion - 500 Point Skirmish
DESCRIPTION:AFK Games is hosting a 500-point Star Wars: Legion tournament! This time around we will be using Longshanks for our tournament software.  \nTournament Format\n\nRounds – 3 \nRound time – 90 minutes + 15 minutes for deployment + 15 minutes for finishing round\nFormat – Swiss\n\nArmy Selection\n\n500-point list\nPrinted lists are not required\, but useful for some opponents.\nWe will use the most up-to-date FAQs and point costs as of 2/18/2023
URL:https://afk.games/event/star-wars-legion-500-point-skirmish/
LOCATION:AFK Games\, 2495 Cedar Street STE 14-B\, Holt\, MI\, 48842\, United States
CATEGORIES:Atomic Mass Games,Events,Star Wars: Legion
ORGANIZER;CN="AFK Games":MAILTO:support@afk-games.com
END:VEVENT
END:VCALENDAR