BEGIN:VCALENDAR
VERSION:2.0
PRODID:-//AFK Games - ECPv6.15.20//NONSGML v1.0//EN
CALSCALE:GREGORIAN
METHOD:PUBLISH
X-WR-CALNAME:AFK Games
X-ORIGINAL-URL:https://afk.games
X-WR-CALDESC:Events for AFK Games
REFRESH-INTERVAL;VALUE=DURATION:PT1H
X-Robots-Tag:noindex
X-PUBLISHED-TTL:PT1H
BEGIN:VTIMEZONE
TZID:America/Detroit
BEGIN:DAYLIGHT
TZOFFSETFROM:-0500
TZOFFSETTO:-0400
TZNAME:EDT
DTSTART:20210314T070000
END:DAYLIGHT
BEGIN:STANDARD
TZOFFSETFROM:-0400
TZOFFSETTO:-0500
TZNAME:EST
DTSTART:20211107T060000
END:STANDARD
BEGIN:DAYLIGHT
TZOFFSETFROM:-0500
TZOFFSETTO:-0400
TZNAME:EDT
DTSTART:20220313T070000
END:DAYLIGHT
BEGIN:STANDARD
TZOFFSETFROM:-0400
TZOFFSETTO:-0500
TZNAME:EST
DTSTART:20221106T060000
END:STANDARD
BEGIN:DAYLIGHT
TZOFFSETFROM:-0500
TZOFFSETTO:-0400
TZNAME:EDT
DTSTART:20230312T070000
END:DAYLIGHT
BEGIN:STANDARD
TZOFFSETFROM:-0400
TZOFFSETTO:-0500
TZNAME:EST
DTSTART:20231105T060000
END:STANDARD
BEGIN:DAYLIGHT
TZOFFSETFROM:-0500
TZOFFSETTO:-0400
TZNAME:EDT
DTSTART:20240310T070000
END:DAYLIGHT
BEGIN:STANDARD
TZOFFSETFROM:-0400
TZOFFSETTO:-0500
TZNAME:EST
DTSTART:20241103T060000
END:STANDARD
END:VTIMEZONE
BEGIN:VEVENT
DTSTART;TZID=America/Detroit:20230329T180000
DTEND;TZID=America/Detroit:20230329T210000
DTSTAMP:20260421T083210
CREATED:20220728T224915Z
LAST-MODIFIED:20221119T010743Z
UID:10000698-1680112800-1680123600@afk.games
SUMMARY:Star Wars: X-Wing open play
DESCRIPTION:Join us every Wednesday starting at 6:00 pm for open Star Wars: X-Wing gaming!\nEntry is free\, so come on in and play some X-Wing!
URL:https://afk.games/event/star-wars-x-wing-open-play-10/2023-03-29/
LOCATION:AFK Games\, 2495 Cedar Street STE 14-B\, Holt\, MI\, 48842\, United States
CATEGORIES:Atomic Mass Games,Events,Star Wars: X-Wing
ORGANIZER;CN="AFK Games":MAILTO:support@afk-games.com
END:VEVENT
BEGIN:VEVENT
DTSTART;TZID=America/Detroit:20230322T180000
DTEND;TZID=America/Detroit:20230322T210000
DTSTAMP:20260421T083210
CREATED:20220728T224915Z
LAST-MODIFIED:20221119T010743Z
UID:10000697-1679508000-1679518800@afk.games
SUMMARY:Star Wars: X-Wing open play
DESCRIPTION:Join us every Wednesday starting at 6:00 pm for open Star Wars: X-Wing gaming!\nEntry is free\, so come on in and play some X-Wing!
URL:https://afk.games/event/star-wars-x-wing-open-play-10/2023-03-22/
LOCATION:AFK Games\, 2495 Cedar Street STE 14-B\, Holt\, MI\, 48842\, United States
CATEGORIES:Atomic Mass Games,Events,Star Wars: X-Wing
ORGANIZER;CN="AFK Games":MAILTO:support@afk-games.com
END:VEVENT
BEGIN:VEVENT
DTSTART;TZID=America/Detroit:20230315T180000
DTEND;TZID=America/Detroit:20230315T210000
DTSTAMP:20260421T083210
CREATED:20220728T224915Z
LAST-MODIFIED:20221119T010743Z
UID:10000696-1678903200-1678914000@afk.games
SUMMARY:Star Wars: X-Wing open play
DESCRIPTION:Join us every Wednesday starting at 6:00 pm for open Star Wars: X-Wing gaming!\nEntry is free\, so come on in and play some X-Wing!
URL:https://afk.games/event/star-wars-x-wing-open-play-10/2023-03-15/
LOCATION:AFK Games\, 2495 Cedar Street STE 14-B\, Holt\, MI\, 48842\, United States
CATEGORIES:Atomic Mass Games,Events,Star Wars: X-Wing
ORGANIZER;CN="AFK Games":MAILTO:support@afk-games.com
END:VEVENT
BEGIN:VEVENT
DTSTART;TZID=America/Detroit:20230308T180000
DTEND;TZID=America/Detroit:20230308T210000
DTSTAMP:20260421T083210
CREATED:20220728T224915Z
LAST-MODIFIED:20221119T010743Z
UID:10000695-1678298400-1678309200@afk.games
SUMMARY:Star Wars: X-Wing open play
DESCRIPTION:Join us every Wednesday starting at 6:00 pm for open Star Wars: X-Wing gaming!\nEntry is free\, so come on in and play some X-Wing!
URL:https://afk.games/event/star-wars-x-wing-open-play-10/2023-03-08/
LOCATION:AFK Games\, 2495 Cedar Street STE 14-B\, Holt\, MI\, 48842\, United States
CATEGORIES:Atomic Mass Games,Events,Star Wars: X-Wing
ORGANIZER;CN="AFK Games":MAILTO:support@afk-games.com
END:VEVENT
BEGIN:VEVENT
DTSTART;TZID=America/Detroit:20230301T180000
DTEND;TZID=America/Detroit:20230301T210000
DTSTAMP:20260421T083210
CREATED:20220728T224915Z
LAST-MODIFIED:20221119T010743Z
UID:10000694-1677693600-1677704400@afk.games
SUMMARY:Star Wars: X-Wing open play
DESCRIPTION:Join us every Wednesday starting at 6:00 pm for open Star Wars: X-Wing gaming!\nEntry is free\, so come on in and play some X-Wing!
URL:https://afk.games/event/star-wars-x-wing-open-play-10/2023-03-01/
LOCATION:AFK Games\, 2495 Cedar Street STE 14-B\, Holt\, MI\, 48842\, United States
CATEGORIES:Atomic Mass Games,Events,Star Wars: X-Wing
ORGANIZER;CN="AFK Games":MAILTO:support@afk-games.com
END:VEVENT
BEGIN:VEVENT
DTSTART;TZID=America/Detroit:20230222T180000
DTEND;TZID=America/Detroit:20230222T210000
DTSTAMP:20260421T083210
CREATED:20220728T224915Z
LAST-MODIFIED:20221119T010743Z
UID:10000693-1677088800-1677099600@afk.games
SUMMARY:Star Wars: X-Wing open play
DESCRIPTION:Join us every Wednesday starting at 6:00 pm for open Star Wars: X-Wing gaming!\nEntry is free\, so come on in and play some X-Wing!
URL:https://afk.games/event/star-wars-x-wing-open-play-10/2023-02-22/
LOCATION:AFK Games\, 2495 Cedar Street STE 14-B\, Holt\, MI\, 48842\, United States
CATEGORIES:Atomic Mass Games,Events,Star Wars: X-Wing
ORGANIZER;CN="AFK Games":MAILTO:support@afk-games.com
END:VEVENT
BEGIN:VEVENT
DTSTART;TZID=America/Detroit:20230215T180000
DTEND;TZID=America/Detroit:20230215T210000
DTSTAMP:20260421T083210
CREATED:20220728T224915Z
LAST-MODIFIED:20221119T010743Z
UID:10000692-1676484000-1676494800@afk.games
SUMMARY:Star Wars: X-Wing open play
DESCRIPTION:Join us every Wednesday starting at 6:00 pm for open Star Wars: X-Wing gaming!\nEntry is free\, so come on in and play some X-Wing!
URL:https://afk.games/event/star-wars-x-wing-open-play-10/2023-02-15/
LOCATION:AFK Games\, 2495 Cedar Street STE 14-B\, Holt\, MI\, 48842\, United States
CATEGORIES:Atomic Mass Games,Events,Star Wars: X-Wing
ORGANIZER;CN="AFK Games":MAILTO:support@afk-games.com
END:VEVENT
BEGIN:VEVENT
DTSTART;TZID=America/Detroit:20230208T180000
DTEND;TZID=America/Detroit:20230208T210000
DTSTAMP:20260421T083210
CREATED:20220728T224915Z
LAST-MODIFIED:20221119T010743Z
UID:10000691-1675879200-1675890000@afk.games
SUMMARY:Star Wars: X-Wing open play
DESCRIPTION:Join us every Wednesday starting at 6:00 pm for open Star Wars: X-Wing gaming!\nEntry is free\, so come on in and play some X-Wing!
URL:https://afk.games/event/star-wars-x-wing-open-play-10/2023-02-08/
LOCATION:AFK Games\, 2495 Cedar Street STE 14-B\, Holt\, MI\, 48842\, United States
CATEGORIES:Atomic Mass Games,Events,Star Wars: X-Wing
ORGANIZER;CN="AFK Games":MAILTO:support@afk-games.com
END:VEVENT
BEGIN:VEVENT
DTSTART;TZID=America/Detroit:20230201T180000
DTEND;TZID=America/Detroit:20230201T210000
DTSTAMP:20260421T083210
CREATED:20220728T224915Z
LAST-MODIFIED:20221119T010743Z
UID:10000690-1675274400-1675285200@afk.games
SUMMARY:Star Wars: X-Wing open play
DESCRIPTION:Join us every Wednesday starting at 6:00 pm for open Star Wars: X-Wing gaming!\nEntry is free\, so come on in and play some X-Wing!
URL:https://afk.games/event/star-wars-x-wing-open-play-10/2023-02-01/
LOCATION:AFK Games\, 2495 Cedar Street STE 14-B\, Holt\, MI\, 48842\, United States
CATEGORIES:Atomic Mass Games,Events,Star Wars: X-Wing
ORGANIZER;CN="AFK Games":MAILTO:support@afk-games.com
END:VEVENT
BEGIN:VEVENT
DTSTART;TZID=America/Detroit:20230125T180000
DTEND;TZID=America/Detroit:20230125T210000
DTSTAMP:20260421T083210
CREATED:20220728T224915Z
LAST-MODIFIED:20221119T010743Z
UID:10000689-1674669600-1674680400@afk.games
SUMMARY:Star Wars: X-Wing open play
DESCRIPTION:Join us every Wednesday starting at 6:00 pm for open Star Wars: X-Wing gaming!\nEntry is free\, so come on in and play some X-Wing!
URL:https://afk.games/event/star-wars-x-wing-open-play-10/2023-01-25/
LOCATION:AFK Games\, 2495 Cedar Street STE 14-B\, Holt\, MI\, 48842\, United States
CATEGORIES:Atomic Mass Games,Events,Star Wars: X-Wing
ORGANIZER;CN="AFK Games":MAILTO:support@afk-games.com
END:VEVENT
BEGIN:VEVENT
DTSTART;TZID=America/Detroit:20230118T180000
DTEND;TZID=America/Detroit:20230118T210000
DTSTAMP:20260421T083210
CREATED:20220728T224915Z
LAST-MODIFIED:20221119T010743Z
UID:10000688-1674064800-1674075600@afk.games
SUMMARY:Star Wars: X-Wing open play
DESCRIPTION:Join us every Wednesday starting at 6:00 pm for open Star Wars: X-Wing gaming!\nEntry is free\, so come on in and play some X-Wing!
URL:https://afk.games/event/star-wars-x-wing-open-play-10/2023-01-18/
LOCATION:AFK Games\, 2495 Cedar Street STE 14-B\, Holt\, MI\, 48842\, United States
CATEGORIES:Atomic Mass Games,Events,Star Wars: X-Wing
ORGANIZER;CN="AFK Games":MAILTO:support@afk-games.com
END:VEVENT
BEGIN:VEVENT
DTSTART;TZID=America/Detroit:20230111T180000
DTEND;TZID=America/Detroit:20230111T210000
DTSTAMP:20260421T083210
CREATED:20220728T224915Z
LAST-MODIFIED:20221119T010743Z
UID:10000687-1673460000-1673470800@afk.games
SUMMARY:Star Wars: X-Wing open play
DESCRIPTION:Join us every Wednesday starting at 6:00 pm for open Star Wars: X-Wing gaming!\nEntry is free\, so come on in and play some X-Wing!
URL:https://afk.games/event/star-wars-x-wing-open-play-10/2023-01-11/
LOCATION:AFK Games\, 2495 Cedar Street STE 14-B\, Holt\, MI\, 48842\, United States
CATEGORIES:Atomic Mass Games,Events,Star Wars: X-Wing
ORGANIZER;CN="AFK Games":MAILTO:support@afk-games.com
END:VEVENT
BEGIN:VEVENT
DTSTART;TZID=America/Detroit:20230104T180000
DTEND;TZID=America/Detroit:20230104T210000
DTSTAMP:20260421T083210
CREATED:20220728T224915Z
LAST-MODIFIED:20221119T010743Z
UID:10000686-1672855200-1672866000@afk.games
SUMMARY:Star Wars: X-Wing open play
DESCRIPTION:Join us every Wednesday starting at 6:00 pm for open Star Wars: X-Wing gaming!\nEntry is free\, so come on in and play some X-Wing!
URL:https://afk.games/event/star-wars-x-wing-open-play-10/2023-01-04/
LOCATION:AFK Games\, 2495 Cedar Street STE 14-B\, Holt\, MI\, 48842\, United States
CATEGORIES:Atomic Mass Games,Events,Star Wars: X-Wing
ORGANIZER;CN="AFK Games":MAILTO:support@afk-games.com
END:VEVENT
BEGIN:VEVENT
DTSTART;TZID=America/Detroit:20221228T180000
DTEND;TZID=America/Detroit:20221228T210000
DTSTAMP:20260421T083210
CREATED:20220728T224915Z
LAST-MODIFIED:20221119T010743Z
UID:10000225-1672250400-1672261200@afk.games
SUMMARY:Star Wars: X-Wing open play
DESCRIPTION:Join us every Wednesday starting at 6:00 pm for open Star Wars: X-Wing gaming!\nEntry is free\, so come on in and play some X-Wing!
URL:https://afk.games/event/star-wars-x-wing-open-play-10/2022-12-28/
LOCATION:AFK Games\, 2495 Cedar Street STE 14-B\, Holt\, MI\, 48842\, United States
CATEGORIES:Atomic Mass Games,Events,Star Wars: X-Wing
ORGANIZER;CN="AFK Games":MAILTO:support@afk-games.com
END:VEVENT
BEGIN:VEVENT
DTSTART;TZID=America/Detroit:20221221T180000
DTEND;TZID=America/Detroit:20221221T210000
DTSTAMP:20260421T083210
CREATED:20220728T224915Z
LAST-MODIFIED:20221119T010743Z
UID:10000224-1671645600-1671656400@afk.games
SUMMARY:Star Wars: X-Wing open play
DESCRIPTION:Join us every Wednesday starting at 6:00 pm for open Star Wars: X-Wing gaming!\nEntry is free\, so come on in and play some X-Wing!
URL:https://afk.games/event/star-wars-x-wing-open-play-10/2022-12-21/
LOCATION:AFK Games\, 2495 Cedar Street STE 14-B\, Holt\, MI\, 48842\, United States
CATEGORIES:Atomic Mass Games,Events,Star Wars: X-Wing
ORGANIZER;CN="AFK Games":MAILTO:support@afk-games.com
END:VEVENT
BEGIN:VEVENT
DTSTART;TZID=America/Detroit:20221214T180000
DTEND;TZID=America/Detroit:20221214T210000
DTSTAMP:20260421T083210
CREATED:20220728T224915Z
LAST-MODIFIED:20221119T010743Z
UID:10000223-1671040800-1671051600@afk.games
SUMMARY:Star Wars: X-Wing open play
DESCRIPTION:Join us every Wednesday starting at 6:00 pm for open Star Wars: X-Wing gaming!\nEntry is free\, so come on in and play some X-Wing!
URL:https://afk.games/event/star-wars-x-wing-open-play-10/2022-12-14/
LOCATION:AFK Games\, 2495 Cedar Street STE 14-B\, Holt\, MI\, 48842\, United States
CATEGORIES:Atomic Mass Games,Events,Star Wars: X-Wing
ORGANIZER;CN="AFK Games":MAILTO:support@afk-games.com
END:VEVENT
BEGIN:VEVENT
DTSTART;TZID=America/Detroit:20221207T180000
DTEND;TZID=America/Detroit:20221207T210000
DTSTAMP:20260421T083210
CREATED:20220728T224915Z
LAST-MODIFIED:20221119T010743Z
UID:10000222-1670436000-1670446800@afk.games
SUMMARY:Star Wars: X-Wing open play
DESCRIPTION:Join us every Wednesday starting at 6:00 pm for open Star Wars: X-Wing gaming!\nEntry is free\, so come on in and play some X-Wing!
URL:https://afk.games/event/star-wars-x-wing-open-play-10/2022-12-07/
LOCATION:AFK Games\, 2495 Cedar Street STE 14-B\, Holt\, MI\, 48842\, United States
CATEGORIES:Atomic Mass Games,Events,Star Wars: X-Wing
ORGANIZER;CN="AFK Games":MAILTO:support@afk-games.com
END:VEVENT
BEGIN:VEVENT
DTSTART;TZID=America/Detroit:20221130T180000
DTEND;TZID=America/Detroit:20221130T210000
DTSTAMP:20260421T083210
CREATED:20220728T224915Z
LAST-MODIFIED:20221119T010743Z
UID:10000221-1669831200-1669842000@afk.games
SUMMARY:Star Wars: X-Wing open play
DESCRIPTION:Join us every Wednesday starting at 6:00 pm for open Star Wars: X-Wing gaming!\nEntry is free\, so come on in and play some X-Wing!
URL:https://afk.games/event/star-wars-x-wing-open-play-10/2022-11-30/
LOCATION:AFK Games\, 2495 Cedar Street STE 14-B\, Holt\, MI\, 48842\, United States
CATEGORIES:Atomic Mass Games,Events,Star Wars: X-Wing
ORGANIZER;CN="AFK Games":MAILTO:support@afk-games.com
END:VEVENT
BEGIN:VEVENT
DTSTART;TZID=America/Detroit:20221123T180000
DTEND;TZID=America/Detroit:20221123T210000
DTSTAMP:20260421T083210
CREATED:20220728T224915Z
LAST-MODIFIED:20221119T010743Z
UID:10000220-1669226400-1669237200@afk.games
SUMMARY:Star Wars: X-Wing open play
DESCRIPTION:Join us every Wednesday starting at 6:00 pm for open Star Wars: X-Wing gaming!\nEntry is free\, so come on in and play some X-Wing!
URL:https://afk.games/event/star-wars-x-wing-open-play-10/2022-11-23/
LOCATION:AFK Games\, 2495 Cedar Street STE 14-B\, Holt\, MI\, 48842\, United States
CATEGORIES:Atomic Mass Games,Events,Star Wars: X-Wing
ORGANIZER;CN="AFK Games":MAILTO:support@afk-games.com
END:VEVENT
BEGIN:VEVENT
DTSTART;TZID=America/Detroit:20221116T180000
DTEND;TZID=America/Detroit:20221116T210000
DTSTAMP:20260421T083210
CREATED:20220728T224915Z
LAST-MODIFIED:20221119T010743Z
UID:10000219-1668621600-1668632400@afk.games
SUMMARY:Star Wars: X-Wing open play
DESCRIPTION:Join us every Wednesday starting at 6:00 pm for open Star Wars: X-Wing gaming!\nEntry is free\, so come on in and play some X-Wing!
URL:https://afk.games/event/star-wars-x-wing-open-play-10/2022-11-16/
LOCATION:AFK Games\, 2495 Cedar Street STE 14-B\, Holt\, MI\, 48842\, United States
CATEGORIES:Atomic Mass Games,Events,Star Wars: X-Wing
ORGANIZER;CN="AFK Games":MAILTO:support@afk-games.com
END:VEVENT
BEGIN:VEVENT
DTSTART;TZID=America/Detroit:20221109T180000
DTEND;TZID=America/Detroit:20221109T210000
DTSTAMP:20260421T083210
CREATED:20220728T224915Z
LAST-MODIFIED:20221119T010743Z
UID:10000218-1668016800-1668027600@afk.games
SUMMARY:Star Wars: X-Wing open play
DESCRIPTION:Join us every Wednesday starting at 6:00 pm for open Star Wars: X-Wing gaming!\nEntry is free\, so come on in and play some X-Wing!
URL:https://afk.games/event/star-wars-x-wing-open-play-10/2022-11-09/
LOCATION:AFK Games\, 2495 Cedar Street STE 14-B\, Holt\, MI\, 48842\, United States
CATEGORIES:Atomic Mass Games,Events,Star Wars: X-Wing
ORGANIZER;CN="AFK Games":MAILTO:support@afk-games.com
END:VEVENT
BEGIN:VEVENT
DTSTART;TZID=America/Detroit:20221102T180000
DTEND;TZID=America/Detroit:20221102T210000
DTSTAMP:20260421T083210
CREATED:20220728T224915Z
LAST-MODIFIED:20221119T010743Z
UID:10000217-1667412000-1667422800@afk.games
SUMMARY:Star Wars: X-Wing open play
DESCRIPTION:Join us every Wednesday starting at 6:00 pm for open Star Wars: X-Wing gaming!\nEntry is free\, so come on in and play some X-Wing!
URL:https://afk.games/event/star-wars-x-wing-open-play-10/2022-11-02/
LOCATION:AFK Games\, 2495 Cedar Street STE 14-B\, Holt\, MI\, 48842\, United States
CATEGORIES:Atomic Mass Games,Events,Star Wars: X-Wing
ORGANIZER;CN="AFK Games":MAILTO:support@afk-games.com
END:VEVENT
BEGIN:VEVENT
DTSTART;TZID=America/Detroit:20221026T180000
DTEND;TZID=America/Detroit:20221026T210000
DTSTAMP:20260421T083210
CREATED:20220728T224915Z
LAST-MODIFIED:20221119T010743Z
UID:10000216-1666807200-1666818000@afk.games
SUMMARY:Star Wars: X-Wing open play
DESCRIPTION:Join us every Wednesday starting at 6:00 pm for open Star Wars: X-Wing gaming!\nEntry is free\, so come on in and play some X-Wing!
URL:https://afk.games/event/star-wars-x-wing-open-play-10/2022-10-26/
LOCATION:AFK Games\, 2495 Cedar Street STE 14-B\, Holt\, MI\, 48842\, United States
CATEGORIES:Atomic Mass Games,Events,Star Wars: X-Wing
ORGANIZER;CN="AFK Games":MAILTO:support@afk-games.com
END:VEVENT
BEGIN:VEVENT
DTSTART;TZID=America/Detroit:20221019T180000
DTEND;TZID=America/Detroit:20221019T210000
DTSTAMP:20260421T083210
CREATED:20220728T224915Z
LAST-MODIFIED:20221119T010743Z
UID:10000215-1666202400-1666213200@afk.games
SUMMARY:Star Wars: X-Wing open play
DESCRIPTION:Join us every Wednesday starting at 6:00 pm for open Star Wars: X-Wing gaming!\nEntry is free\, so come on in and play some X-Wing!
URL:https://afk.games/event/star-wars-x-wing-open-play-10/2022-10-19/
LOCATION:AFK Games\, 2495 Cedar Street STE 14-B\, Holt\, MI\, 48842\, United States
CATEGORIES:Atomic Mass Games,Events,Star Wars: X-Wing
ORGANIZER;CN="AFK Games":MAILTO:support@afk-games.com
END:VEVENT
BEGIN:VEVENT
DTSTART;TZID=America/Detroit:20221012T180000
DTEND;TZID=America/Detroit:20221012T210000
DTSTAMP:20260421T083210
CREATED:20220728T224915Z
LAST-MODIFIED:20221119T010743Z
UID:10000214-1665597600-1665608400@afk.games
SUMMARY:Star Wars: X-Wing open play
DESCRIPTION:Join us every Wednesday starting at 6:00 pm for open Star Wars: X-Wing gaming!\nEntry is free\, so come on in and play some X-Wing!
URL:https://afk.games/event/star-wars-x-wing-open-play-10/2022-10-12/
LOCATION:AFK Games\, 2495 Cedar Street STE 14-B\, Holt\, MI\, 48842\, United States
CATEGORIES:Atomic Mass Games,Events,Star Wars: X-Wing
ORGANIZER;CN="AFK Games":MAILTO:support@afk-games.com
END:VEVENT
BEGIN:VEVENT
DTSTART;TZID=America/Detroit:20221005T180000
DTEND;TZID=America/Detroit:20221005T210000
DTSTAMP:20260421T083210
CREATED:20220728T224915Z
LAST-MODIFIED:20221119T010743Z
UID:10000160-1664992800-1665003600@afk.games
SUMMARY:Star Wars: X-Wing open play
DESCRIPTION:Join us every Wednesday starting at 6:00 pm for open Star Wars: X-Wing gaming!\nEntry is free\, so come on in and play some X-Wing!
URL:https://afk.games/event/star-wars-x-wing-open-play-10/2022-10-05/
LOCATION:AFK Games\, 2495 Cedar Street STE 14-B\, Holt\, MI\, 48842\, United States
CATEGORIES:Atomic Mass Games,Events,Star Wars: X-Wing
ORGANIZER;CN="AFK Games":MAILTO:support@afk-games.com
END:VEVENT
BEGIN:VEVENT
DTSTART;TZID=America/Detroit:20220930T080000
DTEND;TZID=America/Detroit:20221002T170000
DTSTAMP:20260421T083210
CREATED:20220913T013939Z
LAST-MODIFIED:20220913T013940Z
UID:10000302-1664524800-1664730000@afk.games
SUMMARY:AFK Games @ Michigan GT
DESCRIPTION:AFK Games will be at the Michigan GT all weekend long. Stop by our booth and say hi!
URL:https://afk.games/event/afk-games-michigan-gt/
LOCATION:Lansing Center\, 333 E Michigan Ave\, Lansing\, 48933
CATEGORIES:Age of Sigmar,Horus Heresy,Marvel: Crisis Protocol,Star Wars: Legion,Star Wars: X-Wing,Warhammer 40K
ORGANIZER;CN="AFK Games":MAILTO:support@afk-games.com
END:VEVENT
BEGIN:VEVENT
DTSTART;TZID=America/Detroit:20220928T180000
DTEND;TZID=America/Detroit:20220928T210000
DTSTAMP:20260421T083210
CREATED:20220728T224915Z
LAST-MODIFIED:20220728T224915Z
UID:10000159-1664388000-1664398800@afk.games
SUMMARY:Star Wars: X-Wing open play
DESCRIPTION:Join us every Wednesday starting at 6:00 pm for open Star Wars: X-Wing gaming!\nEntry is free\, so come on in and play some X-Wing!
URL:https://afk.games/event/star-wars-x-wing-open-play-9/
LOCATION:AFK Games\, 2495 Cedar Street STE 14-B\, Holt\, MI\, 48842\, United States
CATEGORIES:Atomic Mass Games,Events,Star Wars: X-Wing
ORGANIZER;CN="AFK Games":MAILTO:support@afk-games.com
END:VEVENT
BEGIN:VEVENT
DTSTART;TZID=America/Detroit:20220921T180000
DTEND;TZID=America/Detroit:20220921T210000
DTSTAMP:20260421T083210
CREATED:20220728T224915Z
LAST-MODIFIED:20220728T224915Z
UID:10000158-1663783200-1663794000@afk.games
SUMMARY:Star Wars: X-Wing open play
DESCRIPTION:Join us every Wednesday starting at 6:00 pm for open Star Wars: X-Wing gaming!\nEntry is free\, so come on in and play some X-Wing!
URL:https://afk.games/event/star-wars-x-wing-open-play-8/
LOCATION:AFK Games\, 2495 Cedar Street STE 14-B\, Holt\, MI\, 48842\, United States
CATEGORIES:Atomic Mass Games,Events,Star Wars: X-Wing
ORGANIZER;CN="AFK Games":MAILTO:support@afk-games.com
END:VEVENT
BEGIN:VEVENT
DTSTART;TZID=America/Detroit:20220914T180000
DTEND;TZID=America/Detroit:20220914T210000
DTSTAMP:20260421T083210
CREATED:20220728T224915Z
LAST-MODIFIED:20220728T224915Z
UID:10000157-1663178400-1663189200@afk.games
SUMMARY:Star Wars: X-Wing open play
DESCRIPTION:Join us every Wednesday starting at 6:00 pm for open Star Wars: X-Wing gaming!\nEntry is free\, so come on in and play some X-Wing!
URL:https://afk.games/event/star-wars-x-wing-open-play-7/
LOCATION:AFK Games\, 2495 Cedar Street STE 14-B\, Holt\, MI\, 48842\, United States
CATEGORIES:Atomic Mass Games,Events,Star Wars: X-Wing
ORGANIZER;CN="AFK Games":MAILTO:support@afk-games.com
END:VEVENT
END:VCALENDAR