BEGIN:VCALENDAR
VERSION:2.0
PRODID:-//AFK Games - ECPv6.15.20//NONSGML v1.0//EN
CALSCALE:GREGORIAN
METHOD:PUBLISH
X-WR-CALNAME:AFK Games
X-ORIGINAL-URL:https://afk.games
X-WR-CALDESC:Events for AFK Games
REFRESH-INTERVAL;VALUE=DURATION:PT1H
X-Robots-Tag:noindex
X-PUBLISHED-TTL:PT1H
BEGIN:VTIMEZONE
TZID:America/Detroit
BEGIN:DAYLIGHT
TZOFFSETFROM:-0500
TZOFFSETTO:-0400
TZNAME:EDT
DTSTART:20220313T070000
END:DAYLIGHT
BEGIN:STANDARD
TZOFFSETFROM:-0400
TZOFFSETTO:-0500
TZNAME:EST
DTSTART:20221106T060000
END:STANDARD
BEGIN:DAYLIGHT
TZOFFSETFROM:-0500
TZOFFSETTO:-0400
TZNAME:EDT
DTSTART:20230312T070000
END:DAYLIGHT
BEGIN:STANDARD
TZOFFSETFROM:-0400
TZOFFSETTO:-0500
TZNAME:EST
DTSTART:20231105T060000
END:STANDARD
BEGIN:DAYLIGHT
TZOFFSETFROM:-0500
TZOFFSETTO:-0400
TZNAME:EDT
DTSTART:20240310T070000
END:DAYLIGHT
BEGIN:STANDARD
TZOFFSETFROM:-0400
TZOFFSETTO:-0500
TZNAME:EST
DTSTART:20241103T060000
END:STANDARD
END:VTIMEZONE
BEGIN:VEVENT
DTSTART;TZID=America/Detroit:20230816T180000
DTEND;TZID=America/Detroit:20230816T210000
DTSTAMP:20260421T015009
CREATED:20220728T224915Z
LAST-MODIFIED:20221119T010743Z
UID:10000718-1692208800-1692219600@afk.games
SUMMARY:Star Wars: X-Wing open play
DESCRIPTION:Join us every Wednesday starting at 6:00 pm for open Star Wars: X-Wing gaming!\nEntry is free\, so come on in and play some X-Wing!
URL:https://afk.games/event/star-wars-x-wing-open-play-10/2023-08-16/
LOCATION:AFK Games\, 2495 Cedar Street STE 14-B\, Holt\, MI\, 48842\, United States
CATEGORIES:Atomic Mass Games,Events,Star Wars: X-Wing
ORGANIZER;CN="AFK Games":MAILTO:support@afk-games.com
END:VEVENT
BEGIN:VEVENT
DTSTART;TZID=America/Detroit:20230809T180000
DTEND;TZID=America/Detroit:20230809T210000
DTSTAMP:20260421T015009
CREATED:20220728T224915Z
LAST-MODIFIED:20221119T010743Z
UID:10000717-1691604000-1691614800@afk.games
SUMMARY:Star Wars: X-Wing open play
DESCRIPTION:Join us every Wednesday starting at 6:00 pm for open Star Wars: X-Wing gaming!\nEntry is free\, so come on in and play some X-Wing!
URL:https://afk.games/event/star-wars-x-wing-open-play-10/2023-08-09/
LOCATION:AFK Games\, 2495 Cedar Street STE 14-B\, Holt\, MI\, 48842\, United States
CATEGORIES:Atomic Mass Games,Events,Star Wars: X-Wing
ORGANIZER;CN="AFK Games":MAILTO:support@afk-games.com
END:VEVENT
BEGIN:VEVENT
DTSTART;TZID=America/Detroit:20230802T180000
DTEND;TZID=America/Detroit:20230802T210000
DTSTAMP:20260421T015009
CREATED:20220728T224915Z
LAST-MODIFIED:20221119T010743Z
UID:10000716-1690999200-1691010000@afk.games
SUMMARY:Star Wars: X-Wing open play
DESCRIPTION:Join us every Wednesday starting at 6:00 pm for open Star Wars: X-Wing gaming!\nEntry is free\, so come on in and play some X-Wing!
URL:https://afk.games/event/star-wars-x-wing-open-play-10/2023-08-02/
LOCATION:AFK Games\, 2495 Cedar Street STE 14-B\, Holt\, MI\, 48842\, United States
CATEGORIES:Atomic Mass Games,Events,Star Wars: X-Wing
ORGANIZER;CN="AFK Games":MAILTO:support@afk-games.com
END:VEVENT
BEGIN:VEVENT
DTSTART;TZID=America/Detroit:20230726T180000
DTEND;TZID=America/Detroit:20230726T210000
DTSTAMP:20260421T015009
CREATED:20220728T224915Z
LAST-MODIFIED:20221119T010743Z
UID:10000715-1690394400-1690405200@afk.games
SUMMARY:Star Wars: X-Wing open play
DESCRIPTION:Join us every Wednesday starting at 6:00 pm for open Star Wars: X-Wing gaming!\nEntry is free\, so come on in and play some X-Wing!
URL:https://afk.games/event/star-wars-x-wing-open-play-10/2023-07-26/
LOCATION:AFK Games\, 2495 Cedar Street STE 14-B\, Holt\, MI\, 48842\, United States
CATEGORIES:Atomic Mass Games,Events,Star Wars: X-Wing
ORGANIZER;CN="AFK Games":MAILTO:support@afk-games.com
END:VEVENT
BEGIN:VEVENT
DTSTART;TZID=America/Detroit:20230719T180000
DTEND;TZID=America/Detroit:20230719T210000
DTSTAMP:20260421T015009
CREATED:20220728T224915Z
LAST-MODIFIED:20221119T010743Z
UID:10000714-1689789600-1689800400@afk.games
SUMMARY:Star Wars: X-Wing open play
DESCRIPTION:Join us every Wednesday starting at 6:00 pm for open Star Wars: X-Wing gaming!\nEntry is free\, so come on in and play some X-Wing!
URL:https://afk.games/event/star-wars-x-wing-open-play-10/2023-07-19/
LOCATION:AFK Games\, 2495 Cedar Street STE 14-B\, Holt\, MI\, 48842\, United States
CATEGORIES:Atomic Mass Games,Events,Star Wars: X-Wing
ORGANIZER;CN="AFK Games":MAILTO:support@afk-games.com
END:VEVENT
BEGIN:VEVENT
DTSTART;TZID=America/Detroit:20230712T180000
DTEND;TZID=America/Detroit:20230712T210000
DTSTAMP:20260421T015009
CREATED:20220728T224915Z
LAST-MODIFIED:20221119T010743Z
UID:10000713-1689184800-1689195600@afk.games
SUMMARY:Star Wars: X-Wing open play
DESCRIPTION:Join us every Wednesday starting at 6:00 pm for open Star Wars: X-Wing gaming!\nEntry is free\, so come on in and play some X-Wing!
URL:https://afk.games/event/star-wars-x-wing-open-play-10/2023-07-12/
LOCATION:AFK Games\, 2495 Cedar Street STE 14-B\, Holt\, MI\, 48842\, United States
CATEGORIES:Atomic Mass Games,Events,Star Wars: X-Wing
ORGANIZER;CN="AFK Games":MAILTO:support@afk-games.com
END:VEVENT
BEGIN:VEVENT
DTSTART;TZID=America/Detroit:20230705T180000
DTEND;TZID=America/Detroit:20230705T210000
DTSTAMP:20260421T015009
CREATED:20220728T224915Z
LAST-MODIFIED:20221119T010743Z
UID:10000712-1688580000-1688590800@afk.games
SUMMARY:Star Wars: X-Wing open play
DESCRIPTION:Join us every Wednesday starting at 6:00 pm for open Star Wars: X-Wing gaming!\nEntry is free\, so come on in and play some X-Wing!
URL:https://afk.games/event/star-wars-x-wing-open-play-10/2023-07-05/
LOCATION:AFK Games\, 2495 Cedar Street STE 14-B\, Holt\, MI\, 48842\, United States
CATEGORIES:Atomic Mass Games,Events,Star Wars: X-Wing
ORGANIZER;CN="AFK Games":MAILTO:support@afk-games.com
END:VEVENT
BEGIN:VEVENT
DTSTART;TZID=America/Detroit:20230628T180000
DTEND;TZID=America/Detroit:20230628T210000
DTSTAMP:20260421T015009
CREATED:20220728T224915Z
LAST-MODIFIED:20221119T010743Z
UID:10000711-1687975200-1687986000@afk.games
SUMMARY:Star Wars: X-Wing open play
DESCRIPTION:Join us every Wednesday starting at 6:00 pm for open Star Wars: X-Wing gaming!\nEntry is free\, so come on in and play some X-Wing!
URL:https://afk.games/event/star-wars-x-wing-open-play-10/2023-06-28/
LOCATION:AFK Games\, 2495 Cedar Street STE 14-B\, Holt\, MI\, 48842\, United States
CATEGORIES:Atomic Mass Games,Events,Star Wars: X-Wing
ORGANIZER;CN="AFK Games":MAILTO:support@afk-games.com
END:VEVENT
BEGIN:VEVENT
DTSTART;TZID=America/Detroit:20230621T180000
DTEND;TZID=America/Detroit:20230621T210000
DTSTAMP:20260421T015009
CREATED:20220728T224915Z
LAST-MODIFIED:20221119T010743Z
UID:10000710-1687370400-1687381200@afk.games
SUMMARY:Star Wars: X-Wing open play
DESCRIPTION:Join us every Wednesday starting at 6:00 pm for open Star Wars: X-Wing gaming!\nEntry is free\, so come on in and play some X-Wing!
URL:https://afk.games/event/star-wars-x-wing-open-play-10/2023-06-21/
LOCATION:AFK Games\, 2495 Cedar Street STE 14-B\, Holt\, MI\, 48842\, United States
CATEGORIES:Atomic Mass Games,Events,Star Wars: X-Wing
ORGANIZER;CN="AFK Games":MAILTO:support@afk-games.com
END:VEVENT
BEGIN:VEVENT
DTSTART;TZID=America/Detroit:20230614T180000
DTEND;TZID=America/Detroit:20230614T210000
DTSTAMP:20260421T015009
CREATED:20220728T224915Z
LAST-MODIFIED:20221119T010743Z
UID:10000709-1686765600-1686776400@afk.games
SUMMARY:Star Wars: X-Wing open play
DESCRIPTION:Join us every Wednesday starting at 6:00 pm for open Star Wars: X-Wing gaming!\nEntry is free\, so come on in and play some X-Wing!
URL:https://afk.games/event/star-wars-x-wing-open-play-10/2023-06-14/
LOCATION:AFK Games\, 2495 Cedar Street STE 14-B\, Holt\, MI\, 48842\, United States
CATEGORIES:Atomic Mass Games,Events,Star Wars: X-Wing
ORGANIZER;CN="AFK Games":MAILTO:support@afk-games.com
END:VEVENT
BEGIN:VEVENT
DTSTART;TZID=America/Detroit:20230607T180000
DTEND;TZID=America/Detroit:20230607T210000
DTSTAMP:20260421T015009
CREATED:20220728T224915Z
LAST-MODIFIED:20221119T010743Z
UID:10000708-1686160800-1686171600@afk.games
SUMMARY:Star Wars: X-Wing open play
DESCRIPTION:Join us every Wednesday starting at 6:00 pm for open Star Wars: X-Wing gaming!\nEntry is free\, so come on in and play some X-Wing!
URL:https://afk.games/event/star-wars-x-wing-open-play-10/2023-06-07/
LOCATION:AFK Games\, 2495 Cedar Street STE 14-B\, Holt\, MI\, 48842\, United States
CATEGORIES:Atomic Mass Games,Events,Star Wars: X-Wing
ORGANIZER;CN="AFK Games":MAILTO:support@afk-games.com
END:VEVENT
BEGIN:VEVENT
DTSTART;TZID=America/Detroit:20230531T180000
DTEND;TZID=America/Detroit:20230531T210000
DTSTAMP:20260421T015009
CREATED:20220728T224915Z
LAST-MODIFIED:20221119T010743Z
UID:10000707-1685556000-1685566800@afk.games
SUMMARY:Star Wars: X-Wing open play
DESCRIPTION:Join us every Wednesday starting at 6:00 pm for open Star Wars: X-Wing gaming!\nEntry is free\, so come on in and play some X-Wing!
URL:https://afk.games/event/star-wars-x-wing-open-play-10/2023-05-31/
LOCATION:AFK Games\, 2495 Cedar Street STE 14-B\, Holt\, MI\, 48842\, United States
CATEGORIES:Atomic Mass Games,Events,Star Wars: X-Wing
ORGANIZER;CN="AFK Games":MAILTO:support@afk-games.com
END:VEVENT
BEGIN:VEVENT
DTSTART;TZID=America/Detroit:20230524T180000
DTEND;TZID=America/Detroit:20230524T210000
DTSTAMP:20260421T015009
CREATED:20220728T224915Z
LAST-MODIFIED:20221119T010743Z
UID:10000706-1684951200-1684962000@afk.games
SUMMARY:Star Wars: X-Wing open play
DESCRIPTION:Join us every Wednesday starting at 6:00 pm for open Star Wars: X-Wing gaming!\nEntry is free\, so come on in and play some X-Wing!
URL:https://afk.games/event/star-wars-x-wing-open-play-10/2023-05-24/
LOCATION:AFK Games\, 2495 Cedar Street STE 14-B\, Holt\, MI\, 48842\, United States
CATEGORIES:Atomic Mass Games,Events,Star Wars: X-Wing
ORGANIZER;CN="AFK Games":MAILTO:support@afk-games.com
END:VEVENT
BEGIN:VEVENT
DTSTART;TZID=America/Detroit:20230517T180000
DTEND;TZID=America/Detroit:20230517T210000
DTSTAMP:20260421T015009
CREATED:20220728T224915Z
LAST-MODIFIED:20221119T010743Z
UID:10000705-1684346400-1684357200@afk.games
SUMMARY:Star Wars: X-Wing open play
DESCRIPTION:Join us every Wednesday starting at 6:00 pm for open Star Wars: X-Wing gaming!\nEntry is free\, so come on in and play some X-Wing!
URL:https://afk.games/event/star-wars-x-wing-open-play-10/2023-05-17/
LOCATION:AFK Games\, 2495 Cedar Street STE 14-B\, Holt\, MI\, 48842\, United States
CATEGORIES:Atomic Mass Games,Events,Star Wars: X-Wing
ORGANIZER;CN="AFK Games":MAILTO:support@afk-games.com
END:VEVENT
BEGIN:VEVENT
DTSTART;TZID=America/Detroit:20230510T180000
DTEND;TZID=America/Detroit:20230510T210000
DTSTAMP:20260421T015009
CREATED:20220728T224915Z
LAST-MODIFIED:20221119T010743Z
UID:10000704-1683741600-1683752400@afk.games
SUMMARY:Star Wars: X-Wing open play
DESCRIPTION:Join us every Wednesday starting at 6:00 pm for open Star Wars: X-Wing gaming!\nEntry is free\, so come on in and play some X-Wing!
URL:https://afk.games/event/star-wars-x-wing-open-play-10/2023-05-10/
LOCATION:AFK Games\, 2495 Cedar Street STE 14-B\, Holt\, MI\, 48842\, United States
CATEGORIES:Atomic Mass Games,Events,Star Wars: X-Wing
ORGANIZER;CN="AFK Games":MAILTO:support@afk-games.com
END:VEVENT
BEGIN:VEVENT
DTSTART;TZID=America/Detroit:20230503T180000
DTEND;TZID=America/Detroit:20230503T210000
DTSTAMP:20260421T015009
CREATED:20220728T224915Z
LAST-MODIFIED:20221119T010743Z
UID:10000703-1683136800-1683147600@afk.games
SUMMARY:Star Wars: X-Wing open play
DESCRIPTION:Join us every Wednesday starting at 6:00 pm for open Star Wars: X-Wing gaming!\nEntry is free\, so come on in and play some X-Wing!
URL:https://afk.games/event/star-wars-x-wing-open-play-10/2023-05-03/
LOCATION:AFK Games\, 2495 Cedar Street STE 14-B\, Holt\, MI\, 48842\, United States
CATEGORIES:Atomic Mass Games,Events,Star Wars: X-Wing
ORGANIZER;CN="AFK Games":MAILTO:support@afk-games.com
END:VEVENT
BEGIN:VEVENT
DTSTART;TZID=America/Detroit:20230426T180000
DTEND;TZID=America/Detroit:20230426T210000
DTSTAMP:20260421T015009
CREATED:20220728T224915Z
LAST-MODIFIED:20221119T010743Z
UID:10000702-1682532000-1682542800@afk.games
SUMMARY:Star Wars: X-Wing open play
DESCRIPTION:Join us every Wednesday starting at 6:00 pm for open Star Wars: X-Wing gaming!\nEntry is free\, so come on in and play some X-Wing!
URL:https://afk.games/event/star-wars-x-wing-open-play-10/2023-04-26/
LOCATION:AFK Games\, 2495 Cedar Street STE 14-B\, Holt\, MI\, 48842\, United States
CATEGORIES:Atomic Mass Games,Events,Star Wars: X-Wing
ORGANIZER;CN="AFK Games":MAILTO:support@afk-games.com
END:VEVENT
BEGIN:VEVENT
DTSTART;TZID=America/Detroit:20230419T180000
DTEND;TZID=America/Detroit:20230419T210000
DTSTAMP:20260421T015009
CREATED:20220728T224915Z
LAST-MODIFIED:20221119T010743Z
UID:10000701-1681927200-1681938000@afk.games
SUMMARY:Star Wars: X-Wing open play
DESCRIPTION:Join us every Wednesday starting at 6:00 pm for open Star Wars: X-Wing gaming!\nEntry is free\, so come on in and play some X-Wing!
URL:https://afk.games/event/star-wars-x-wing-open-play-10/2023-04-19/
LOCATION:AFK Games\, 2495 Cedar Street STE 14-B\, Holt\, MI\, 48842\, United States
CATEGORIES:Atomic Mass Games,Events,Star Wars: X-Wing
ORGANIZER;CN="AFK Games":MAILTO:support@afk-games.com
END:VEVENT
BEGIN:VEVENT
DTSTART;TZID=America/Detroit:20230412T180000
DTEND;TZID=America/Detroit:20230412T210000
DTSTAMP:20260421T015009
CREATED:20220728T224915Z
LAST-MODIFIED:20221119T010743Z
UID:10000700-1681322400-1681333200@afk.games
SUMMARY:Star Wars: X-Wing open play
DESCRIPTION:Join us every Wednesday starting at 6:00 pm for open Star Wars: X-Wing gaming!\nEntry is free\, so come on in and play some X-Wing!
URL:https://afk.games/event/star-wars-x-wing-open-play-10/2023-04-12/
LOCATION:AFK Games\, 2495 Cedar Street STE 14-B\, Holt\, MI\, 48842\, United States
CATEGORIES:Atomic Mass Games,Events,Star Wars: X-Wing
ORGANIZER;CN="AFK Games":MAILTO:support@afk-games.com
END:VEVENT
BEGIN:VEVENT
DTSTART;TZID=America/Detroit:20230405T180000
DTEND;TZID=America/Detroit:20230405T210000
DTSTAMP:20260421T015009
CREATED:20220728T224915Z
LAST-MODIFIED:20221119T010743Z
UID:10000699-1680717600-1680728400@afk.games
SUMMARY:Star Wars: X-Wing open play
DESCRIPTION:Join us every Wednesday starting at 6:00 pm for open Star Wars: X-Wing gaming!\nEntry is free\, so come on in and play some X-Wing!
URL:https://afk.games/event/star-wars-x-wing-open-play-10/2023-04-05/
LOCATION:AFK Games\, 2495 Cedar Street STE 14-B\, Holt\, MI\, 48842\, United States
CATEGORIES:Atomic Mass Games,Events,Star Wars: X-Wing
ORGANIZER;CN="AFK Games":MAILTO:support@afk-games.com
END:VEVENT
BEGIN:VEVENT
DTSTART;TZID=America/Detroit:20230329T180000
DTEND;TZID=America/Detroit:20230329T210000
DTSTAMP:20260421T015009
CREATED:20220728T224915Z
LAST-MODIFIED:20221119T010743Z
UID:10000698-1680112800-1680123600@afk.games
SUMMARY:Star Wars: X-Wing open play
DESCRIPTION:Join us every Wednesday starting at 6:00 pm for open Star Wars: X-Wing gaming!\nEntry is free\, so come on in and play some X-Wing!
URL:https://afk.games/event/star-wars-x-wing-open-play-10/2023-03-29/
LOCATION:AFK Games\, 2495 Cedar Street STE 14-B\, Holt\, MI\, 48842\, United States
CATEGORIES:Atomic Mass Games,Events,Star Wars: X-Wing
ORGANIZER;CN="AFK Games":MAILTO:support@afk-games.com
END:VEVENT
BEGIN:VEVENT
DTSTART;TZID=America/Detroit:20230322T180000
DTEND;TZID=America/Detroit:20230322T210000
DTSTAMP:20260421T015009
CREATED:20220728T224915Z
LAST-MODIFIED:20221119T010743Z
UID:10000697-1679508000-1679518800@afk.games
SUMMARY:Star Wars: X-Wing open play
DESCRIPTION:Join us every Wednesday starting at 6:00 pm for open Star Wars: X-Wing gaming!\nEntry is free\, so come on in and play some X-Wing!
URL:https://afk.games/event/star-wars-x-wing-open-play-10/2023-03-22/
LOCATION:AFK Games\, 2495 Cedar Street STE 14-B\, Holt\, MI\, 48842\, United States
CATEGORIES:Atomic Mass Games,Events,Star Wars: X-Wing
ORGANIZER;CN="AFK Games":MAILTO:support@afk-games.com
END:VEVENT
BEGIN:VEVENT
DTSTART;TZID=America/Detroit:20230315T180000
DTEND;TZID=America/Detroit:20230315T210000
DTSTAMP:20260421T015009
CREATED:20220728T224915Z
LAST-MODIFIED:20221119T010743Z
UID:10000696-1678903200-1678914000@afk.games
SUMMARY:Star Wars: X-Wing open play
DESCRIPTION:Join us every Wednesday starting at 6:00 pm for open Star Wars: X-Wing gaming!\nEntry is free\, so come on in and play some X-Wing!
URL:https://afk.games/event/star-wars-x-wing-open-play-10/2023-03-15/
LOCATION:AFK Games\, 2495 Cedar Street STE 14-B\, Holt\, MI\, 48842\, United States
CATEGORIES:Atomic Mass Games,Events,Star Wars: X-Wing
ORGANIZER;CN="AFK Games":MAILTO:support@afk-games.com
END:VEVENT
BEGIN:VEVENT
DTSTART;TZID=America/Detroit:20230308T180000
DTEND;TZID=America/Detroit:20230308T210000
DTSTAMP:20260421T015009
CREATED:20220728T224915Z
LAST-MODIFIED:20221119T010743Z
UID:10000695-1678298400-1678309200@afk.games
SUMMARY:Star Wars: X-Wing open play
DESCRIPTION:Join us every Wednesday starting at 6:00 pm for open Star Wars: X-Wing gaming!\nEntry is free\, so come on in and play some X-Wing!
URL:https://afk.games/event/star-wars-x-wing-open-play-10/2023-03-08/
LOCATION:AFK Games\, 2495 Cedar Street STE 14-B\, Holt\, MI\, 48842\, United States
CATEGORIES:Atomic Mass Games,Events,Star Wars: X-Wing
ORGANIZER;CN="AFK Games":MAILTO:support@afk-games.com
END:VEVENT
BEGIN:VEVENT
DTSTART;TZID=America/Detroit:20230301T180000
DTEND;TZID=America/Detroit:20230301T210000
DTSTAMP:20260421T015009
CREATED:20220728T224915Z
LAST-MODIFIED:20221119T010743Z
UID:10000694-1677693600-1677704400@afk.games
SUMMARY:Star Wars: X-Wing open play
DESCRIPTION:Join us every Wednesday starting at 6:00 pm for open Star Wars: X-Wing gaming!\nEntry is free\, so come on in and play some X-Wing!
URL:https://afk.games/event/star-wars-x-wing-open-play-10/2023-03-01/
LOCATION:AFK Games\, 2495 Cedar Street STE 14-B\, Holt\, MI\, 48842\, United States
CATEGORIES:Atomic Mass Games,Events,Star Wars: X-Wing
ORGANIZER;CN="AFK Games":MAILTO:support@afk-games.com
END:VEVENT
BEGIN:VEVENT
DTSTART;TZID=America/Detroit:20230222T180000
DTEND;TZID=America/Detroit:20230222T210000
DTSTAMP:20260421T015009
CREATED:20220728T224915Z
LAST-MODIFIED:20221119T010743Z
UID:10000693-1677088800-1677099600@afk.games
SUMMARY:Star Wars: X-Wing open play
DESCRIPTION:Join us every Wednesday starting at 6:00 pm for open Star Wars: X-Wing gaming!\nEntry is free\, so come on in and play some X-Wing!
URL:https://afk.games/event/star-wars-x-wing-open-play-10/2023-02-22/
LOCATION:AFK Games\, 2495 Cedar Street STE 14-B\, Holt\, MI\, 48842\, United States
CATEGORIES:Atomic Mass Games,Events,Star Wars: X-Wing
ORGANIZER;CN="AFK Games":MAILTO:support@afk-games.com
END:VEVENT
BEGIN:VEVENT
DTSTART;TZID=America/Detroit:20230215T180000
DTEND;TZID=America/Detroit:20230215T210000
DTSTAMP:20260421T015009
CREATED:20220728T224915Z
LAST-MODIFIED:20221119T010743Z
UID:10000692-1676484000-1676494800@afk.games
SUMMARY:Star Wars: X-Wing open play
DESCRIPTION:Join us every Wednesday starting at 6:00 pm for open Star Wars: X-Wing gaming!\nEntry is free\, so come on in and play some X-Wing!
URL:https://afk.games/event/star-wars-x-wing-open-play-10/2023-02-15/
LOCATION:AFK Games\, 2495 Cedar Street STE 14-B\, Holt\, MI\, 48842\, United States
CATEGORIES:Atomic Mass Games,Events,Star Wars: X-Wing
ORGANIZER;CN="AFK Games":MAILTO:support@afk-games.com
END:VEVENT
BEGIN:VEVENT
DTSTART;TZID=America/Detroit:20230208T180000
DTEND;TZID=America/Detroit:20230208T210000
DTSTAMP:20260421T015009
CREATED:20220728T224915Z
LAST-MODIFIED:20221119T010743Z
UID:10000691-1675879200-1675890000@afk.games
SUMMARY:Star Wars: X-Wing open play
DESCRIPTION:Join us every Wednesday starting at 6:00 pm for open Star Wars: X-Wing gaming!\nEntry is free\, so come on in and play some X-Wing!
URL:https://afk.games/event/star-wars-x-wing-open-play-10/2023-02-08/
LOCATION:AFK Games\, 2495 Cedar Street STE 14-B\, Holt\, MI\, 48842\, United States
CATEGORIES:Atomic Mass Games,Events,Star Wars: X-Wing
ORGANIZER;CN="AFK Games":MAILTO:support@afk-games.com
END:VEVENT
BEGIN:VEVENT
DTSTART;TZID=America/Detroit:20230201T180000
DTEND;TZID=America/Detroit:20230201T210000
DTSTAMP:20260421T015009
CREATED:20220728T224915Z
LAST-MODIFIED:20221119T010743Z
UID:10000690-1675274400-1675285200@afk.games
SUMMARY:Star Wars: X-Wing open play
DESCRIPTION:Join us every Wednesday starting at 6:00 pm for open Star Wars: X-Wing gaming!\nEntry is free\, so come on in and play some X-Wing!
URL:https://afk.games/event/star-wars-x-wing-open-play-10/2023-02-01/
LOCATION:AFK Games\, 2495 Cedar Street STE 14-B\, Holt\, MI\, 48842\, United States
CATEGORIES:Atomic Mass Games,Events,Star Wars: X-Wing
ORGANIZER;CN="AFK Games":MAILTO:support@afk-games.com
END:VEVENT
BEGIN:VEVENT
DTSTART;TZID=America/Detroit:20230125T180000
DTEND;TZID=America/Detroit:20230125T210000
DTSTAMP:20260421T015009
CREATED:20220728T224915Z
LAST-MODIFIED:20221119T010743Z
UID:10000689-1674669600-1674680400@afk.games
SUMMARY:Star Wars: X-Wing open play
DESCRIPTION:Join us every Wednesday starting at 6:00 pm for open Star Wars: X-Wing gaming!\nEntry is free\, so come on in and play some X-Wing!
URL:https://afk.games/event/star-wars-x-wing-open-play-10/2023-01-25/
LOCATION:AFK Games\, 2495 Cedar Street STE 14-B\, Holt\, MI\, 48842\, United States
CATEGORIES:Atomic Mass Games,Events,Star Wars: X-Wing
ORGANIZER;CN="AFK Games":MAILTO:support@afk-games.com
END:VEVENT
END:VCALENDAR