BEGIN:VCALENDAR
VERSION:2.0
PRODID:-//AFK Games - ECPv6.15.20//NONSGML v1.0//EN
CALSCALE:GREGORIAN
METHOD:PUBLISH
X-WR-CALNAME:AFK Games
X-ORIGINAL-URL:https://afk.games
X-WR-CALDESC:Events for AFK Games
REFRESH-INTERVAL;VALUE=DURATION:PT1H
X-Robots-Tag:noindex
X-PUBLISHED-TTL:PT1H
BEGIN:VTIMEZONE
TZID:America/Detroit
BEGIN:DAYLIGHT
TZOFFSETFROM:-0500
TZOFFSETTO:-0400
TZNAME:EDT
DTSTART:20210314T070000
END:DAYLIGHT
BEGIN:STANDARD
TZOFFSETFROM:-0400
TZOFFSETTO:-0500
TZNAME:EST
DTSTART:20211107T060000
END:STANDARD
BEGIN:DAYLIGHT
TZOFFSETFROM:-0500
TZOFFSETTO:-0400
TZNAME:EDT
DTSTART:20220313T070000
END:DAYLIGHT
BEGIN:STANDARD
TZOFFSETFROM:-0400
TZOFFSETTO:-0500
TZNAME:EST
DTSTART:20221106T060000
END:STANDARD
BEGIN:DAYLIGHT
TZOFFSETFROM:-0500
TZOFFSETTO:-0400
TZNAME:EDT
DTSTART:20230312T070000
END:DAYLIGHT
BEGIN:STANDARD
TZOFFSETFROM:-0400
TZOFFSETTO:-0500
TZNAME:EST
DTSTART:20231105T060000
END:STANDARD
BEGIN:DAYLIGHT
TZOFFSETFROM:-0500
TZOFFSETTO:-0400
TZNAME:EDT
DTSTART:20240310T070000
END:DAYLIGHT
BEGIN:STANDARD
TZOFFSETFROM:-0400
TZOFFSETTO:-0500
TZNAME:EST
DTSTART:20241103T060000
END:STANDARD
END:VTIMEZONE
BEGIN:VEVENT
DTSTART;TZID=America/Detroit:20230922T170000
DTEND;TZID=America/Detroit:20230922T220000
DTSTAMP:20260421T021733
CREATED:20230804T184048Z
LAST-MODIFIED:20230804T184113Z
UID:10001547-1695402000-1695420000@afk.games
SUMMARY:Open Wargaming
DESCRIPTION:Open Wargaming is happening every Friday evening starting at 5:00 pm. They’ve got a great lineup of games to choose from\, including Age of Sigmar\, Para Bellum Conquest\, Warhammer 40K\, Marvel: Crisis Protocol\, Star Wars: Shatterpoint\, Star Wars: Legion and many more. If you’re a fan of strategy and action-packed games\, you won’t want to miss out on this one! See you there!
URL:https://afk.games/event/open-wargaming/2023-09-22/
LOCATION:AFK Games\, 2495 Cedar Street STE 14-B\, Holt\, MI\, 48842\, United States
CATEGORIES:Age of Sigmar,Atomic Mass Games,Games Workshop,Marvel: Crisis Protocol,Star Wars: Legion,Star Wars: Shatterpoint,Warhammer 40K
ORGANIZER;CN="AFK Games":MAILTO:support@afk-games.com
END:VEVENT
BEGIN:VEVENT
DTSTART;TZID=America/Detroit:20230915T170000
DTEND;TZID=America/Detroit:20230915T220000
DTSTAMP:20260421T021733
CREATED:20230804T184048Z
LAST-MODIFIED:20230804T184113Z
UID:10001546-1694797200-1694815200@afk.games
SUMMARY:Open Wargaming
DESCRIPTION:Open Wargaming is happening every Friday evening starting at 5:00 pm. They’ve got a great lineup of games to choose from\, including Age of Sigmar\, Para Bellum Conquest\, Warhammer 40K\, Marvel: Crisis Protocol\, Star Wars: Shatterpoint\, Star Wars: Legion and many more. If you’re a fan of strategy and action-packed games\, you won’t want to miss out on this one! See you there!
URL:https://afk.games/event/open-wargaming/2023-09-15/
LOCATION:AFK Games\, 2495 Cedar Street STE 14-B\, Holt\, MI\, 48842\, United States
CATEGORIES:Age of Sigmar,Atomic Mass Games,Games Workshop,Marvel: Crisis Protocol,Star Wars: Legion,Star Wars: Shatterpoint,Warhammer 40K
ORGANIZER;CN="AFK Games":MAILTO:support@afk-games.com
END:VEVENT
BEGIN:VEVENT
DTSTART;TZID=America/Detroit:20230908T170000
DTEND;TZID=America/Detroit:20230908T220000
DTSTAMP:20260421T021733
CREATED:20230804T184048Z
LAST-MODIFIED:20230804T184113Z
UID:10001545-1694192400-1694210400@afk.games
SUMMARY:Open Wargaming
DESCRIPTION:Open Wargaming is happening every Friday evening starting at 5:00 pm. They’ve got a great lineup of games to choose from\, including Age of Sigmar\, Para Bellum Conquest\, Warhammer 40K\, Marvel: Crisis Protocol\, Star Wars: Shatterpoint\, Star Wars: Legion and many more. If you’re a fan of strategy and action-packed games\, you won’t want to miss out on this one! See you there!
URL:https://afk.games/event/open-wargaming/2023-09-08/
LOCATION:AFK Games\, 2495 Cedar Street STE 14-B\, Holt\, MI\, 48842\, United States
CATEGORIES:Age of Sigmar,Atomic Mass Games,Games Workshop,Marvel: Crisis Protocol,Star Wars: Legion,Star Wars: Shatterpoint,Warhammer 40K
ORGANIZER;CN="AFK Games":MAILTO:support@afk-games.com
END:VEVENT
BEGIN:VEVENT
DTSTART;TZID=America/Detroit:20230901T170000
DTEND;TZID=America/Detroit:20230901T220000
DTSTAMP:20260421T021733
CREATED:20230804T184048Z
LAST-MODIFIED:20230804T184113Z
UID:10001544-1693587600-1693605600@afk.games
SUMMARY:Open Wargaming
DESCRIPTION:Open Wargaming is happening every Friday evening starting at 5:00 pm. They’ve got a great lineup of games to choose from\, including Age of Sigmar\, Para Bellum Conquest\, Warhammer 40K\, Marvel: Crisis Protocol\, Star Wars: Shatterpoint\, Star Wars: Legion and many more. If you’re a fan of strategy and action-packed games\, you won’t want to miss out on this one! See you there!
URL:https://afk.games/event/open-wargaming/2023-09-01/
LOCATION:AFK Games\, 2495 Cedar Street STE 14-B\, Holt\, MI\, 48842\, United States
CATEGORIES:Age of Sigmar,Atomic Mass Games,Games Workshop,Marvel: Crisis Protocol,Star Wars: Legion,Star Wars: Shatterpoint,Warhammer 40K
ORGANIZER;CN="AFK Games":MAILTO:support@afk-games.com
END:VEVENT
BEGIN:VEVENT
DTSTART;TZID=America/Detroit:20230826T090000
DTEND;TZID=America/Detroit:20230826T190000
DTSTAMP:20260421T021733
CREATED:20230707T180302Z
LAST-MODIFIED:20230831T181915Z
UID:10001361-1693040400-1693076400@afk.games
SUMMARY:Star Wars: Legion Store Championship 2023
DESCRIPTION:Tournament Format\nWe will be following the Galactic Conquest Event rules\, which can be found at the following link Galactic Conquest Event PDF \nRounds – 4\nRound time – 150 minutes\nFormat – Swiss\nDoors – 9:00 am\nRound 1 – 9:30 am\nEntry – $20\nDate – Saturday\, August 26th\, 2023\nCapacity – 32 players \nTicket: https://shop.afk.games/product/star-wars-legion-store-championship/12047 \nWe will be utilizing gameuplink.com to input lists and run the event during rounds. If you don’t have an account please register an account\, and sign up for the event. \nIf you already have an account you can register for the event at the [Tournament Link]. \nArmy Selection\n\n800-point list\nPrinted lists are not required\, but they are useful for some opponents.\nWe will use the most up-to-date FAQs and point costs as of 8/19/2023\n\nDeadlines\nPlayer’s lists are due before 9:20 am on the day of the event. You can either bring in a paper copy or you may submit your list at the gameuplink.com event. \nPainting and Basing\n\nAll models must be based on their current base size.\nPainting is not required.\n\nPlayer Responsibilities\n\nCards to represent all units in your list\nAll materials needed to play a game/report the results – including:\n\nDice\nMeasuring devices\nRange sticks\nCommand Deck\nOrder tokens\nTokens\n\n\n\nPlayers are also responsible for conducting themselves in an appropriate\, sportsmanlike manner.  \nPrizes\nEach player will receive 3 custom acrylic tokens. Pre-registering for the event will score you 2 extra tokens for a total of 5.  \nPrizes will be store credit to the top players (based on attendance).\nAlong with the following contents from the Store Championship 2023 kit by AMG \nTop 32 \n\nKey Positions setup card\n\nTop 16  \n\nLimited Visibility card\n\nTop 8 \n\nDarth Vader Unit card\nChewbacca Unit card \nYoda Unit card\nGeneral Grievous Unit card\nGar Saxon Unit card\n\nTop 4 \n\n2x Pyke Syndicate Foot Soldiers cards\n\nTop 2 \n\nSet of D8 Red Dice\n\nTop Player \n\nBoba Fett foil card \nWorld Championship invite\n\n 
URL:https://afk.games/event/star-wars-legion-store-championship-2023/
LOCATION:AFK Games\, 2495 Cedar Street STE 14-B\, Holt\, MI\, 48842\, United States
CATEGORIES:Atomic Mass Games,Events,Star Wars: Legion
ORGANIZER;CN="AFK Games":MAILTO:support@afk-games.com
END:VEVENT
BEGIN:VEVENT
DTSTART;TZID=America/Detroit:20230825T170000
DTEND;TZID=America/Detroit:20230825T220000
DTSTAMP:20260421T021733
CREATED:20230804T184048Z
LAST-MODIFIED:20230804T184113Z
UID:10001543-1692982800-1693000800@afk.games
SUMMARY:Open Wargaming
DESCRIPTION:Open Wargaming is happening every Friday evening starting at 5:00 pm. They’ve got a great lineup of games to choose from\, including Age of Sigmar\, Para Bellum Conquest\, Warhammer 40K\, Marvel: Crisis Protocol\, Star Wars: Shatterpoint\, Star Wars: Legion and many more. If you’re a fan of strategy and action-packed games\, you won’t want to miss out on this one! See you there!
URL:https://afk.games/event/open-wargaming/2023-08-25/
LOCATION:AFK Games\, 2495 Cedar Street STE 14-B\, Holt\, MI\, 48842\, United States
CATEGORIES:Age of Sigmar,Atomic Mass Games,Games Workshop,Marvel: Crisis Protocol,Star Wars: Legion,Star Wars: Shatterpoint,Warhammer 40K
ORGANIZER;CN="AFK Games":MAILTO:support@afk-games.com
END:VEVENT
BEGIN:VEVENT
DTSTART;TZID=America/Detroit:20230818T170000
DTEND;TZID=America/Detroit:20230818T220000
DTSTAMP:20260421T021733
CREATED:20230804T184048Z
LAST-MODIFIED:20230804T184113Z
UID:10001542-1692378000-1692396000@afk.games
SUMMARY:Open Wargaming
DESCRIPTION:Open Wargaming is happening every Friday evening starting at 5:00 pm. They’ve got a great lineup of games to choose from\, including Age of Sigmar\, Para Bellum Conquest\, Warhammer 40K\, Marvel: Crisis Protocol\, Star Wars: Shatterpoint\, Star Wars: Legion and many more. If you’re a fan of strategy and action-packed games\, you won’t want to miss out on this one! See you there!
URL:https://afk.games/event/open-wargaming/2023-08-18/
LOCATION:AFK Games\, 2495 Cedar Street STE 14-B\, Holt\, MI\, 48842\, United States
CATEGORIES:Age of Sigmar,Atomic Mass Games,Games Workshop,Marvel: Crisis Protocol,Star Wars: Legion,Star Wars: Shatterpoint,Warhammer 40K
ORGANIZER;CN="AFK Games":MAILTO:support@afk-games.com
END:VEVENT
BEGIN:VEVENT
DTSTART;TZID=America/Detroit:20230811T170000
DTEND;TZID=America/Detroit:20230811T220000
DTSTAMP:20260421T021733
CREATED:20230804T184048Z
LAST-MODIFIED:20230804T184113Z
UID:10001541-1691773200-1691791200@afk.games
SUMMARY:Open Wargaming
DESCRIPTION:Open Wargaming is happening every Friday evening starting at 5:00 pm. They’ve got a great lineup of games to choose from\, including Age of Sigmar\, Para Bellum Conquest\, Warhammer 40K\, Marvel: Crisis Protocol\, Star Wars: Shatterpoint\, Star Wars: Legion and many more. If you’re a fan of strategy and action-packed games\, you won’t want to miss out on this one! See you there!
URL:https://afk.games/event/open-wargaming/2023-08-11/
LOCATION:AFK Games\, 2495 Cedar Street STE 14-B\, Holt\, MI\, 48842\, United States
CATEGORIES:Age of Sigmar,Atomic Mass Games,Games Workshop,Marvel: Crisis Protocol,Star Wars: Legion,Star Wars: Shatterpoint,Warhammer 40K
ORGANIZER;CN="AFK Games":MAILTO:support@afk-games.com
END:VEVENT
BEGIN:VEVENT
DTSTART;TZID=America/Detroit:20230804T170000
DTEND;TZID=America/Detroit:20230804T220000
DTSTAMP:20260421T021733
CREATED:20230804T184048Z
LAST-MODIFIED:20230804T184113Z
UID:10001540-1691168400-1691186400@afk.games
SUMMARY:Open Wargaming
DESCRIPTION:Open Wargaming is happening every Friday evening starting at 5:00 pm. They’ve got a great lineup of games to choose from\, including Age of Sigmar\, Para Bellum Conquest\, Warhammer 40K\, Marvel: Crisis Protocol\, Star Wars: Shatterpoint\, Star Wars: Legion and many more. If you’re a fan of strategy and action-packed games\, you won’t want to miss out on this one! See you there!
URL:https://afk.games/event/open-wargaming/2023-08-04/
LOCATION:AFK Games\, 2495 Cedar Street STE 14-B\, Holt\, MI\, 48842\, United States
CATEGORIES:Age of Sigmar,Atomic Mass Games,Games Workshop,Marvel: Crisis Protocol,Star Wars: Legion,Star Wars: Shatterpoint,Warhammer 40K
ORGANIZER;CN="AFK Games":MAILTO:support@afk-games.com
END:VEVENT
BEGIN:VEVENT
DTSTART;TZID=America/Detroit:20230729T123000
DTEND;TZID=America/Detroit:20230729T180000
DTSTAMP:20260421T021733
CREATED:20230621T223938Z
LAST-MODIFIED:20230621T223938Z
UID:10001360-1690633800-1690653600@afk.games
SUMMARY:Star Wars: Legion Tournament
DESCRIPTION:It’s been a while\, but we feel it’s time for a Star Wars: Legion tournament! Make sure to preregister for the event using Longshanks to receive an extra pack of 2 custom acrylic suppression tokens! This helps us make sure we have enough tables set up ahead of time\, and you get some sweet tokens! \nTournament Format\n\nRounds – 2\nRound time – 150 minutes\nFormat – Swiss\n\nTicket: https://shop.afk.games/product/-july-29th-star-wars-legion-tournament/11940 \nLongshanks: https://www.longshanks.org/event/9390/ \nArmy Selection\n\n800-point list\nPrinted lists are not required\, but they are useful for some opponents.\nWe will use the most up-to-date FAQs and point costs as of 7/22/2023\n\nPainting and Basing\n\nAll models must be based on their current base size.\nPainting is not required.\n\nPlayer Responsibilities\n\nCards to represent all units in your list\nAll materials needed to play a game/report the results – including:\n\nDice\nMeasuring devices\nRange sticks\nCommand Deck\nOrder tokens\nTokens\n\n\n\nPlayers are also responsible for conducting themselves in an appropriate\, sportsmanlike manner. \nPrizes\nEach player will receive 3 custom acrylic aim tokens. Pre-registering for the event will score you 2 extra aim tokens for a total of 5.  \nPrizes will be a raffle! Players can get tickets for the following: \n\n Fully painted army\n Playing a game\n Winning a game\n Being prepared to play 15 minutes before the start\, without assistance.
URL:https://afk.games/event/star-wars-legion-tournament/
LOCATION:AFK Games\, 2495 Cedar Street STE 14-B\, Holt\, MI\, 48842\, United States
CATEGORIES:Atomic Mass Games,Events,Star Wars: Legion
ORGANIZER;CN="AFK Games":MAILTO:support@afk-games.com
END:VEVENT
BEGIN:VEVENT
DTSTART;TZID=America/Detroit:20230506T103000
DTEND;TZID=America/Detroit:20230506T183000
DTSTAMP:20260421T021733
CREATED:20230415T232424Z
LAST-MODIFIED:20230415T232424Z
UID:10001320-1683369000-1683397800@afk.games
SUMMARY:Star Wars: Legion triple team tournament
DESCRIPTION:Full Rules Packet:\nhttps://docs.google.com/document/d/1x9bzZCt31v8kZ8ZomjzF6e0qfRA9Ox3HGauJ7yGrT7M \nTournament Format\n\nRounds – 3 \nRound time – 90 minutes + 15 minutes for matchup/deployment \nFormat – Swiss\nEntry – $30 per team\n \nPoint value and Format\nEach team will be made up of 3 players\, and each of those players will bring their 500-point force to play in a Skirmish-sized event played on 3x3ft boards with standard Skirmish Mission creation. \n\nIf a player doesn’t have a set of skirmish mission cards\, there will be some available for use.\n\nAcross the 3 players that make up a team\, there may be no duplicates of characters or factions. This means:\n\nEach player on the team MUST take a different faction from the following list of factions:\n Rebels\nEmpire\nGalactic Republic\nSeparatists\nShadow Collective \nBattleforces can be taken\, but count towards the main faction used\, for example\, Josh takes an Echo Base force\, and therefore his team cannot take another Rebel force.\nPlayers across teams also CANNOT take the same named characters. So only 1 player can take Boba Fett\, R2D2\, or any other unit that can be taken across multiple factions.
URL:https://afk.games/event/star-wars-legion-triple-team-tournament/
LOCATION:AFK Games\, 2495 Cedar Street STE 14-B\, Holt\, MI\, 48842\, United States
CATEGORIES:Atomic Mass Games,Events,Star Wars: Legion
ORGANIZER;CN="AFK Games":MAILTO:support@afk-games.com
END:VEVENT
BEGIN:VEVENT
DTSTART;TZID=America/Detroit:20230325T120000
DTEND;TZID=America/Detroit:20230325T190000
DTSTAMP:20260421T021733
CREATED:20230221T193554Z
LAST-MODIFIED:20230221T193554Z
UID:10001236-1679745600-1679770800@afk.games
SUMMARY:Star Wars: Legion 800 point tournament
DESCRIPTION:Full Rules Packet:\nhttps://docs.google.com/document/d/113oBfyFsMm7-2eyHk51kgduc0VTRs-3uWnRKjp3Jm2Y\nLongshank event:\nhttps://www.longshanks.org/event/7538/\nTicket:\nhttps://shop.afk.games/product/march-star-wars-legion-800-point-tournament/10979 \nTournament Format\n\nRounds – 3\nRound time – 150 minutes\nFormat – Swiss\n\nArmy Selection\n\n800-point list\nPrinted lists are not required\, but they are useful for some opponents.\nWe will use the most up-to-date FAQs and point costs as of 3/18/2023\n\nPainting and Basing\n\nAll models must be based on their current base size.\nPainting is not required.\n\nPlayer Responsibilities\n\nCards to represent all units in your list\nAll materials needed to play a game/report the results – including:\n\nDice\nMeasuring devices\nRange sticks\nCommand Deck\nOrder tokens\nTokens\n\n\n\nPlayers are also responsible for conducting themselves in an appropriate\, sportsmanlike manner. \nPrizes\nEach player will receive 3 custom acrylic aim tokens. Pre-registering for the event will score you 1 extra aim token for a total of 4.  \nPrizes will be a raffle! Players can get tickets for the following: \n\n Fully painted army\n Playing a game\n Winning a game\n Being prepared to play 15 minutes before the start\, without assistance.
URL:https://afk.games/event/march23-star-wars-legion-800-point-tournament/
LOCATION:AFK Games\, 2495 Cedar Street STE 14-B\, Holt\, MI\, 48842\, United States
CATEGORIES:Atomic Mass Games,Events,Star Wars: Legion
ORGANIZER;CN="AFK Games":MAILTO:support@afk-games.com
END:VEVENT
BEGIN:VEVENT
DTSTART;TZID=America/Detroit:20230225T123000
DTEND;TZID=America/Detroit:20230225T180000
DTSTAMP:20260421T021733
CREATED:20230128T223157Z
LAST-MODIFIED:20230128T223157Z
UID:10001095-1677328200-1677348000@afk.games
SUMMARY:Star Wars: Legion - 500 Point Skirmish
DESCRIPTION:AFK Games is hosting a 500-point Star Wars: Legion tournament! This time around we will be using Longshanks for our tournament software.  \nTournament Format\n\nRounds – 3 \nRound time – 90 minutes + 15 minutes for deployment + 15 minutes for finishing round\nFormat – Swiss\n\nArmy Selection\n\n500-point list\nPrinted lists are not required\, but useful for some opponents.\nWe will use the most up-to-date FAQs and point costs as of 2/18/2023
URL:https://afk.games/event/star-wars-legion-500-point-skirmish/
LOCATION:AFK Games\, 2495 Cedar Street STE 14-B\, Holt\, MI\, 48842\, United States
CATEGORIES:Atomic Mass Games,Events,Star Wars: Legion
ORGANIZER;CN="AFK Games":MAILTO:support@afk-games.com
END:VEVENT
BEGIN:VEVENT
DTSTART;TZID=America/Detroit:20230114T120000
DTEND;TZID=America/Detroit:20230114T180000
DTSTAMP:20260421T021733
CREATED:20221205T021607Z
LAST-MODIFIED:20221205T021607Z
UID:10001000-1673697600-1673719200@afk.games
SUMMARY:Star Wars: Legion 800 point tournament
DESCRIPTION:Rounds – 3\nRound time – 150 minutes\nFormat – Swiss\n\nPlayers are responsible to bring all of their own cards\, tokens\, measuring devices\, command cards\, etc.. to play the game \nPrizes will be a raffle! Players can get tickets for the following: \n• Fully painted army\n• Playing a game\n• Winning a game\n• Being prepared to play 15 minutes before the start\, without assistance. \nFull rules packet:\nhttps://docs.google.com/document/d/155mj0WAfaTh8uVk04Ho6kMRZYZrYNuIBP4lf445YY_Y
URL:https://afk.games/event/star-wars-legion-800-point-tournament/
LOCATION:AFK Games\, 2495 Cedar Street STE 14-B\, Holt\, MI\, 48842\, United States
CATEGORIES:Atomic Mass Games,Events,Star Wars: Legion
ORGANIZER;CN="AFK Games":MAILTO:support@afk-games.com
END:VEVENT
BEGIN:VEVENT
DTSTART;TZID=America/Detroit:20221126T123000
DTEND;TZID=America/Detroit:20221126T203000
DTSTAMP:20260421T021733
CREATED:20221023T192330Z
LAST-MODIFIED:20221023T192330Z
UID:10000315-1669465800-1669494600@afk.games
SUMMARY:Star Wars: Legion random team tournament
DESCRIPTION:Entry fee: $10/player\nTournament mechanics: Swiss\nTournament tier: Casual\nTournament structure: Basic\nRound time: 150 minutes\nRounds: 2 \nPlayers are responsible to find their own partners for this event. It is possible we will have a ringer for an odd number of players. \nWhen your team chooses who activates next\, your team picks the player who will draw a token from their own bag. \nArmy List required\n600 Points\n– https://legionhq.thefifthtrooper.com/\n– https://tabletopadmiral.com/ \nPlayers are responsible for bringing all of the game components they need to play a game of STAR WARS: LEGION. This includes their army\, order tokens for each unit\, command hand\, sufficient dice for attack/defense rolls\, movement tools\, and a range ruler. In addition\, each team must bring 12 unique objective\, deployment\, and condition battle cards\, four of each type. \nWe will follow the standard Game Setup found in the Star Wars: Legion tournament regulations packet. \nPrizes will be a raffle\, tickets can be earned in the following ways \n1 ticket – Fully Painted (per player)\n1 ticket – Ready 15 minutes before the start (per player)\n1 ticket – per game played (per player)\n1 ticket – per game win (per player)
URL:https://afk.games/event/star-wars-legion-random-team-tournament/
LOCATION:AFK Games\, 2495 Cedar Street STE 14-B\, Holt\, MI\, 48842\, United States
CATEGORIES:Atomic Mass Games,Events,Star Wars: Legion
ORGANIZER;CN="AFK Games":MAILTO:support@afk-games.com
END:VEVENT
BEGIN:VEVENT
DTSTART;TZID=America/Detroit:20221015T123000
DTEND;TZID=America/Detroit:20221015T170000
DTSTAMP:20260421T021733
CREATED:20220902T203601Z
LAST-MODIFIED:20220902T205024Z
UID:10000196-1665837000-1665853200@afk.games
SUMMARY:Star Wars: Legion Dynamic Exit
DESCRIPTION:AFK Games will be hosting the Dynamic Exit narrative event for Star Wars: Legion on October 15th! \nCome on in and enjoy some casual games of Star Wars: Legion. No need to track wins or losses during this event. \nDuring this Narrative event for Legion\, each participant will receive one set of scenario cards and one token sheet. Participants will get to keep these for their own collection. \nEach player will receive 1 raffle ticket for each game they play\, up to a total of 3 tickets. Players may get a 4th ticket if their 400-point force is fully painted.\nPlayers will use their raffle tickets to enter raffles for various products such as Star Wars: Legion products\, hobby supplies\, or store credit dice. \nWe can randomly pair players or players may challenge others to games. \nRounds: 3\nRound time: 90 minutes\nDoors: 12:00 pm\nRound 1: 12:30 pm
URL:https://afk.games/event/star-wars-legion-dynamic-exit/
LOCATION:AFK Games\, 2495 Cedar Street STE 14-B\, Holt\, MI\, 48842\, United States
CATEGORIES:Atomic Mass Games,Events,Star Wars: Legion
ORGANIZER;CN="AFK Games":MAILTO:support@afk-games.com
END:VEVENT
BEGIN:VEVENT
DTSTART;TZID=America/Detroit:20220930T080000
DTEND;TZID=America/Detroit:20221002T170000
DTSTAMP:20260421T021733
CREATED:20220913T013939Z
LAST-MODIFIED:20220913T013940Z
UID:10000302-1664524800-1664730000@afk.games
SUMMARY:AFK Games @ Michigan GT
DESCRIPTION:AFK Games will be at the Michigan GT all weekend long. Stop by our booth and say hi!
URL:https://afk.games/event/afk-games-michigan-gt/
LOCATION:Lansing Center\, 333 E Michigan Ave\, Lansing\, 48933
CATEGORIES:Age of Sigmar,Horus Heresy,Marvel: Crisis Protocol,Star Wars: Legion,Star Wars: X-Wing,Warhammer 40K
ORGANIZER;CN="AFK Games":MAILTO:support@afk-games.com
END:VEVENT
END:VCALENDAR