BEGIN:VCALENDAR
VERSION:2.0
PRODID:-//AFK Games - ECPv6.15.20//NONSGML v1.0//EN
CALSCALE:GREGORIAN
METHOD:PUBLISH
X-WR-CALNAME:AFK Games
X-ORIGINAL-URL:https://afk.games
X-WR-CALDESC:Events for AFK Games
REFRESH-INTERVAL;VALUE=DURATION:PT1H
X-Robots-Tag:noindex
X-PUBLISHED-TTL:PT1H
BEGIN:VTIMEZONE
TZID:America/Detroit
BEGIN:DAYLIGHT
TZOFFSETFROM:-0500
TZOFFSETTO:-0400
TZNAME:EDT
DTSTART:20220313T070000
END:DAYLIGHT
BEGIN:STANDARD
TZOFFSETFROM:-0400
TZOFFSETTO:-0500
TZNAME:EST
DTSTART:20221106T060000
END:STANDARD
BEGIN:DAYLIGHT
TZOFFSETFROM:-0500
TZOFFSETTO:-0400
TZNAME:EDT
DTSTART:20230312T070000
END:DAYLIGHT
BEGIN:STANDARD
TZOFFSETFROM:-0400
TZOFFSETTO:-0500
TZNAME:EST
DTSTART:20231105T060000
END:STANDARD
BEGIN:DAYLIGHT
TZOFFSETFROM:-0500
TZOFFSETTO:-0400
TZNAME:EDT
DTSTART:20240310T070000
END:DAYLIGHT
BEGIN:STANDARD
TZOFFSETFROM:-0400
TZOFFSETTO:-0500
TZNAME:EST
DTSTART:20241103T060000
END:STANDARD
END:VTIMEZONE
BEGIN:VEVENT
DTSTART;TZID=America/Detroit:20231004T180000
DTEND;TZID=America/Detroit:20231004T210000
DTSTAMP:20260421T042439
CREATED:20220728T224915Z
LAST-MODIFIED:20221119T010743Z
UID:10000725-1696442400-1696453200@afk.games
SUMMARY:Star Wars: X-Wing open play
DESCRIPTION:Join us every Wednesday starting at 6:00 pm for open Star Wars: X-Wing gaming!\nEntry is free\, so come on in and play some X-Wing!
URL:https://afk.games/event/star-wars-x-wing-open-play-10/2023-10-04/
LOCATION:AFK Games\, 2495 Cedar Street STE 14-B\, Holt\, MI\, 48842\, United States
CATEGORIES:Atomic Mass Games,Events,Star Wars: X-Wing
ORGANIZER;CN="AFK Games":MAILTO:support@afk-games.com
END:VEVENT
BEGIN:VEVENT
DTSTART;TZID=America/Detroit:20231006T170000
DTEND;TZID=America/Detroit:20231006T220000
DTSTAMP:20260421T042439
CREATED:20230804T184048Z
LAST-MODIFIED:20230804T184113Z
UID:10001549-1696611600-1696629600@afk.games
SUMMARY:Open Wargaming
DESCRIPTION:Open Wargaming is happening every Friday evening starting at 5:00 pm. They’ve got a great lineup of games to choose from\, including Age of Sigmar\, Para Bellum Conquest\, Warhammer 40K\, Marvel: Crisis Protocol\, Star Wars: Shatterpoint\, Star Wars: Legion and many more. If you’re a fan of strategy and action-packed games\, you won’t want to miss out on this one! See you there!
URL:https://afk.games/event/open-wargaming/2023-10-06/
LOCATION:AFK Games\, 2495 Cedar Street STE 14-B\, Holt\, MI\, 48842\, United States
CATEGORIES:Age of Sigmar,Atomic Mass Games,Games Workshop,Marvel: Crisis Protocol,Star Wars: Legion,Star Wars: Shatterpoint,Warhammer 40K
ORGANIZER;CN="AFK Games":MAILTO:support@afk-games.com
END:VEVENT
BEGIN:VEVENT
DTSTART;TZID=America/Detroit:20231011T180000
DTEND;TZID=America/Detroit:20231011T210000
DTSTAMP:20260421T042439
CREATED:20220728T224915Z
LAST-MODIFIED:20221119T010743Z
UID:10000726-1697047200-1697058000@afk.games
SUMMARY:Star Wars: X-Wing open play
DESCRIPTION:Join us every Wednesday starting at 6:00 pm for open Star Wars: X-Wing gaming!\nEntry is free\, so come on in and play some X-Wing!
URL:https://afk.games/event/star-wars-x-wing-open-play-10/2023-10-11/
LOCATION:AFK Games\, 2495 Cedar Street STE 14-B\, Holt\, MI\, 48842\, United States
CATEGORIES:Atomic Mass Games,Events,Star Wars: X-Wing
ORGANIZER;CN="AFK Games":MAILTO:support@afk-games.com
END:VEVENT
BEGIN:VEVENT
DTSTART;TZID=America/Detroit:20231013T170000
DTEND;TZID=America/Detroit:20231013T220000
DTSTAMP:20260421T042439
CREATED:20230804T184048Z
LAST-MODIFIED:20230804T184113Z
UID:10001550-1697216400-1697234400@afk.games
SUMMARY:Open Wargaming
DESCRIPTION:Open Wargaming is happening every Friday evening starting at 5:00 pm. They’ve got a great lineup of games to choose from\, including Age of Sigmar\, Para Bellum Conquest\, Warhammer 40K\, Marvel: Crisis Protocol\, Star Wars: Shatterpoint\, Star Wars: Legion and many more. If you’re a fan of strategy and action-packed games\, you won’t want to miss out on this one! See you there!
URL:https://afk.games/event/open-wargaming/2023-10-13/
LOCATION:AFK Games\, 2495 Cedar Street STE 14-B\, Holt\, MI\, 48842\, United States
CATEGORIES:Age of Sigmar,Atomic Mass Games,Games Workshop,Marvel: Crisis Protocol,Star Wars: Legion,Star Wars: Shatterpoint,Warhammer 40K
ORGANIZER;CN="AFK Games":MAILTO:support@afk-games.com
END:VEVENT
BEGIN:VEVENT
DTSTART;TZID=America/Detroit:20231014T093000
DTEND;TZID=America/Detroit:20231014T190000
DTSTAMP:20260421T042439
CREATED:20230831T181503Z
LAST-MODIFIED:20230919T190131Z
UID:10001808-1697275800-1697310000@afk.games
SUMMARY:Star Wars: Legion - Store Championship
DESCRIPTION:Tournament Format\nWe will be following the Galactic Conquest Event rules\, which can be found at the following link Galactic Conquest Event PDF \nRounds – 4\nRound time – 150 minutes\nFormat – Swiss\nDoors – 8:30 am\nRound 1 – 9:30 am\nEntry – $20\nDate – Saturday\, October 14th\, 2023\nCapacity – 32 players \nTicket: https://afk-games.square.site/product/star-wars-legion-store-championship/12047 \nWe will be utilizing gameuplink.com to input lists and run the event during rounds. If you don’t have an account please register an account\, and sign up for the event. \nIf you already have an account you can register for the event at the [Tournament Link]. \nArmy Selection\n\n800-point list\nPrinted lists are not required\, but they are useful for some opponents.\nWe will use the most up-to-date FAQs and point costs as of 8/19/2023\n\nDeadlines\nPlayer’s lists are due before 10:00 am on the day of the event. You can either bring in a paper copy or you may submit your list at the gameuplink.com event. \nPainting and Basing\n\nAll models must be based on their current base size.\nPainting is not required.\n\nPlayer Responsibilities\n\nCards to represent all units in your list\nAll materials needed to play a game/report the results – including:\n\nDice\nMeasuring devices\nRange sticks\nCommand Deck\nOrder tokens\nTokens\n\n\n\nPlayers are also responsible for conducting themselves in an appropriate\, sportsmanlike manner.  \nPrizes\nEach player will receive 3 custom acrylic tokens. Pre-registering for the event will score you 2 extra tokens for a total of 5.  \nPrizes will be store credit to the top players (based on attendance).\nAlong with the following contents from the Store Championship 2023 kit by AMG \nTop 32 \n\nKey Positions setup card\n\nTop 16  \n\nLimited Visibility card\n\nTop 8 \n\nDarth Vader Unit card\nChewbacca Unit card \nYoda Unit card\nGeneral Grievous Unit card\nGar Saxon Unit card\n\nTop 4 \n\n2x Pyke Syndicate Foot Soldiers cards\n\nTop 2 \n\nSet of D8 Red Dice\n\nTop Player \n\nBoba Fett foil card \nWorld Championship invite\n\n 
URL:https://afk.games/event/4432/
LOCATION:AFK Games\, 2495 Cedar Street STE 14-B\, Holt\, MI\, 48842\, United States
CATEGORIES:Atomic Mass Games,Events,Star Wars: Legion
ORGANIZER;CN="AFK Games":MAILTO:support@afk-games.com
END:VEVENT
BEGIN:VEVENT
DTSTART;TZID=America/Detroit:20231018T180000
DTEND;TZID=America/Detroit:20231018T210000
DTSTAMP:20260421T042439
CREATED:20220728T224915Z
LAST-MODIFIED:20221119T010743Z
UID:10000727-1697652000-1697662800@afk.games
SUMMARY:Star Wars: X-Wing open play
DESCRIPTION:Join us every Wednesday starting at 6:00 pm for open Star Wars: X-Wing gaming!\nEntry is free\, so come on in and play some X-Wing!
URL:https://afk.games/event/star-wars-x-wing-open-play-10/2023-10-18/
LOCATION:AFK Games\, 2495 Cedar Street STE 14-B\, Holt\, MI\, 48842\, United States
CATEGORIES:Atomic Mass Games,Events,Star Wars: X-Wing
ORGANIZER;CN="AFK Games":MAILTO:support@afk-games.com
END:VEVENT
BEGIN:VEVENT
DTSTART;TZID=America/Detroit:20231020T170000
DTEND;TZID=America/Detroit:20231020T220000
DTSTAMP:20260421T042439
CREATED:20230804T184048Z
LAST-MODIFIED:20230804T184113Z
UID:10001551-1697821200-1697839200@afk.games
SUMMARY:Open Wargaming
DESCRIPTION:Open Wargaming is happening every Friday evening starting at 5:00 pm. They’ve got a great lineup of games to choose from\, including Age of Sigmar\, Para Bellum Conquest\, Warhammer 40K\, Marvel: Crisis Protocol\, Star Wars: Shatterpoint\, Star Wars: Legion and many more. If you’re a fan of strategy and action-packed games\, you won’t want to miss out on this one! See you there!
URL:https://afk.games/event/open-wargaming/2023-10-20/
LOCATION:AFK Games\, 2495 Cedar Street STE 14-B\, Holt\, MI\, 48842\, United States
CATEGORIES:Age of Sigmar,Atomic Mass Games,Games Workshop,Marvel: Crisis Protocol,Star Wars: Legion,Star Wars: Shatterpoint,Warhammer 40K
ORGANIZER;CN="AFK Games":MAILTO:support@afk-games.com
END:VEVENT
BEGIN:VEVENT
DTSTART;TZID=America/Detroit:20231021T123000
DTEND;TZID=America/Detroit:20231021T190000
DTSTAMP:20260421T042439
CREATED:20230918T195126Z
LAST-MODIFIED:20230918T195126Z
UID:10001926-1697891400-1697914800@afk.games
SUMMARY:October Shatterpoint Tournament
DESCRIPTION:Tournament Format\n\nRounds – 3\nRound time – 120 minutes \nFormat – Showdown\nSoftware – Longshanks\nDoors – 12:00 pm\nStart – 12:30 pm\nEntry – $10\n\nStandard events will use a 120-minute round timer with Mission Critical starting at the 90-minute mark. To create a variable game length\, we will roll 5 Attack Dice\, and add one minute to the event round for each critical(B) and strike(A) result. \nIf a game has not concluded when the time for an event round runs out\, the players finish the current Turn and calculate their scores.  \nTicket: https://afk-games.square.site/product/october-shatterpoint-tournament/12368 \nLongshanks: https://shatterpoint.longshanks.org/event/10934/ \nStrike Team Selection\n\nEach player will bring their Strike Team that is in line with the current rules\, errata\, and FAQ\n\nhttps://www.atomicmassgames.com/shatterpoint \n  \nPainting and Basing\n\nAll models must be based on their current base size. Official Base Size pdf\nPainting is not required.\n\n\nTiebreakers\nIf two or more players have the same number of event points\, tiebreakers are used to determine each player’s standing within that group. Tiebreakers are used in the following order until all players within that group have been given a standing.\n\nStruggle Cards Claimed: The player with the higher number of cumulative Struggle Cards Claimed is ranked above all other players with the same number of event points. The player with the second-highest cumulative Struggle Cards claimed is ranked second among those players\, and so on.\nStrength of Schedule: A player’s Strength of Schedule is calculated by dividing each opponent’s total event points by the number of rounds that opponent has played\, adding the results of each opponent played\, and then dividing that total by the number of opponents the player has played. The player with the highest Strength of Schedule score is ranked above all other players in the group not yet ranked. The player with the second-highest Strength of Schedule is ranked second among all players in the group not yet ranked\, and so on.\nWounds Inflicted: The player with the higher number of Wounds Inflicted on enemy Units is ranked above all other players with the same number of event points.\nRandom: If any players are still tied after all other tiebreakers have been applied\, then those players are ranked in a random order below any players already ranked in the group.\n\nPlayer Responsibilities\nWe will follow the player responsibilities listed in the Star Wars: Shatterpoint Showdown rules pdf (Showdown Rules) including the following: \n\nMiniatures \nCards\nDice\nMeasuring Tools\nTokens\nStrike Team\nSportsmanship\n\n  \nPlayers are also responsible for conducting themselves in an appropriate\, sportsmanlike manner at all times. \nPrizes\nParticipation:  \n3x Acrylic tokens – 2 extra tokens if you preregister for the event \nStore Credit to top players
URL:https://afk.games/event/october-shatterpoint-tournament/
LOCATION:AFK Games\, 2495 Cedar Street STE 14-B\, Holt\, MI\, 48842\, United States
CATEGORIES:Atomic Mass Games,Events,Star Wars: Shatterpoint
ORGANIZER;CN="AFK Games":MAILTO:support@afk-games.com
END:VEVENT
BEGIN:VEVENT
DTSTART;TZID=America/Detroit:20231025T180000
DTEND;TZID=America/Detroit:20231025T210000
DTSTAMP:20260421T042439
CREATED:20220728T224915Z
LAST-MODIFIED:20221119T010743Z
UID:10000728-1698256800-1698267600@afk.games
SUMMARY:Star Wars: X-Wing open play
DESCRIPTION:Join us every Wednesday starting at 6:00 pm for open Star Wars: X-Wing gaming!\nEntry is free\, so come on in and play some X-Wing!
URL:https://afk.games/event/star-wars-x-wing-open-play-10/2023-10-25/
LOCATION:AFK Games\, 2495 Cedar Street STE 14-B\, Holt\, MI\, 48842\, United States
CATEGORIES:Atomic Mass Games,Events,Star Wars: X-Wing
ORGANIZER;CN="AFK Games":MAILTO:support@afk-games.com
END:VEVENT
BEGIN:VEVENT
DTSTART;TZID=America/Detroit:20231027T170000
DTEND;TZID=America/Detroit:20231027T220000
DTSTAMP:20260421T042439
CREATED:20230804T184048Z
LAST-MODIFIED:20230804T184113Z
UID:10001552-1698426000-1698444000@afk.games
SUMMARY:Open Wargaming
DESCRIPTION:Open Wargaming is happening every Friday evening starting at 5:00 pm. They’ve got a great lineup of games to choose from\, including Age of Sigmar\, Para Bellum Conquest\, Warhammer 40K\, Marvel: Crisis Protocol\, Star Wars: Shatterpoint\, Star Wars: Legion and many more. If you’re a fan of strategy and action-packed games\, you won’t want to miss out on this one! See you there!
URL:https://afk.games/event/open-wargaming/2023-10-27/
LOCATION:AFK Games\, 2495 Cedar Street STE 14-B\, Holt\, MI\, 48842\, United States
CATEGORIES:Age of Sigmar,Atomic Mass Games,Games Workshop,Marvel: Crisis Protocol,Star Wars: Legion,Star Wars: Shatterpoint,Warhammer 40K
ORGANIZER;CN="AFK Games":MAILTO:support@afk-games.com
END:VEVENT
BEGIN:VEVENT
DTSTART;TZID=America/Detroit:20231028T123000
DTEND;TZID=America/Detroit:20231028T193000
DTSTAMP:20260421T042439
CREATED:20231012T190151Z
LAST-MODIFIED:20231012T190151Z
UID:10001956-1698496200-1698521400@afk.games
SUMMARY:Marvel: Crisis Protocol - Earth's Mightiest tournament
DESCRIPTION:To end off our league for the new Marvel: Crisis Protocol core set\, we will be hosting a tournament! \nPrizes:\nRaffle prizes\nCustom Acrylic Game aid \nHow to get tickets:\nPlay a game – 1 ticket\nWin a game – 1 ticket\nFully painted roster – 1 ticket\nBring a table of terrain – 1 ticket\nParticipate in the league week 1 – 1 ticket\nParticipate in the league week 2 – 1 ticket \n  \n 
URL:https://afk.games/event/marvel-crisis-protocol-earths-mightiest-tournament/
LOCATION:AFK Games\, 2495 Cedar Street STE 14-B\, Holt\, MI\, 48842\, United States
CATEGORIES:Atomic Mass Games,Events,Marvel: Crisis Protocol
ORGANIZER;CN="AFK Games":MAILTO:support@afk-games.com
END:VEVENT
END:VCALENDAR