BEGIN:VCALENDAR
VERSION:2.0
PRODID:-//AFK Games - ECPv6.15.20//NONSGML v1.0//EN
CALSCALE:GREGORIAN
METHOD:PUBLISH
X-ORIGINAL-URL:https://afk.games
X-WR-CALDESC:Events for AFK Games
REFRESH-INTERVAL;VALUE=DURATION:PT1H
X-Robots-Tag:noindex
X-PUBLISHED-TTL:PT1H
BEGIN:VTIMEZONE
TZID:America/Detroit
BEGIN:DAYLIGHT
TZOFFSETFROM:-0500
TZOFFSETTO:-0400
TZNAME:EDT
DTSTART:20230312T070000
END:DAYLIGHT
BEGIN:STANDARD
TZOFFSETFROM:-0400
TZOFFSETTO:-0500
TZNAME:EST
DTSTART:20231105T060000
END:STANDARD
BEGIN:DAYLIGHT
TZOFFSETFROM:-0500
TZOFFSETTO:-0400
TZNAME:EDT
DTSTART:20240310T070000
END:DAYLIGHT
BEGIN:STANDARD
TZOFFSETFROM:-0400
TZOFFSETTO:-0500
TZNAME:EST
DTSTART:20241103T060000
END:STANDARD
BEGIN:DAYLIGHT
TZOFFSETFROM:-0500
TZOFFSETTO:-0400
TZNAME:EDT
DTSTART:20250309T070000
END:DAYLIGHT
BEGIN:STANDARD
TZOFFSETFROM:-0400
TZOFFSETTO:-0500
TZNAME:EST
DTSTART:20251102T060000
END:STANDARD
END:VTIMEZONE
BEGIN:VEVENT
DTSTART;TZID=America/Detroit:20240316T110000
DTEND;TZID=America/Detroit:20240316T190000
DTSTAMP:20260422T131831
CREATED:20240225T014642Z
LAST-MODIFIED:20240225T014642Z
UID:10002390-1710586800-1710615600@afk.games
SUMMARY:Star Wars: Legion Tournament
DESCRIPTION:AFK Games is hosting an 800-point Star Wars: Legion tournament. Whether you’re practicing for the Worlds or just looking for some fun games\, this event is for you! Make sure to pre-register to receive an additional custom token and to help us prepare enough tables for everyone.  \nTournament Format\n\nRounds – 3\nRound time – 150 minutes\nFormat – Swiss\nDoors: 10:30 am\nStart: 11:00 am\n\nTicket: Purchased in-store or on our website at https://shop.afk.games/products/march-16th-star-wars-legion-tournament \nLongshanks: https://www.longshanks.org/event/13967/ \nArmy Selection\n\n800-point list\nPrinted lists are not required\, but they are useful for some opponents.\nWe will use the most up-to-date FAQs and point costs as of 3/9/2024\, these can be found at https://www.atomicmassgames.com/swlegiondocs/\n\nPainting and Basing\n\nAll models must be based on their current base size.\nPainting is not required.\n\nPlayer Responsibilities\n\nCards to represent all units in your list\nAll materials needed to play a game/report the results – including:\n\nDice\nMeasuring devices\nRange sticks\nCommand Deck\nOrder tokens\nTokens\n\n\n\nPlayers are also responsible for conducting themselves in an appropriate\, sportsmanlike manner. \nPrizes\nEach player will receive 3 custom acrylic tokens. Pre-registering for the event will score you 1 extra aim token for 4 total.  \nStore Credit to the top players.
URL:https://afk.games/event/star-wars-legion-tournament-2/
LOCATION:AFK Games\, 2495 Cedar Street STE 14-B\, Holt\, MI\, 48842\, United States
CATEGORIES:Atomic Mass Games,Events,Star Wars: Legion
ORGANIZER;CN="AFK Games":MAILTO:support@afk-games.com
END:VEVENT
BEGIN:VEVENT
DTSTART;TZID=America/Detroit:20240316T123000
DTEND;TZID=America/Detroit:20240316T150000
DTSTAMP:20260422T131831
CREATED:20240315T211606Z
LAST-MODIFIED:20240315T211607Z
UID:10002017-1710592200-1710601200@afk.games
SUMMARY:One Piece TCG - Store Tournament vol.6
DESCRIPTION:Tuesdays @ 6:30 pm\nSaturdays @ 12:30 pm \nOne Piece League Tournament – The league lasts until the release of set 7 (June 2024) \nBo1 Swiss 35 min rounds + 5 minutes of extra time \n-$10 Entry Fee- \n\nIf we are out of OP06\, entry will be $5\n\n\nEntry:\n1x OP06 Pack (while supplies last) \nPrizing:\n1st – Winner pack\nTop 8 – one tournament pack \n$6 Per head will be used to build the league pot – This pot will be distributed to the top 25% per ranking  \nleaderboard at the end of the league season (OP07 + Other goodies in prize pool) *Prizing subject to change) \nFor current leaderboard status please check our Challonge leaderboard/discord:  \nHow to earn league points for league ranking: \n\nWin a match – 3 Points\nUndefeated – 2 Points\n\nBeat a player who has been undefeated for 2+ events – 1 Point per event\n\n2 events = 2 Points \n3 events = 3 Points \nAnd so on\n\n\n\n\nLose a match – 1 Point\nDraw – 1 Point\nParticipate in the weekly event – 3 Point\nBring someone new to the league – 3 Points \n\nOnce per new player to the league
URL:https://afk.games/event/one-piece-tcg-store-tournament-vol-5-3/2024-03-16/
LOCATION:AFK Games\, 2495 Cedar Street STE 14-B\, Holt\, MI\, 48842\, United States
CATEGORIES:Bandai,Events,One Piece TCG
ORGANIZER;CN="AFK Games":MAILTO:support@afk-games.com
END:VEVENT
BEGIN:VEVENT
DTSTART;TZID=America/Detroit:20240316T183000
DTEND;TZID=America/Detroit:20240316T213000
DTSTAMP:20260422T131831
CREATED:20240223T003650Z
LAST-MODIFIED:20240226T213444Z
UID:10002389-1710613800-1710624600@afk.games
SUMMARY:Lorcana Into the Inklands Tournament
DESCRIPTION:Join us for our first Lorcana tournament for Into the Inklands on March 16th\, we will be running it closer to how we run our Magic Friday Night Magic events.\n\nEntry is $10 and the prize out will be based on your record!\nRounds based on attendance.\n\nRaffle prizes as well!
URL:https://afk.games/event/lorcana-into-the-inklands-tournament/
LOCATION:AFK Games\, 2495 Cedar Street STE 14-B\, Holt\, MI\, 48842\, United States
CATEGORIES:Events,Lorcana,Ravensburger
ORGANIZER;CN="AFK Games":MAILTO:support@afk-games.com
END:VEVENT
END:VCALENDAR